BEGIN:VCALENDAR
VERSION:2.0
PRODID:-//The collective fitness - ECPv6.15.16//NONSGML v1.0//EN
CALSCALE:GREGORIAN
METHOD:PUBLISH
X-WR-CALNAME:The collective fitness
X-ORIGINAL-URL:https://www.collectivefitness.pt
X-WR-CALDESC:Events for The collective fitness
REFRESH-INTERVAL;VALUE=DURATION:PT1H
X-Robots-Tag:noindex
X-PUBLISHED-TTL:PT1H
BEGIN:VTIMEZONE
TZID:Europe/Lisbon
BEGIN:DAYLIGHT
TZOFFSETFROM:+0000
TZOFFSETTO:+0100
TZNAME:WEST
DTSTART:20260329T010000
END:DAYLIGHT
BEGIN:STANDARD
TZOFFSETFROM:+0100
TZOFFSETTO:+0000
TZNAME:WET
DTSTART:20261025T010000
END:STANDARD
BEGIN:DAYLIGHT
TZOFFSETFROM:+0000
TZOFFSETTO:+0100
TZNAME:WEST
DTSTART:20270328T010000
END:DAYLIGHT
BEGIN:STANDARD
TZOFFSETFROM:+0100
TZOFFSETTO:+0000
TZNAME:WET
DTSTART:20271031T010000
END:STANDARD
BEGIN:DAYLIGHT
TZOFFSETFROM:+0000
TZOFFSETTO:+0100
TZNAME:WEST
DTSTART:20280326T010000
END:DAYLIGHT
BEGIN:STANDARD
TZOFFSETFROM:+0100
TZOFFSETTO:+0000
TZNAME:WET
DTSTART:20281029T010000
END:STANDARD
BEGIN:DAYLIGHT
TZOFFSETFROM:+0000
TZOFFSETTO:+0100
TZNAME:WEST
DTSTART:20290325T010000
END:DAYLIGHT
BEGIN:STANDARD
TZOFFSETFROM:+0100
TZOFFSETTO:+0000
TZNAME:WET
DTSTART:20291028T010000
END:STANDARD
END:VTIMEZONE
BEGIN:VEVENT
DTSTART;TZID=Europe/Lisbon:20271223T093000
DTEND;TZID=Europe/Lisbon:20271223T123000
DTSTAMP:20260423T055918
CREATED:20250708T135609Z
LAST-MODIFIED:20260306T201047Z
UID:10030504-1829554200-1829565000@www.collectivefitness.pt
SUMMARY:Open Gym
DESCRIPTION:TRY IT NOW
URL:https://www.collectivefitness.pt/event/open-gym-7/2027-12-23/
LOCATION:The Collective Fitness\, R. Prof. Sousa da Câmara 128 Loja C\, Lisboa\, Lisboa\, 1070-217\, Portugal
CATEGORIES:Open Gym
END:VEVENT
BEGIN:VEVENT
DTSTART;TZID=Europe/Lisbon:20271223T143000
DTEND;TZID=Europe/Lisbon:20271223T173000
DTSTAMP:20260423T055918
CREATED:20250708T135857Z
LAST-MODIFIED:20250708T211359Z
UID:10017968-1829572200-1829583000@www.collectivefitness.pt
SUMMARY:Open Gym
DESCRIPTION:TRY IT NOW
URL:https://www.collectivefitness.pt/event/open-gym-8/2027-12-23/
LOCATION:The Collective Fitness\, R. Prof. Sousa da Câmara 128 Loja C\, Lisboa\, Lisboa\, 1070-217\, Portugal
CATEGORIES:Open Gym
END:VEVENT
BEGIN:VEVENT
DTSTART;TZID=Europe/Lisbon:20271224T104500
DTEND;TZID=Europe/Lisbon:20271224T123000
DTSTAMP:20260423T055918
CREATED:20250708T173449Z
LAST-MODIFIED:20260306T200930Z
UID:10031096-1829645100-1829651400@www.collectivefitness.pt
SUMMARY:Open Gym
DESCRIPTION:TRY IT NOW
URL:https://www.collectivefitness.pt/event/open-gym-9/2027-12-24/
LOCATION:The Collective Fitness\, R. Prof. Sousa da Câmara 128 Loja C\, Lisboa\, Lisboa\, 1070-217\, Portugal
CATEGORIES:Open Gym
END:VEVENT
BEGIN:VEVENT
DTSTART;TZID=Europe/Lisbon:20271224T143000
DTEND;TZID=Europe/Lisbon:20271224T173000
DTSTAMP:20260423T055918
CREATED:20250708T173610Z
LAST-MODIFIED:20250708T210749Z
UID:10023731-1829658600-1829669400@www.collectivefitness.pt
SUMMARY:Open Gym
DESCRIPTION:TRY IT NOW
URL:https://www.collectivefitness.pt/event/open-gym-10/2027-12-24/
LOCATION:The Collective Fitness\, R. Prof. Sousa da Câmara 128 Loja C\, Lisboa\, Lisboa\, 1070-217\, Portugal
CATEGORIES:Open Gym
END:VEVENT
BEGIN:VEVENT
DTSTART;TZID=Europe/Lisbon:20271225T123000
DTEND;TZID=Europe/Lisbon:20271225T143000
DTSTAMP:20260423T055918
CREATED:20250708T181609Z
LAST-MODIFIED:20250708T210709Z
UID:10027665-1829737800-1829745000@www.collectivefitness.pt
SUMMARY:Open Gym
DESCRIPTION:TRY IT NOW
URL:https://www.collectivefitness.pt/event/open-gym-11/2027-12-25/
LOCATION:The Collective Fitness\, R. Prof. Sousa da Câmara 128 Loja C\, Lisboa\, Lisboa\, 1070-217\, Portugal
CATEGORIES:Open Gym
END:VEVENT
BEGIN:VEVENT
DTSTART;TZID=Europe/Lisbon:20271226T090000
DTEND;TZID=Europe/Lisbon:20271226T143000
DTSTAMP:20260423T055918
CREATED:20250708T181713Z
LAST-MODIFIED:20250708T210549Z
UID:10028189-1829811600-1829831400@www.collectivefitness.pt
SUMMARY:Open Gym
DESCRIPTION:TRY IT NOW
URL:https://www.collectivefitness.pt/event/open-gym-12/2027-12-26/
LOCATION:The Collective Fitness\, R. Prof. Sousa da Câmara 128 Loja C\, Lisboa\, Lisboa\, 1070-217\, Portugal
CATEGORIES:Open Gym
END:VEVENT
BEGIN:VEVENT
DTSTART;TZID=Europe/Lisbon:20271227T104500
DTEND;TZID=Europe/Lisbon:20271227T123000
DTSTAMP:20260423T055918
CREATED:20250708T094513Z
LAST-MODIFIED:20260306T200400Z
UID:10030208-1829904300-1829910600@www.collectivefitness.pt
SUMMARY:Open Gym
DESCRIPTION:TRY IT NOW
URL:https://www.collectivefitness.pt/event/open-gym-3/2027-12-27/
LOCATION:The Collective Fitness\, R. Prof. Sousa da Câmara 128 Loja C\, Lisboa\, Lisboa\, 1070-217\, Portugal
CATEGORIES:Open Gym
END:VEVENT
BEGIN:VEVENT
DTSTART;TZID=Europe/Lisbon:20271227T143000
DTEND;TZID=Europe/Lisbon:20271227T173000
DTSTAMP:20260423T055918
CREATED:20250708T093507Z
LAST-MODIFIED:20250708T211954Z
UID:10004596-1829917800-1829928600@www.collectivefitness.pt
SUMMARY:Open Gym
DESCRIPTION:TRY IT NOW
URL:https://www.collectivefitness.pt/event/open-gym-2/2027-12-27/
LOCATION:The Collective Fitness\, R. Prof. Sousa da Câmara 128 Loja C\, Lisboa\, Lisboa\, 1070-217\, Portugal
CATEGORIES:Open Gym
END:VEVENT
BEGIN:VEVENT
DTSTART;TZID=Europe/Lisbon:20271228T084500
DTEND;TZID=Europe/Lisbon:20271228T123000
DTSTAMP:20260423T055918
CREATED:20250708T132212Z
LAST-MODIFIED:20250708T211822Z
UID:10006434-1829983500-1829997000@www.collectivefitness.pt
SUMMARY:Open Gym
DESCRIPTION:TRY IT NOW
URL:https://www.collectivefitness.pt/event/open-gym/2027-12-28/
LOCATION:The Collective Fitness\, R. Prof. Sousa da Câmara 128 Loja C\, Lisboa\, Lisboa\, 1070-217\, Portugal
CATEGORIES:Open Gym
END:VEVENT
BEGIN:VEVENT
DTSTART;TZID=Europe/Lisbon:20271228T143000
DTEND;TZID=Europe/Lisbon:20271228T173000
DTSTAMP:20260423T055918
CREATED:20250708T133029Z
LAST-MODIFIED:20250708T211747Z
UID:10008008-1830004200-1830015000@www.collectivefitness.pt
SUMMARY:Open Gym
DESCRIPTION:TRY IT NOW
URL:https://www.collectivefitness.pt/event/open-gym-4/2027-12-28/
LOCATION:The Collective Fitness\, R. Prof. Sousa da Câmara 128 Loja C\, Lisboa\, Lisboa\, 1070-217\, Portugal
CATEGORIES:Open Gym
END:VEVENT
BEGIN:VEVENT
DTSTART;TZID=Europe/Lisbon:20271229T100000
DTEND;TZID=Europe/Lisbon:20271229T123000
DTSTAMP:20260423T055918
CREATED:20250708T134807Z
LAST-MODIFIED:20250708T211701Z
UID:10011681-1830074400-1830083400@www.collectivefitness.pt
SUMMARY:Open Gym
DESCRIPTION:TRY IT NOW
URL:https://www.collectivefitness.pt/event/open-gym-5/2027-12-29/
LOCATION:The Collective Fitness\, R. Prof. Sousa da Câmara 128 Loja C\, Lisboa\, Lisboa\, 1070-217\, Portugal
CATEGORIES:Open Gym
END:VEVENT
BEGIN:VEVENT
DTSTART;TZID=Europe/Lisbon:20271229T143000
DTEND;TZID=Europe/Lisbon:20271229T173000
DTSTAMP:20260423T055918
CREATED:20250708T135057Z
LAST-MODIFIED:20250708T211612Z
UID:10013253-1830090600-1830101400@www.collectivefitness.pt
SUMMARY:Open Gym
DESCRIPTION:TRY IT NOW
URL:https://www.collectivefitness.pt/event/open-gym-6/2027-12-29/
LOCATION:The Collective Fitness\, R. Prof. Sousa da Câmara 128 Loja C\, Lisboa\, Lisboa\, 1070-217\, Portugal
CATEGORIES:Open Gym
END:VEVENT
BEGIN:VEVENT
DTSTART;TZID=Europe/Lisbon:20271230T093000
DTEND;TZID=Europe/Lisbon:20271230T123000
DTSTAMP:20260423T055918
CREATED:20250708T135609Z
LAST-MODIFIED:20260306T201047Z
UID:10030505-1830159000-1830169800@www.collectivefitness.pt
SUMMARY:Open Gym
DESCRIPTION:TRY IT NOW
URL:https://www.collectivefitness.pt/event/open-gym-7/2027-12-30/
LOCATION:The Collective Fitness\, R. Prof. Sousa da Câmara 128 Loja C\, Lisboa\, Lisboa\, 1070-217\, Portugal
CATEGORIES:Open Gym
END:VEVENT
BEGIN:VEVENT
DTSTART;TZID=Europe/Lisbon:20271230T143000
DTEND;TZID=Europe/Lisbon:20271230T173000
DTSTAMP:20260423T055918
CREATED:20250708T135857Z
LAST-MODIFIED:20250708T211359Z
UID:10017969-1830177000-1830187800@www.collectivefitness.pt
SUMMARY:Open Gym
DESCRIPTION:TRY IT NOW
URL:https://www.collectivefitness.pt/event/open-gym-8/2027-12-30/
LOCATION:The Collective Fitness\, R. Prof. Sousa da Câmara 128 Loja C\, Lisboa\, Lisboa\, 1070-217\, Portugal
CATEGORIES:Open Gym
END:VEVENT
BEGIN:VEVENT
DTSTART;TZID=Europe/Lisbon:20271231T104500
DTEND;TZID=Europe/Lisbon:20271231T123000
DTSTAMP:20260423T055918
CREATED:20250708T173449Z
LAST-MODIFIED:20260306T200930Z
UID:10031097-1830249900-1830256200@www.collectivefitness.pt
SUMMARY:Open Gym
DESCRIPTION:TRY IT NOW
URL:https://www.collectivefitness.pt/event/open-gym-9/2027-12-31/
LOCATION:The Collective Fitness\, R. Prof. Sousa da Câmara 128 Loja C\, Lisboa\, Lisboa\, 1070-217\, Portugal
CATEGORIES:Open Gym
END:VEVENT
BEGIN:VEVENT
DTSTART;TZID=Europe/Lisbon:20271231T143000
DTEND;TZID=Europe/Lisbon:20271231T173000
DTSTAMP:20260423T055918
CREATED:20250708T173610Z
LAST-MODIFIED:20250708T210749Z
UID:10023732-1830263400-1830274200@www.collectivefitness.pt
SUMMARY:Open Gym
DESCRIPTION:TRY IT NOW
URL:https://www.collectivefitness.pt/event/open-gym-10/2027-12-31/
LOCATION:The Collective Fitness\, R. Prof. Sousa da Câmara 128 Loja C\, Lisboa\, Lisboa\, 1070-217\, Portugal
CATEGORIES:Open Gym
END:VEVENT
BEGIN:VEVENT
DTSTART;TZID=Europe/Lisbon:20280101T123000
DTEND;TZID=Europe/Lisbon:20280101T143000
DTSTAMP:20260423T055918
CREATED:20250708T181609Z
LAST-MODIFIED:20250708T210709Z
UID:10027666-1830342600-1830349800@www.collectivefitness.pt
SUMMARY:Open Gym
DESCRIPTION:TRY IT NOW
URL:https://www.collectivefitness.pt/event/open-gym-11/2028-01-01/
LOCATION:The Collective Fitness\, R. Prof. Sousa da Câmara 128 Loja C\, Lisboa\, Lisboa\, 1070-217\, Portugal
CATEGORIES:Open Gym
END:VEVENT
BEGIN:VEVENT
DTSTART;TZID=Europe/Lisbon:20280102T090000
DTEND;TZID=Europe/Lisbon:20280102T143000
DTSTAMP:20260423T055918
CREATED:20250708T181713Z
LAST-MODIFIED:20250708T210549Z
UID:10028190-1830416400-1830436200@www.collectivefitness.pt
SUMMARY:Open Gym
DESCRIPTION:TRY IT NOW
URL:https://www.collectivefitness.pt/event/open-gym-12/2028-01-02/
LOCATION:The Collective Fitness\, R. Prof. Sousa da Câmara 128 Loja C\, Lisboa\, Lisboa\, 1070-217\, Portugal
CATEGORIES:Open Gym
END:VEVENT
BEGIN:VEVENT
DTSTART;TZID=Europe/Lisbon:20280103T104500
DTEND;TZID=Europe/Lisbon:20280103T123000
DTSTAMP:20260423T055918
CREATED:20250708T094513Z
LAST-MODIFIED:20260306T200400Z
UID:10030209-1830509100-1830515400@www.collectivefitness.pt
SUMMARY:Open Gym
DESCRIPTION:TRY IT NOW
URL:https://www.collectivefitness.pt/event/open-gym-3/2028-01-03/
LOCATION:The Collective Fitness\, R. Prof. Sousa da Câmara 128 Loja C\, Lisboa\, Lisboa\, 1070-217\, Portugal
CATEGORIES:Open Gym
END:VEVENT
BEGIN:VEVENT
DTSTART;TZID=Europe/Lisbon:20280103T143000
DTEND;TZID=Europe/Lisbon:20280103T173000
DTSTAMP:20260423T055918
CREATED:20250708T093507Z
LAST-MODIFIED:20250708T211954Z
UID:10004597-1830522600-1830533400@www.collectivefitness.pt
SUMMARY:Open Gym
DESCRIPTION:TRY IT NOW
URL:https://www.collectivefitness.pt/event/open-gym-2/2028-01-03/
LOCATION:The Collective Fitness\, R. Prof. Sousa da Câmara 128 Loja C\, Lisboa\, Lisboa\, 1070-217\, Portugal
CATEGORIES:Open Gym
END:VEVENT
BEGIN:VEVENT
DTSTART;TZID=Europe/Lisbon:20280104T084500
DTEND;TZID=Europe/Lisbon:20280104T123000
DTSTAMP:20260423T055918
CREATED:20250708T132212Z
LAST-MODIFIED:20250708T211822Z
UID:10006435-1830588300-1830601800@www.collectivefitness.pt
SUMMARY:Open Gym
DESCRIPTION:TRY IT NOW
URL:https://www.collectivefitness.pt/event/open-gym/2028-01-04/
LOCATION:The Collective Fitness\, R. Prof. Sousa da Câmara 128 Loja C\, Lisboa\, Lisboa\, 1070-217\, Portugal
CATEGORIES:Open Gym
END:VEVENT
BEGIN:VEVENT
DTSTART;TZID=Europe/Lisbon:20280104T143000
DTEND;TZID=Europe/Lisbon:20280104T173000
DTSTAMP:20260423T055918
CREATED:20250708T133029Z
LAST-MODIFIED:20250708T211747Z
UID:10008009-1830609000-1830619800@www.collectivefitness.pt
SUMMARY:Open Gym
DESCRIPTION:TRY IT NOW
URL:https://www.collectivefitness.pt/event/open-gym-4/2028-01-04/
LOCATION:The Collective Fitness\, R. Prof. Sousa da Câmara 128 Loja C\, Lisboa\, Lisboa\, 1070-217\, Portugal
CATEGORIES:Open Gym
END:VEVENT
BEGIN:VEVENT
DTSTART;TZID=Europe/Lisbon:20280105T100000
DTEND;TZID=Europe/Lisbon:20280105T123000
DTSTAMP:20260423T055918
CREATED:20250708T134807Z
LAST-MODIFIED:20250708T211701Z
UID:10011682-1830679200-1830688200@www.collectivefitness.pt
SUMMARY:Open Gym
DESCRIPTION:TRY IT NOW
URL:https://www.collectivefitness.pt/event/open-gym-5/2028-01-05/
LOCATION:The Collective Fitness\, R. Prof. Sousa da Câmara 128 Loja C\, Lisboa\, Lisboa\, 1070-217\, Portugal
CATEGORIES:Open Gym
END:VEVENT
BEGIN:VEVENT
DTSTART;TZID=Europe/Lisbon:20280105T143000
DTEND;TZID=Europe/Lisbon:20280105T173000
DTSTAMP:20260423T055918
CREATED:20250708T135057Z
LAST-MODIFIED:20250708T211612Z
UID:10013254-1830695400-1830706200@www.collectivefitness.pt
SUMMARY:Open Gym
DESCRIPTION:TRY IT NOW
URL:https://www.collectivefitness.pt/event/open-gym-6/2028-01-05/
LOCATION:The Collective Fitness\, R. Prof. Sousa da Câmara 128 Loja C\, Lisboa\, Lisboa\, 1070-217\, Portugal
CATEGORIES:Open Gym
END:VEVENT
BEGIN:VEVENT
DTSTART;TZID=Europe/Lisbon:20280106T093000
DTEND;TZID=Europe/Lisbon:20280106T123000
DTSTAMP:20260423T055918
CREATED:20250708T135609Z
LAST-MODIFIED:20260306T201047Z
UID:10030506-1830763800-1830774600@www.collectivefitness.pt
SUMMARY:Open Gym
DESCRIPTION:TRY IT NOW
URL:https://www.collectivefitness.pt/event/open-gym-7/2028-01-06/
LOCATION:The Collective Fitness\, R. Prof. Sousa da Câmara 128 Loja C\, Lisboa\, Lisboa\, 1070-217\, Portugal
CATEGORIES:Open Gym
END:VEVENT
BEGIN:VEVENT
DTSTART;TZID=Europe/Lisbon:20280106T143000
DTEND;TZID=Europe/Lisbon:20280106T173000
DTSTAMP:20260423T055918
CREATED:20250708T135857Z
LAST-MODIFIED:20250708T211359Z
UID:10017970-1830781800-1830792600@www.collectivefitness.pt
SUMMARY:Open Gym
DESCRIPTION:TRY IT NOW
URL:https://www.collectivefitness.pt/event/open-gym-8/2028-01-06/
LOCATION:The Collective Fitness\, R. Prof. Sousa da Câmara 128 Loja C\, Lisboa\, Lisboa\, 1070-217\, Portugal
CATEGORIES:Open Gym
END:VEVENT
BEGIN:VEVENT
DTSTART;TZID=Europe/Lisbon:20280107T104500
DTEND;TZID=Europe/Lisbon:20280107T123000
DTSTAMP:20260423T055918
CREATED:20250708T173449Z
LAST-MODIFIED:20260306T200930Z
UID:10031098-1830854700-1830861000@www.collectivefitness.pt
SUMMARY:Open Gym
DESCRIPTION:TRY IT NOW
URL:https://www.collectivefitness.pt/event/open-gym-9/2028-01-07/
LOCATION:The Collective Fitness\, R. Prof. Sousa da Câmara 128 Loja C\, Lisboa\, Lisboa\, 1070-217\, Portugal
CATEGORIES:Open Gym
END:VEVENT
BEGIN:VEVENT
DTSTART;TZID=Europe/Lisbon:20280107T143000
DTEND;TZID=Europe/Lisbon:20280107T173000
DTSTAMP:20260423T055918
CREATED:20250708T173610Z
LAST-MODIFIED:20250708T210749Z
UID:10023733-1830868200-1830879000@www.collectivefitness.pt
SUMMARY:Open Gym
DESCRIPTION:TRY IT NOW
URL:https://www.collectivefitness.pt/event/open-gym-10/2028-01-07/
LOCATION:The Collective Fitness\, R. Prof. Sousa da Câmara 128 Loja C\, Lisboa\, Lisboa\, 1070-217\, Portugal
CATEGORIES:Open Gym
END:VEVENT
BEGIN:VEVENT
DTSTART;TZID=Europe/Lisbon:20280108T123000
DTEND;TZID=Europe/Lisbon:20280108T143000
DTSTAMP:20260423T055918
CREATED:20250708T181609Z
LAST-MODIFIED:20250708T210709Z
UID:10027667-1830947400-1830954600@www.collectivefitness.pt
SUMMARY:Open Gym
DESCRIPTION:TRY IT NOW
URL:https://www.collectivefitness.pt/event/open-gym-11/2028-01-08/
LOCATION:The Collective Fitness\, R. Prof. Sousa da Câmara 128 Loja C\, Lisboa\, Lisboa\, 1070-217\, Portugal
CATEGORIES:Open Gym
END:VEVENT
BEGIN:VEVENT
DTSTART;TZID=Europe/Lisbon:20280109T090000
DTEND;TZID=Europe/Lisbon:20280109T143000
DTSTAMP:20260423T055918
CREATED:20250708T181713Z
LAST-MODIFIED:20250708T210549Z
UID:10028191-1831021200-1831041000@www.collectivefitness.pt
SUMMARY:Open Gym
DESCRIPTION:TRY IT NOW
URL:https://www.collectivefitness.pt/event/open-gym-12/2028-01-09/
LOCATION:The Collective Fitness\, R. Prof. Sousa da Câmara 128 Loja C\, Lisboa\, Lisboa\, 1070-217\, Portugal
CATEGORIES:Open Gym
END:VEVENT
END:VCALENDAR