BEGIN:VCALENDAR
VERSION:2.0
PRODID:-//The collective fitness - ECPv6.15.16//NONSGML v1.0//EN
CALSCALE:GREGORIAN
METHOD:PUBLISH
X-ORIGINAL-URL:https://www.collectivefitness.pt
X-WR-CALDESC:Events for The collective fitness
REFRESH-INTERVAL;VALUE=DURATION:PT1H
X-Robots-Tag:noindex
X-PUBLISHED-TTL:PT1H
BEGIN:VTIMEZONE
TZID:Europe/Lisbon
BEGIN:DAYLIGHT
TZOFFSETFROM:+0000
TZOFFSETTO:+0100
TZNAME:WEST
DTSTART:20260329T010000
END:DAYLIGHT
BEGIN:STANDARD
TZOFFSETFROM:+0100
TZOFFSETTO:+0000
TZNAME:WET
DTSTART:20261025T010000
END:STANDARD
BEGIN:DAYLIGHT
TZOFFSETFROM:+0000
TZOFFSETTO:+0100
TZNAME:WEST
DTSTART:20270328T010000
END:DAYLIGHT
BEGIN:STANDARD
TZOFFSETFROM:+0100
TZOFFSETTO:+0000
TZNAME:WET
DTSTART:20271031T010000
END:STANDARD
BEGIN:DAYLIGHT
TZOFFSETFROM:+0000
TZOFFSETTO:+0100
TZNAME:WEST
DTSTART:20280326T010000
END:DAYLIGHT
BEGIN:STANDARD
TZOFFSETFROM:+0100
TZOFFSETTO:+0000
TZNAME:WET
DTSTART:20281029T010000
END:STANDARD
END:VTIMEZONE
BEGIN:VEVENT
DTSTART;TZID=Europe/Lisbon:20271013T143000
DTEND;TZID=Europe/Lisbon:20271013T173000
DTSTAMP:20260422T143334
CREATED:20250708T135057Z
LAST-MODIFIED:20250708T211612Z
UID:10013242-1823437800-1823448600@www.collectivefitness.pt
SUMMARY:Open Gym
DESCRIPTION:TRY IT NOW
URL:https://www.collectivefitness.pt/event/open-gym-6/2027-10-13/
LOCATION:The Collective Fitness\, R. Prof. Sousa da Câmara 128 Loja C\, Lisboa\, Lisboa\, 1070-217\, Portugal
CATEGORIES:Open Gym
END:VEVENT
BEGIN:VEVENT
DTSTART;TZID=Europe/Lisbon:20271014T093000
DTEND;TZID=Europe/Lisbon:20271014T123000
DTSTAMP:20260422T143334
CREATED:20250708T135609Z
LAST-MODIFIED:20260306T201047Z
UID:10030494-1823506200-1823517000@www.collectivefitness.pt
SUMMARY:Open Gym
DESCRIPTION:TRY IT NOW
URL:https://www.collectivefitness.pt/event/open-gym-7/2027-10-14/
LOCATION:The Collective Fitness\, R. Prof. Sousa da Câmara 128 Loja C\, Lisboa\, Lisboa\, 1070-217\, Portugal
CATEGORIES:Open Gym
END:VEVENT
BEGIN:VEVENT
DTSTART;TZID=Europe/Lisbon:20271014T143000
DTEND;TZID=Europe/Lisbon:20271014T173000
DTSTAMP:20260422T143334
CREATED:20250708T135857Z
LAST-MODIFIED:20250708T211359Z
UID:10017958-1823524200-1823535000@www.collectivefitness.pt
SUMMARY:Open Gym
DESCRIPTION:TRY IT NOW
URL:https://www.collectivefitness.pt/event/open-gym-8/2027-10-14/
LOCATION:The Collective Fitness\, R. Prof. Sousa da Câmara 128 Loja C\, Lisboa\, Lisboa\, 1070-217\, Portugal
CATEGORIES:Open Gym
END:VEVENT
BEGIN:VEVENT
DTSTART;TZID=Europe/Lisbon:20271015T104500
DTEND;TZID=Europe/Lisbon:20271015T123000
DTSTAMP:20260422T143334
CREATED:20250708T173449Z
LAST-MODIFIED:20260306T200930Z
UID:10031086-1823597100-1823603400@www.collectivefitness.pt
SUMMARY:Open Gym
DESCRIPTION:TRY IT NOW
URL:https://www.collectivefitness.pt/event/open-gym-9/2027-10-15/
LOCATION:The Collective Fitness\, R. Prof. Sousa da Câmara 128 Loja C\, Lisboa\, Lisboa\, 1070-217\, Portugal
CATEGORIES:Open Gym
END:VEVENT
BEGIN:VEVENT
DTSTART;TZID=Europe/Lisbon:20271015T143000
DTEND;TZID=Europe/Lisbon:20271015T173000
DTSTAMP:20260422T143334
CREATED:20250708T173610Z
LAST-MODIFIED:20250708T210749Z
UID:10023721-1823610600-1823621400@www.collectivefitness.pt
SUMMARY:Open Gym
DESCRIPTION:TRY IT NOW
URL:https://www.collectivefitness.pt/event/open-gym-10/2027-10-15/
LOCATION:The Collective Fitness\, R. Prof. Sousa da Câmara 128 Loja C\, Lisboa\, Lisboa\, 1070-217\, Portugal
CATEGORIES:Open Gym
END:VEVENT
BEGIN:VEVENT
DTSTART;TZID=Europe/Lisbon:20271016T123000
DTEND;TZID=Europe/Lisbon:20271016T143000
DTSTAMP:20260422T143334
CREATED:20250708T181609Z
LAST-MODIFIED:20250708T210709Z
UID:10027655-1823689800-1823697000@www.collectivefitness.pt
SUMMARY:Open Gym
DESCRIPTION:TRY IT NOW
URL:https://www.collectivefitness.pt/event/open-gym-11/2027-10-16/
LOCATION:The Collective Fitness\, R. Prof. Sousa da Câmara 128 Loja C\, Lisboa\, Lisboa\, 1070-217\, Portugal
CATEGORIES:Open Gym
END:VEVENT
BEGIN:VEVENT
DTSTART;TZID=Europe/Lisbon:20271017T090000
DTEND;TZID=Europe/Lisbon:20271017T143000
DTSTAMP:20260422T143334
CREATED:20250708T181713Z
LAST-MODIFIED:20250708T210549Z
UID:10028179-1823763600-1823783400@www.collectivefitness.pt
SUMMARY:Open Gym
DESCRIPTION:TRY IT NOW
URL:https://www.collectivefitness.pt/event/open-gym-12/2027-10-17/
LOCATION:The Collective Fitness\, R. Prof. Sousa da Câmara 128 Loja C\, Lisboa\, Lisboa\, 1070-217\, Portugal
CATEGORIES:Open Gym
END:VEVENT
BEGIN:VEVENT
DTSTART;TZID=Europe/Lisbon:20271018T104500
DTEND;TZID=Europe/Lisbon:20271018T123000
DTSTAMP:20260422T143334
CREATED:20250708T094513Z
LAST-MODIFIED:20260306T200400Z
UID:10030198-1823856300-1823862600@www.collectivefitness.pt
SUMMARY:Open Gym
DESCRIPTION:TRY IT NOW
URL:https://www.collectivefitness.pt/event/open-gym-3/2027-10-18/
LOCATION:The Collective Fitness\, R. Prof. Sousa da Câmara 128 Loja C\, Lisboa\, Lisboa\, 1070-217\, Portugal
CATEGORIES:Open Gym
END:VEVENT
BEGIN:VEVENT
DTSTART;TZID=Europe/Lisbon:20271018T143000
DTEND;TZID=Europe/Lisbon:20271018T173000
DTSTAMP:20260422T143334
CREATED:20250708T093507Z
LAST-MODIFIED:20250708T211954Z
UID:10004586-1823869800-1823880600@www.collectivefitness.pt
SUMMARY:Open Gym
DESCRIPTION:TRY IT NOW
URL:https://www.collectivefitness.pt/event/open-gym-2/2027-10-18/
LOCATION:The Collective Fitness\, R. Prof. Sousa da Câmara 128 Loja C\, Lisboa\, Lisboa\, 1070-217\, Portugal
CATEGORIES:Open Gym
END:VEVENT
BEGIN:VEVENT
DTSTART;TZID=Europe/Lisbon:20271019T084500
DTEND;TZID=Europe/Lisbon:20271019T123000
DTSTAMP:20260422T143334
CREATED:20250708T132212Z
LAST-MODIFIED:20250708T211822Z
UID:10006424-1823935500-1823949000@www.collectivefitness.pt
SUMMARY:Open Gym
DESCRIPTION:TRY IT NOW
URL:https://www.collectivefitness.pt/event/open-gym/2027-10-19/
LOCATION:The Collective Fitness\, R. Prof. Sousa da Câmara 128 Loja C\, Lisboa\, Lisboa\, 1070-217\, Portugal
CATEGORIES:Open Gym
END:VEVENT
BEGIN:VEVENT
DTSTART;TZID=Europe/Lisbon:20271019T143000
DTEND;TZID=Europe/Lisbon:20271019T173000
DTSTAMP:20260422T143334
CREATED:20250708T133029Z
LAST-MODIFIED:20250708T211747Z
UID:10007998-1823956200-1823967000@www.collectivefitness.pt
SUMMARY:Open Gym
DESCRIPTION:TRY IT NOW
URL:https://www.collectivefitness.pt/event/open-gym-4/2027-10-19/
LOCATION:The Collective Fitness\, R. Prof. Sousa da Câmara 128 Loja C\, Lisboa\, Lisboa\, 1070-217\, Portugal
CATEGORIES:Open Gym
END:VEVENT
BEGIN:VEVENT
DTSTART;TZID=Europe/Lisbon:20271020T100000
DTEND;TZID=Europe/Lisbon:20271020T123000
DTSTAMP:20260422T143334
CREATED:20250708T134807Z
LAST-MODIFIED:20250708T211701Z
UID:10011671-1824026400-1824035400@www.collectivefitness.pt
SUMMARY:Open Gym
DESCRIPTION:TRY IT NOW
URL:https://www.collectivefitness.pt/event/open-gym-5/2027-10-20/
LOCATION:The Collective Fitness\, R. Prof. Sousa da Câmara 128 Loja C\, Lisboa\, Lisboa\, 1070-217\, Portugal
CATEGORIES:Open Gym
END:VEVENT
BEGIN:VEVENT
DTSTART;TZID=Europe/Lisbon:20271020T143000
DTEND;TZID=Europe/Lisbon:20271020T173000
DTSTAMP:20260422T143334
CREATED:20250708T135057Z
LAST-MODIFIED:20250708T211612Z
UID:10013243-1824042600-1824053400@www.collectivefitness.pt
SUMMARY:Open Gym
DESCRIPTION:TRY IT NOW
URL:https://www.collectivefitness.pt/event/open-gym-6/2027-10-20/
LOCATION:The Collective Fitness\, R. Prof. Sousa da Câmara 128 Loja C\, Lisboa\, Lisboa\, 1070-217\, Portugal
CATEGORIES:Open Gym
END:VEVENT
BEGIN:VEVENT
DTSTART;TZID=Europe/Lisbon:20271021T093000
DTEND;TZID=Europe/Lisbon:20271021T123000
DTSTAMP:20260422T143334
CREATED:20250708T135609Z
LAST-MODIFIED:20260306T201047Z
UID:10030495-1824111000-1824121800@www.collectivefitness.pt
SUMMARY:Open Gym
DESCRIPTION:TRY IT NOW
URL:https://www.collectivefitness.pt/event/open-gym-7/2027-10-21/
LOCATION:The Collective Fitness\, R. Prof. Sousa da Câmara 128 Loja C\, Lisboa\, Lisboa\, 1070-217\, Portugal
CATEGORIES:Open Gym
END:VEVENT
BEGIN:VEVENT
DTSTART;TZID=Europe/Lisbon:20271021T143000
DTEND;TZID=Europe/Lisbon:20271021T173000
DTSTAMP:20260422T143334
CREATED:20250708T135857Z
LAST-MODIFIED:20250708T211359Z
UID:10017959-1824129000-1824139800@www.collectivefitness.pt
SUMMARY:Open Gym
DESCRIPTION:TRY IT NOW
URL:https://www.collectivefitness.pt/event/open-gym-8/2027-10-21/
LOCATION:The Collective Fitness\, R. Prof. Sousa da Câmara 128 Loja C\, Lisboa\, Lisboa\, 1070-217\, Portugal
CATEGORIES:Open Gym
END:VEVENT
BEGIN:VEVENT
DTSTART;TZID=Europe/Lisbon:20271022T104500
DTEND;TZID=Europe/Lisbon:20271022T123000
DTSTAMP:20260422T143334
CREATED:20250708T173449Z
LAST-MODIFIED:20260306T200930Z
UID:10031087-1824201900-1824208200@www.collectivefitness.pt
SUMMARY:Open Gym
DESCRIPTION:TRY IT NOW
URL:https://www.collectivefitness.pt/event/open-gym-9/2027-10-22/
LOCATION:The Collective Fitness\, R. Prof. Sousa da Câmara 128 Loja C\, Lisboa\, Lisboa\, 1070-217\, Portugal
CATEGORIES:Open Gym
END:VEVENT
BEGIN:VEVENT
DTSTART;TZID=Europe/Lisbon:20271022T143000
DTEND;TZID=Europe/Lisbon:20271022T173000
DTSTAMP:20260422T143334
CREATED:20250708T173610Z
LAST-MODIFIED:20250708T210749Z
UID:10023722-1824215400-1824226200@www.collectivefitness.pt
SUMMARY:Open Gym
DESCRIPTION:TRY IT NOW
URL:https://www.collectivefitness.pt/event/open-gym-10/2027-10-22/
LOCATION:The Collective Fitness\, R. Prof. Sousa da Câmara 128 Loja C\, Lisboa\, Lisboa\, 1070-217\, Portugal
CATEGORIES:Open Gym
END:VEVENT
BEGIN:VEVENT
DTSTART;TZID=Europe/Lisbon:20271023T123000
DTEND;TZID=Europe/Lisbon:20271023T143000
DTSTAMP:20260422T143334
CREATED:20250708T181609Z
LAST-MODIFIED:20250708T210709Z
UID:10027656-1824294600-1824301800@www.collectivefitness.pt
SUMMARY:Open Gym
DESCRIPTION:TRY IT NOW
URL:https://www.collectivefitness.pt/event/open-gym-11/2027-10-23/
LOCATION:The Collective Fitness\, R. Prof. Sousa da Câmara 128 Loja C\, Lisboa\, Lisboa\, 1070-217\, Portugal
CATEGORIES:Open Gym
END:VEVENT
BEGIN:VEVENT
DTSTART;TZID=Europe/Lisbon:20271024T090000
DTEND;TZID=Europe/Lisbon:20271024T143000
DTSTAMP:20260422T143334
CREATED:20250708T181713Z
LAST-MODIFIED:20250708T210549Z
UID:10028180-1824368400-1824388200@www.collectivefitness.pt
SUMMARY:Open Gym
DESCRIPTION:TRY IT NOW
URL:https://www.collectivefitness.pt/event/open-gym-12/2027-10-24/
LOCATION:The Collective Fitness\, R. Prof. Sousa da Câmara 128 Loja C\, Lisboa\, Lisboa\, 1070-217\, Portugal
CATEGORIES:Open Gym
END:VEVENT
BEGIN:VEVENT
DTSTART;TZID=Europe/Lisbon:20271025T104500
DTEND;TZID=Europe/Lisbon:20271025T123000
DTSTAMP:20260422T143334
CREATED:20250708T094513Z
LAST-MODIFIED:20260306T200400Z
UID:10030199-1824461100-1824467400@www.collectivefitness.pt
SUMMARY:Open Gym
DESCRIPTION:TRY IT NOW
URL:https://www.collectivefitness.pt/event/open-gym-3/2027-10-25/
LOCATION:The Collective Fitness\, R. Prof. Sousa da Câmara 128 Loja C\, Lisboa\, Lisboa\, 1070-217\, Portugal
CATEGORIES:Open Gym
END:VEVENT
BEGIN:VEVENT
DTSTART;TZID=Europe/Lisbon:20271025T143000
DTEND;TZID=Europe/Lisbon:20271025T173000
DTSTAMP:20260422T143334
CREATED:20250708T093507Z
LAST-MODIFIED:20250708T211954Z
UID:10004587-1824474600-1824485400@www.collectivefitness.pt
SUMMARY:Open Gym
DESCRIPTION:TRY IT NOW
URL:https://www.collectivefitness.pt/event/open-gym-2/2027-10-25/
LOCATION:The Collective Fitness\, R. Prof. Sousa da Câmara 128 Loja C\, Lisboa\, Lisboa\, 1070-217\, Portugal
CATEGORIES:Open Gym
END:VEVENT
BEGIN:VEVENT
DTSTART;TZID=Europe/Lisbon:20271026T084500
DTEND;TZID=Europe/Lisbon:20271026T123000
DTSTAMP:20260422T143334
CREATED:20250708T132212Z
LAST-MODIFIED:20250708T211822Z
UID:10006425-1824540300-1824553800@www.collectivefitness.pt
SUMMARY:Open Gym
DESCRIPTION:TRY IT NOW
URL:https://www.collectivefitness.pt/event/open-gym/2027-10-26/
LOCATION:The Collective Fitness\, R. Prof. Sousa da Câmara 128 Loja C\, Lisboa\, Lisboa\, 1070-217\, Portugal
CATEGORIES:Open Gym
END:VEVENT
BEGIN:VEVENT
DTSTART;TZID=Europe/Lisbon:20271026T143000
DTEND;TZID=Europe/Lisbon:20271026T173000
DTSTAMP:20260422T143334
CREATED:20250708T133029Z
LAST-MODIFIED:20250708T211747Z
UID:10007999-1824561000-1824571800@www.collectivefitness.pt
SUMMARY:Open Gym
DESCRIPTION:TRY IT NOW
URL:https://www.collectivefitness.pt/event/open-gym-4/2027-10-26/
LOCATION:The Collective Fitness\, R. Prof. Sousa da Câmara 128 Loja C\, Lisboa\, Lisboa\, 1070-217\, Portugal
CATEGORIES:Open Gym
END:VEVENT
BEGIN:VEVENT
DTSTART;TZID=Europe/Lisbon:20271027T100000
DTEND;TZID=Europe/Lisbon:20271027T123000
DTSTAMP:20260422T143334
CREATED:20250708T134807Z
LAST-MODIFIED:20250708T211701Z
UID:10011672-1824631200-1824640200@www.collectivefitness.pt
SUMMARY:Open Gym
DESCRIPTION:TRY IT NOW
URL:https://www.collectivefitness.pt/event/open-gym-5/2027-10-27/
LOCATION:The Collective Fitness\, R. Prof. Sousa da Câmara 128 Loja C\, Lisboa\, Lisboa\, 1070-217\, Portugal
CATEGORIES:Open Gym
END:VEVENT
BEGIN:VEVENT
DTSTART;TZID=Europe/Lisbon:20271027T143000
DTEND;TZID=Europe/Lisbon:20271027T173000
DTSTAMP:20260422T143334
CREATED:20250708T135057Z
LAST-MODIFIED:20250708T211612Z
UID:10013244-1824647400-1824658200@www.collectivefitness.pt
SUMMARY:Open Gym
DESCRIPTION:TRY IT NOW
URL:https://www.collectivefitness.pt/event/open-gym-6/2027-10-27/
LOCATION:The Collective Fitness\, R. Prof. Sousa da Câmara 128 Loja C\, Lisboa\, Lisboa\, 1070-217\, Portugal
CATEGORIES:Open Gym
END:VEVENT
BEGIN:VEVENT
DTSTART;TZID=Europe/Lisbon:20271028T093000
DTEND;TZID=Europe/Lisbon:20271028T123000
DTSTAMP:20260422T143334
CREATED:20250708T135609Z
LAST-MODIFIED:20260306T201047Z
UID:10030496-1824715800-1824726600@www.collectivefitness.pt
SUMMARY:Open Gym
DESCRIPTION:TRY IT NOW
URL:https://www.collectivefitness.pt/event/open-gym-7/2027-10-28/
LOCATION:The Collective Fitness\, R. Prof. Sousa da Câmara 128 Loja C\, Lisboa\, Lisboa\, 1070-217\, Portugal
CATEGORIES:Open Gym
END:VEVENT
BEGIN:VEVENT
DTSTART;TZID=Europe/Lisbon:20271028T143000
DTEND;TZID=Europe/Lisbon:20271028T173000
DTSTAMP:20260422T143334
CREATED:20250708T135857Z
LAST-MODIFIED:20250708T211359Z
UID:10017960-1824733800-1824744600@www.collectivefitness.pt
SUMMARY:Open Gym
DESCRIPTION:TRY IT NOW
URL:https://www.collectivefitness.pt/event/open-gym-8/2027-10-28/
LOCATION:The Collective Fitness\, R. Prof. Sousa da Câmara 128 Loja C\, Lisboa\, Lisboa\, 1070-217\, Portugal
CATEGORIES:Open Gym
END:VEVENT
BEGIN:VEVENT
DTSTART;TZID=Europe/Lisbon:20271029T104500
DTEND;TZID=Europe/Lisbon:20271029T123000
DTSTAMP:20260422T143334
CREATED:20250708T173449Z
LAST-MODIFIED:20260306T200930Z
UID:10031088-1824806700-1824813000@www.collectivefitness.pt
SUMMARY:Open Gym
DESCRIPTION:TRY IT NOW
URL:https://www.collectivefitness.pt/event/open-gym-9/2027-10-29/
LOCATION:The Collective Fitness\, R. Prof. Sousa da Câmara 128 Loja C\, Lisboa\, Lisboa\, 1070-217\, Portugal
CATEGORIES:Open Gym
END:VEVENT
BEGIN:VEVENT
DTSTART;TZID=Europe/Lisbon:20271029T143000
DTEND;TZID=Europe/Lisbon:20271029T173000
DTSTAMP:20260422T143334
CREATED:20250708T173610Z
LAST-MODIFIED:20250708T210749Z
UID:10023723-1824820200-1824831000@www.collectivefitness.pt
SUMMARY:Open Gym
DESCRIPTION:TRY IT NOW
URL:https://www.collectivefitness.pt/event/open-gym-10/2027-10-29/
LOCATION:The Collective Fitness\, R. Prof. Sousa da Câmara 128 Loja C\, Lisboa\, Lisboa\, 1070-217\, Portugal
CATEGORIES:Open Gym
END:VEVENT
BEGIN:VEVENT
DTSTART;TZID=Europe/Lisbon:20271030T123000
DTEND;TZID=Europe/Lisbon:20271030T143000
DTSTAMP:20260422T143334
CREATED:20250708T181609Z
LAST-MODIFIED:20250708T210709Z
UID:10027657-1824899400-1824906600@www.collectivefitness.pt
SUMMARY:Open Gym
DESCRIPTION:TRY IT NOW
URL:https://www.collectivefitness.pt/event/open-gym-11/2027-10-30/
LOCATION:The Collective Fitness\, R. Prof. Sousa da Câmara 128 Loja C\, Lisboa\, Lisboa\, 1070-217\, Portugal
CATEGORIES:Open Gym
END:VEVENT
END:VCALENDAR