BEGIN:VCALENDAR
VERSION:2.0
PRODID:-//The collective fitness - ECPv6.15.16//NONSGML v1.0//EN
CALSCALE:GREGORIAN
METHOD:PUBLISH
X-WR-CALNAME:The collective fitness
X-ORIGINAL-URL:https://www.collectivefitness.pt
X-WR-CALDESC:Events for The collective fitness
REFRESH-INTERVAL;VALUE=DURATION:PT1H
X-Robots-Tag:noindex
X-PUBLISHED-TTL:PT1H
BEGIN:VTIMEZONE
TZID:Europe/Lisbon
BEGIN:DAYLIGHT
TZOFFSETFROM:+0000
TZOFFSETTO:+0100
TZNAME:WEST
DTSTART:20260329T010000
END:DAYLIGHT
BEGIN:STANDARD
TZOFFSETFROM:+0100
TZOFFSETTO:+0000
TZNAME:WET
DTSTART:20261025T010000
END:STANDARD
BEGIN:DAYLIGHT
TZOFFSETFROM:+0000
TZOFFSETTO:+0100
TZNAME:WEST
DTSTART:20270328T010000
END:DAYLIGHT
BEGIN:STANDARD
TZOFFSETFROM:+0100
TZOFFSETTO:+0000
TZNAME:WET
DTSTART:20271031T010000
END:STANDARD
BEGIN:DAYLIGHT
TZOFFSETFROM:+0000
TZOFFSETTO:+0100
TZNAME:WEST
DTSTART:20280326T010000
END:DAYLIGHT
BEGIN:STANDARD
TZOFFSETFROM:+0100
TZOFFSETTO:+0000
TZNAME:WET
DTSTART:20281029T010000
END:STANDARD
END:VTIMEZONE
BEGIN:VEVENT
DTSTART;TZID=Europe/Lisbon:20270908T100000
DTEND;TZID=Europe/Lisbon:20270908T123000
DTSTAMP:20260422T065134
CREATED:20250708T134807Z
LAST-MODIFIED:20250708T211701Z
UID:10011665-1820397600-1820406600@www.collectivefitness.pt
SUMMARY:Open Gym
DESCRIPTION:TRY IT NOW
URL:https://www.collectivefitness.pt/event/open-gym-5/2027-09-08/
LOCATION:The Collective Fitness\, R. Prof. Sousa da Câmara 128 Loja C\, Lisboa\, Lisboa\, 1070-217\, Portugal
CATEGORIES:Open Gym
END:VEVENT
BEGIN:VEVENT
DTSTART;TZID=Europe/Lisbon:20270908T143000
DTEND;TZID=Europe/Lisbon:20270908T173000
DTSTAMP:20260422T065134
CREATED:20250708T135057Z
LAST-MODIFIED:20250708T211612Z
UID:10013237-1820413800-1820424600@www.collectivefitness.pt
SUMMARY:Open Gym
DESCRIPTION:TRY IT NOW
URL:https://www.collectivefitness.pt/event/open-gym-6/2027-09-08/
LOCATION:The Collective Fitness\, R. Prof. Sousa da Câmara 128 Loja C\, Lisboa\, Lisboa\, 1070-217\, Portugal
CATEGORIES:Open Gym
END:VEVENT
BEGIN:VEVENT
DTSTART;TZID=Europe/Lisbon:20270909T093000
DTEND;TZID=Europe/Lisbon:20270909T123000
DTSTAMP:20260422T065134
CREATED:20250708T135609Z
LAST-MODIFIED:20260306T201047Z
UID:10030489-1820482200-1820493000@www.collectivefitness.pt
SUMMARY:Open Gym
DESCRIPTION:TRY IT NOW
URL:https://www.collectivefitness.pt/event/open-gym-7/2027-09-09/
LOCATION:The Collective Fitness\, R. Prof. Sousa da Câmara 128 Loja C\, Lisboa\, Lisboa\, 1070-217\, Portugal
CATEGORIES:Open Gym
END:VEVENT
BEGIN:VEVENT
DTSTART;TZID=Europe/Lisbon:20270909T143000
DTEND;TZID=Europe/Lisbon:20270909T173000
DTSTAMP:20260422T065134
CREATED:20250708T135857Z
LAST-MODIFIED:20250708T211359Z
UID:10017953-1820500200-1820511000@www.collectivefitness.pt
SUMMARY:Open Gym
DESCRIPTION:TRY IT NOW
URL:https://www.collectivefitness.pt/event/open-gym-8/2027-09-09/
LOCATION:The Collective Fitness\, R. Prof. Sousa da Câmara 128 Loja C\, Lisboa\, Lisboa\, 1070-217\, Portugal
CATEGORIES:Open Gym
END:VEVENT
BEGIN:VEVENT
DTSTART;TZID=Europe/Lisbon:20270910T104500
DTEND;TZID=Europe/Lisbon:20270910T123000
DTSTAMP:20260422T065134
CREATED:20250708T173449Z
LAST-MODIFIED:20260306T200930Z
UID:10031081-1820573100-1820579400@www.collectivefitness.pt
SUMMARY:Open Gym
DESCRIPTION:TRY IT NOW
URL:https://www.collectivefitness.pt/event/open-gym-9/2027-09-10/
LOCATION:The Collective Fitness\, R. Prof. Sousa da Câmara 128 Loja C\, Lisboa\, Lisboa\, 1070-217\, Portugal
CATEGORIES:Open Gym
END:VEVENT
BEGIN:VEVENT
DTSTART;TZID=Europe/Lisbon:20270910T143000
DTEND;TZID=Europe/Lisbon:20270910T173000
DTSTAMP:20260422T065134
CREATED:20250708T173610Z
LAST-MODIFIED:20250708T210749Z
UID:10023716-1820586600-1820597400@www.collectivefitness.pt
SUMMARY:Open Gym
DESCRIPTION:TRY IT NOW
URL:https://www.collectivefitness.pt/event/open-gym-10/2027-09-10/
LOCATION:The Collective Fitness\, R. Prof. Sousa da Câmara 128 Loja C\, Lisboa\, Lisboa\, 1070-217\, Portugal
CATEGORIES:Open Gym
END:VEVENT
BEGIN:VEVENT
DTSTART;TZID=Europe/Lisbon:20270911T123000
DTEND;TZID=Europe/Lisbon:20270911T143000
DTSTAMP:20260422T065134
CREATED:20250708T181609Z
LAST-MODIFIED:20250708T210709Z
UID:10027650-1820665800-1820673000@www.collectivefitness.pt
SUMMARY:Open Gym
DESCRIPTION:TRY IT NOW
URL:https://www.collectivefitness.pt/event/open-gym-11/2027-09-11/
LOCATION:The Collective Fitness\, R. Prof. Sousa da Câmara 128 Loja C\, Lisboa\, Lisboa\, 1070-217\, Portugal
CATEGORIES:Open Gym
END:VEVENT
BEGIN:VEVENT
DTSTART;TZID=Europe/Lisbon:20270912T090000
DTEND;TZID=Europe/Lisbon:20270912T143000
DTSTAMP:20260422T065134
CREATED:20250708T181713Z
LAST-MODIFIED:20250708T210549Z
UID:10028174-1820739600-1820759400@www.collectivefitness.pt
SUMMARY:Open Gym
DESCRIPTION:TRY IT NOW
URL:https://www.collectivefitness.pt/event/open-gym-12/2027-09-12/
LOCATION:The Collective Fitness\, R. Prof. Sousa da Câmara 128 Loja C\, Lisboa\, Lisboa\, 1070-217\, Portugal
CATEGORIES:Open Gym
END:VEVENT
BEGIN:VEVENT
DTSTART;TZID=Europe/Lisbon:20270913T104500
DTEND;TZID=Europe/Lisbon:20270913T123000
DTSTAMP:20260422T065134
CREATED:20250708T094513Z
LAST-MODIFIED:20260306T200400Z
UID:10030193-1820832300-1820838600@www.collectivefitness.pt
SUMMARY:Open Gym
DESCRIPTION:TRY IT NOW
URL:https://www.collectivefitness.pt/event/open-gym-3/2027-09-13/
LOCATION:The Collective Fitness\, R. Prof. Sousa da Câmara 128 Loja C\, Lisboa\, Lisboa\, 1070-217\, Portugal
CATEGORIES:Open Gym
END:VEVENT
BEGIN:VEVENT
DTSTART;TZID=Europe/Lisbon:20270913T143000
DTEND;TZID=Europe/Lisbon:20270913T173000
DTSTAMP:20260422T065134
CREATED:20250708T093507Z
LAST-MODIFIED:20250708T211954Z
UID:10004581-1820845800-1820856600@www.collectivefitness.pt
SUMMARY:Open Gym
DESCRIPTION:TRY IT NOW
URL:https://www.collectivefitness.pt/event/open-gym-2/2027-09-13/
LOCATION:The Collective Fitness\, R. Prof. Sousa da Câmara 128 Loja C\, Lisboa\, Lisboa\, 1070-217\, Portugal
CATEGORIES:Open Gym
END:VEVENT
BEGIN:VEVENT
DTSTART;TZID=Europe/Lisbon:20270914T084500
DTEND;TZID=Europe/Lisbon:20270914T123000
DTSTAMP:20260422T065134
CREATED:20250708T132212Z
LAST-MODIFIED:20250708T211822Z
UID:10006419-1820911500-1820925000@www.collectivefitness.pt
SUMMARY:Open Gym
DESCRIPTION:TRY IT NOW
URL:https://www.collectivefitness.pt/event/open-gym/2027-09-14/
LOCATION:The Collective Fitness\, R. Prof. Sousa da Câmara 128 Loja C\, Lisboa\, Lisboa\, 1070-217\, Portugal
CATEGORIES:Open Gym
END:VEVENT
BEGIN:VEVENT
DTSTART;TZID=Europe/Lisbon:20270914T143000
DTEND;TZID=Europe/Lisbon:20270914T173000
DTSTAMP:20260422T065134
CREATED:20250708T133029Z
LAST-MODIFIED:20250708T211747Z
UID:10007993-1820932200-1820943000@www.collectivefitness.pt
SUMMARY:Open Gym
DESCRIPTION:TRY IT NOW
URL:https://www.collectivefitness.pt/event/open-gym-4/2027-09-14/
LOCATION:The Collective Fitness\, R. Prof. Sousa da Câmara 128 Loja C\, Lisboa\, Lisboa\, 1070-217\, Portugal
CATEGORIES:Open Gym
END:VEVENT
BEGIN:VEVENT
DTSTART;TZID=Europe/Lisbon:20270915T100000
DTEND;TZID=Europe/Lisbon:20270915T123000
DTSTAMP:20260422T065134
CREATED:20250708T134807Z
LAST-MODIFIED:20250708T211701Z
UID:10011666-1821002400-1821011400@www.collectivefitness.pt
SUMMARY:Open Gym
DESCRIPTION:TRY IT NOW
URL:https://www.collectivefitness.pt/event/open-gym-5/2027-09-15/
LOCATION:The Collective Fitness\, R. Prof. Sousa da Câmara 128 Loja C\, Lisboa\, Lisboa\, 1070-217\, Portugal
CATEGORIES:Open Gym
END:VEVENT
BEGIN:VEVENT
DTSTART;TZID=Europe/Lisbon:20270915T143000
DTEND;TZID=Europe/Lisbon:20270915T173000
DTSTAMP:20260422T065134
CREATED:20250708T135057Z
LAST-MODIFIED:20250708T211612Z
UID:10013238-1821018600-1821029400@www.collectivefitness.pt
SUMMARY:Open Gym
DESCRIPTION:TRY IT NOW
URL:https://www.collectivefitness.pt/event/open-gym-6/2027-09-15/
LOCATION:The Collective Fitness\, R. Prof. Sousa da Câmara 128 Loja C\, Lisboa\, Lisboa\, 1070-217\, Portugal
CATEGORIES:Open Gym
END:VEVENT
BEGIN:VEVENT
DTSTART;TZID=Europe/Lisbon:20270916T093000
DTEND;TZID=Europe/Lisbon:20270916T123000
DTSTAMP:20260422T065134
CREATED:20250708T135609Z
LAST-MODIFIED:20260306T201047Z
UID:10030490-1821087000-1821097800@www.collectivefitness.pt
SUMMARY:Open Gym
DESCRIPTION:TRY IT NOW
URL:https://www.collectivefitness.pt/event/open-gym-7/2027-09-16/
LOCATION:The Collective Fitness\, R. Prof. Sousa da Câmara 128 Loja C\, Lisboa\, Lisboa\, 1070-217\, Portugal
CATEGORIES:Open Gym
END:VEVENT
BEGIN:VEVENT
DTSTART;TZID=Europe/Lisbon:20270916T143000
DTEND;TZID=Europe/Lisbon:20270916T173000
DTSTAMP:20260422T065134
CREATED:20250708T135857Z
LAST-MODIFIED:20250708T211359Z
UID:10017954-1821105000-1821115800@www.collectivefitness.pt
SUMMARY:Open Gym
DESCRIPTION:TRY IT NOW
URL:https://www.collectivefitness.pt/event/open-gym-8/2027-09-16/
LOCATION:The Collective Fitness\, R. Prof. Sousa da Câmara 128 Loja C\, Lisboa\, Lisboa\, 1070-217\, Portugal
CATEGORIES:Open Gym
END:VEVENT
BEGIN:VEVENT
DTSTART;TZID=Europe/Lisbon:20270917T104500
DTEND;TZID=Europe/Lisbon:20270917T123000
DTSTAMP:20260422T065134
CREATED:20250708T173449Z
LAST-MODIFIED:20260306T200930Z
UID:10031082-1821177900-1821184200@www.collectivefitness.pt
SUMMARY:Open Gym
DESCRIPTION:TRY IT NOW
URL:https://www.collectivefitness.pt/event/open-gym-9/2027-09-17/
LOCATION:The Collective Fitness\, R. Prof. Sousa da Câmara 128 Loja C\, Lisboa\, Lisboa\, 1070-217\, Portugal
CATEGORIES:Open Gym
END:VEVENT
BEGIN:VEVENT
DTSTART;TZID=Europe/Lisbon:20270917T143000
DTEND;TZID=Europe/Lisbon:20270917T173000
DTSTAMP:20260422T065134
CREATED:20250708T173610Z
LAST-MODIFIED:20250708T210749Z
UID:10023717-1821191400-1821202200@www.collectivefitness.pt
SUMMARY:Open Gym
DESCRIPTION:TRY IT NOW
URL:https://www.collectivefitness.pt/event/open-gym-10/2027-09-17/
LOCATION:The Collective Fitness\, R. Prof. Sousa da Câmara 128 Loja C\, Lisboa\, Lisboa\, 1070-217\, Portugal
CATEGORIES:Open Gym
END:VEVENT
BEGIN:VEVENT
DTSTART;TZID=Europe/Lisbon:20270918T123000
DTEND;TZID=Europe/Lisbon:20270918T143000
DTSTAMP:20260422T065134
CREATED:20250708T181609Z
LAST-MODIFIED:20250708T210709Z
UID:10027651-1821270600-1821277800@www.collectivefitness.pt
SUMMARY:Open Gym
DESCRIPTION:TRY IT NOW
URL:https://www.collectivefitness.pt/event/open-gym-11/2027-09-18/
LOCATION:The Collective Fitness\, R. Prof. Sousa da Câmara 128 Loja C\, Lisboa\, Lisboa\, 1070-217\, Portugal
CATEGORIES:Open Gym
END:VEVENT
BEGIN:VEVENT
DTSTART;TZID=Europe/Lisbon:20270919T090000
DTEND;TZID=Europe/Lisbon:20270919T143000
DTSTAMP:20260422T065134
CREATED:20250708T181713Z
LAST-MODIFIED:20250708T210549Z
UID:10028175-1821344400-1821364200@www.collectivefitness.pt
SUMMARY:Open Gym
DESCRIPTION:TRY IT NOW
URL:https://www.collectivefitness.pt/event/open-gym-12/2027-09-19/
LOCATION:The Collective Fitness\, R. Prof. Sousa da Câmara 128 Loja C\, Lisboa\, Lisboa\, 1070-217\, Portugal
CATEGORIES:Open Gym
END:VEVENT
BEGIN:VEVENT
DTSTART;TZID=Europe/Lisbon:20270920T104500
DTEND;TZID=Europe/Lisbon:20270920T123000
DTSTAMP:20260422T065134
CREATED:20250708T094513Z
LAST-MODIFIED:20260306T200400Z
UID:10030194-1821437100-1821443400@www.collectivefitness.pt
SUMMARY:Open Gym
DESCRIPTION:TRY IT NOW
URL:https://www.collectivefitness.pt/event/open-gym-3/2027-09-20/
LOCATION:The Collective Fitness\, R. Prof. Sousa da Câmara 128 Loja C\, Lisboa\, Lisboa\, 1070-217\, Portugal
CATEGORIES:Open Gym
END:VEVENT
BEGIN:VEVENT
DTSTART;TZID=Europe/Lisbon:20270920T143000
DTEND;TZID=Europe/Lisbon:20270920T173000
DTSTAMP:20260422T065134
CREATED:20250708T093507Z
LAST-MODIFIED:20250708T211954Z
UID:10004582-1821450600-1821461400@www.collectivefitness.pt
SUMMARY:Open Gym
DESCRIPTION:TRY IT NOW
URL:https://www.collectivefitness.pt/event/open-gym-2/2027-09-20/
LOCATION:The Collective Fitness\, R. Prof. Sousa da Câmara 128 Loja C\, Lisboa\, Lisboa\, 1070-217\, Portugal
CATEGORIES:Open Gym
END:VEVENT
BEGIN:VEVENT
DTSTART;TZID=Europe/Lisbon:20270921T084500
DTEND;TZID=Europe/Lisbon:20270921T123000
DTSTAMP:20260422T065134
CREATED:20250708T132212Z
LAST-MODIFIED:20250708T211822Z
UID:10006420-1821516300-1821529800@www.collectivefitness.pt
SUMMARY:Open Gym
DESCRIPTION:TRY IT NOW
URL:https://www.collectivefitness.pt/event/open-gym/2027-09-21/
LOCATION:The Collective Fitness\, R. Prof. Sousa da Câmara 128 Loja C\, Lisboa\, Lisboa\, 1070-217\, Portugal
CATEGORIES:Open Gym
END:VEVENT
BEGIN:VEVENT
DTSTART;TZID=Europe/Lisbon:20270921T143000
DTEND;TZID=Europe/Lisbon:20270921T173000
DTSTAMP:20260422T065134
CREATED:20250708T133029Z
LAST-MODIFIED:20250708T211747Z
UID:10007994-1821537000-1821547800@www.collectivefitness.pt
SUMMARY:Open Gym
DESCRIPTION:TRY IT NOW
URL:https://www.collectivefitness.pt/event/open-gym-4/2027-09-21/
LOCATION:The Collective Fitness\, R. Prof. Sousa da Câmara 128 Loja C\, Lisboa\, Lisboa\, 1070-217\, Portugal
CATEGORIES:Open Gym
END:VEVENT
BEGIN:VEVENT
DTSTART;TZID=Europe/Lisbon:20270922T100000
DTEND;TZID=Europe/Lisbon:20270922T123000
DTSTAMP:20260422T065134
CREATED:20250708T134807Z
LAST-MODIFIED:20250708T211701Z
UID:10011667-1821607200-1821616200@www.collectivefitness.pt
SUMMARY:Open Gym
DESCRIPTION:TRY IT NOW
URL:https://www.collectivefitness.pt/event/open-gym-5/2027-09-22/
LOCATION:The Collective Fitness\, R. Prof. Sousa da Câmara 128 Loja C\, Lisboa\, Lisboa\, 1070-217\, Portugal
CATEGORIES:Open Gym
END:VEVENT
BEGIN:VEVENT
DTSTART;TZID=Europe/Lisbon:20270922T143000
DTEND;TZID=Europe/Lisbon:20270922T173000
DTSTAMP:20260422T065134
CREATED:20250708T135057Z
LAST-MODIFIED:20250708T211612Z
UID:10013239-1821623400-1821634200@www.collectivefitness.pt
SUMMARY:Open Gym
DESCRIPTION:TRY IT NOW
URL:https://www.collectivefitness.pt/event/open-gym-6/2027-09-22/
LOCATION:The Collective Fitness\, R. Prof. Sousa da Câmara 128 Loja C\, Lisboa\, Lisboa\, 1070-217\, Portugal
CATEGORIES:Open Gym
END:VEVENT
BEGIN:VEVENT
DTSTART;TZID=Europe/Lisbon:20270923T093000
DTEND;TZID=Europe/Lisbon:20270923T123000
DTSTAMP:20260422T065134
CREATED:20250708T135609Z
LAST-MODIFIED:20260306T201047Z
UID:10030491-1821691800-1821702600@www.collectivefitness.pt
SUMMARY:Open Gym
DESCRIPTION:TRY IT NOW
URL:https://www.collectivefitness.pt/event/open-gym-7/2027-09-23/
LOCATION:The Collective Fitness\, R. Prof. Sousa da Câmara 128 Loja C\, Lisboa\, Lisboa\, 1070-217\, Portugal
CATEGORIES:Open Gym
END:VEVENT
BEGIN:VEVENT
DTSTART;TZID=Europe/Lisbon:20270923T143000
DTEND;TZID=Europe/Lisbon:20270923T173000
DTSTAMP:20260422T065134
CREATED:20250708T135857Z
LAST-MODIFIED:20250708T211359Z
UID:10017955-1821709800-1821720600@www.collectivefitness.pt
SUMMARY:Open Gym
DESCRIPTION:TRY IT NOW
URL:https://www.collectivefitness.pt/event/open-gym-8/2027-09-23/
LOCATION:The Collective Fitness\, R. Prof. Sousa da Câmara 128 Loja C\, Lisboa\, Lisboa\, 1070-217\, Portugal
CATEGORIES:Open Gym
END:VEVENT
BEGIN:VEVENT
DTSTART;TZID=Europe/Lisbon:20270924T104500
DTEND;TZID=Europe/Lisbon:20270924T123000
DTSTAMP:20260422T065134
CREATED:20250708T173449Z
LAST-MODIFIED:20260306T200930Z
UID:10031083-1821782700-1821789000@www.collectivefitness.pt
SUMMARY:Open Gym
DESCRIPTION:TRY IT NOW
URL:https://www.collectivefitness.pt/event/open-gym-9/2027-09-24/
LOCATION:The Collective Fitness\, R. Prof. Sousa da Câmara 128 Loja C\, Lisboa\, Lisboa\, 1070-217\, Portugal
CATEGORIES:Open Gym
END:VEVENT
BEGIN:VEVENT
DTSTART;TZID=Europe/Lisbon:20270924T143000
DTEND;TZID=Europe/Lisbon:20270924T173000
DTSTAMP:20260422T065134
CREATED:20250708T173610Z
LAST-MODIFIED:20250708T210749Z
UID:10023718-1821796200-1821807000@www.collectivefitness.pt
SUMMARY:Open Gym
DESCRIPTION:TRY IT NOW
URL:https://www.collectivefitness.pt/event/open-gym-10/2027-09-24/
LOCATION:The Collective Fitness\, R. Prof. Sousa da Câmara 128 Loja C\, Lisboa\, Lisboa\, 1070-217\, Portugal
CATEGORIES:Open Gym
END:VEVENT
END:VCALENDAR