BEGIN:VCALENDAR
VERSION:2.0
PRODID:-//The collective fitness - ECPv6.15.16//NONSGML v1.0//EN
CALSCALE:GREGORIAN
METHOD:PUBLISH
X-ORIGINAL-URL:https://www.collectivefitness.pt
X-WR-CALDESC:Events for The collective fitness
REFRESH-INTERVAL;VALUE=DURATION:PT1H
X-Robots-Tag:noindex
X-PUBLISHED-TTL:PT1H
BEGIN:VTIMEZONE
TZID:Europe/Lisbon
BEGIN:DAYLIGHT
TZOFFSETFROM:+0000
TZOFFSETTO:+0100
TZNAME:WEST
DTSTART:20260329T010000
END:DAYLIGHT
BEGIN:STANDARD
TZOFFSETFROM:+0100
TZOFFSETTO:+0000
TZNAME:WET
DTSTART:20261025T010000
END:STANDARD
BEGIN:DAYLIGHT
TZOFFSETFROM:+0000
TZOFFSETTO:+0100
TZNAME:WEST
DTSTART:20270328T010000
END:DAYLIGHT
BEGIN:STANDARD
TZOFFSETFROM:+0100
TZOFFSETTO:+0000
TZNAME:WET
DTSTART:20271031T010000
END:STANDARD
BEGIN:DAYLIGHT
TZOFFSETFROM:+0000
TZOFFSETTO:+0100
TZNAME:WEST
DTSTART:20280326T010000
END:DAYLIGHT
BEGIN:STANDARD
TZOFFSETFROM:+0100
TZOFFSETTO:+0000
TZNAME:WET
DTSTART:20281029T010000
END:STANDARD
END:VTIMEZONE
BEGIN:VEVENT
DTSTART;TZID=Europe/Lisbon:20270825T100000
DTEND;TZID=Europe/Lisbon:20270825T123000
DTSTAMP:20260422T033700
CREATED:20250708T134807Z
LAST-MODIFIED:20250708T211701Z
UID:10011663-1819188000-1819197000@www.collectivefitness.pt
SUMMARY:Open Gym
DESCRIPTION:TRY IT NOW
URL:https://www.collectivefitness.pt/event/open-gym-5/2027-08-25/
LOCATION:The Collective Fitness\, R. Prof. Sousa da Câmara 128 Loja C\, Lisboa\, Lisboa\, 1070-217\, Portugal
CATEGORIES:Open Gym
END:VEVENT
BEGIN:VEVENT
DTSTART;TZID=Europe/Lisbon:20270825T143000
DTEND;TZID=Europe/Lisbon:20270825T173000
DTSTAMP:20260422T033700
CREATED:20250708T135057Z
LAST-MODIFIED:20250708T211612Z
UID:10013235-1819204200-1819215000@www.collectivefitness.pt
SUMMARY:Open Gym
DESCRIPTION:TRY IT NOW
URL:https://www.collectivefitness.pt/event/open-gym-6/2027-08-25/
LOCATION:The Collective Fitness\, R. Prof. Sousa da Câmara 128 Loja C\, Lisboa\, Lisboa\, 1070-217\, Portugal
CATEGORIES:Open Gym
END:VEVENT
BEGIN:VEVENT
DTSTART;TZID=Europe/Lisbon:20270826T093000
DTEND;TZID=Europe/Lisbon:20270826T123000
DTSTAMP:20260422T033700
CREATED:20250708T135609Z
LAST-MODIFIED:20260306T201047Z
UID:10030487-1819272600-1819283400@www.collectivefitness.pt
SUMMARY:Open Gym
DESCRIPTION:TRY IT NOW
URL:https://www.collectivefitness.pt/event/open-gym-7/2027-08-26/
LOCATION:The Collective Fitness\, R. Prof. Sousa da Câmara 128 Loja C\, Lisboa\, Lisboa\, 1070-217\, Portugal
CATEGORIES:Open Gym
END:VEVENT
BEGIN:VEVENT
DTSTART;TZID=Europe/Lisbon:20270826T143000
DTEND;TZID=Europe/Lisbon:20270826T173000
DTSTAMP:20260422T033700
CREATED:20250708T135857Z
LAST-MODIFIED:20250708T211359Z
UID:10017951-1819290600-1819301400@www.collectivefitness.pt
SUMMARY:Open Gym
DESCRIPTION:TRY IT NOW
URL:https://www.collectivefitness.pt/event/open-gym-8/2027-08-26/
LOCATION:The Collective Fitness\, R. Prof. Sousa da Câmara 128 Loja C\, Lisboa\, Lisboa\, 1070-217\, Portugal
CATEGORIES:Open Gym
END:VEVENT
BEGIN:VEVENT
DTSTART;TZID=Europe/Lisbon:20270827T104500
DTEND;TZID=Europe/Lisbon:20270827T123000
DTSTAMP:20260422T033700
CREATED:20250708T173449Z
LAST-MODIFIED:20260306T200930Z
UID:10031079-1819363500-1819369800@www.collectivefitness.pt
SUMMARY:Open Gym
DESCRIPTION:TRY IT NOW
URL:https://www.collectivefitness.pt/event/open-gym-9/2027-08-27/
LOCATION:The Collective Fitness\, R. Prof. Sousa da Câmara 128 Loja C\, Lisboa\, Lisboa\, 1070-217\, Portugal
CATEGORIES:Open Gym
END:VEVENT
BEGIN:VEVENT
DTSTART;TZID=Europe/Lisbon:20270827T143000
DTEND;TZID=Europe/Lisbon:20270827T173000
DTSTAMP:20260422T033700
CREATED:20250708T173610Z
LAST-MODIFIED:20250708T210749Z
UID:10023714-1819377000-1819387800@www.collectivefitness.pt
SUMMARY:Open Gym
DESCRIPTION:TRY IT NOW
URL:https://www.collectivefitness.pt/event/open-gym-10/2027-08-27/
LOCATION:The Collective Fitness\, R. Prof. Sousa da Câmara 128 Loja C\, Lisboa\, Lisboa\, 1070-217\, Portugal
CATEGORIES:Open Gym
END:VEVENT
BEGIN:VEVENT
DTSTART;TZID=Europe/Lisbon:20270828T123000
DTEND;TZID=Europe/Lisbon:20270828T143000
DTSTAMP:20260422T033700
CREATED:20250708T181609Z
LAST-MODIFIED:20250708T210709Z
UID:10027648-1819456200-1819463400@www.collectivefitness.pt
SUMMARY:Open Gym
DESCRIPTION:TRY IT NOW
URL:https://www.collectivefitness.pt/event/open-gym-11/2027-08-28/
LOCATION:The Collective Fitness\, R. Prof. Sousa da Câmara 128 Loja C\, Lisboa\, Lisboa\, 1070-217\, Portugal
CATEGORIES:Open Gym
END:VEVENT
BEGIN:VEVENT
DTSTART;TZID=Europe/Lisbon:20270829T090000
DTEND;TZID=Europe/Lisbon:20270829T143000
DTSTAMP:20260422T033700
CREATED:20250708T181713Z
LAST-MODIFIED:20250708T210549Z
UID:10028172-1819530000-1819549800@www.collectivefitness.pt
SUMMARY:Open Gym
DESCRIPTION:TRY IT NOW
URL:https://www.collectivefitness.pt/event/open-gym-12/2027-08-29/
LOCATION:The Collective Fitness\, R. Prof. Sousa da Câmara 128 Loja C\, Lisboa\, Lisboa\, 1070-217\, Portugal
CATEGORIES:Open Gym
END:VEVENT
BEGIN:VEVENT
DTSTART;TZID=Europe/Lisbon:20270830T104500
DTEND;TZID=Europe/Lisbon:20270830T123000
DTSTAMP:20260422T033700
CREATED:20250708T094513Z
LAST-MODIFIED:20260306T200400Z
UID:10030191-1819622700-1819629000@www.collectivefitness.pt
SUMMARY:Open Gym
DESCRIPTION:TRY IT NOW
URL:https://www.collectivefitness.pt/event/open-gym-3/2027-08-30/
LOCATION:The Collective Fitness\, R. Prof. Sousa da Câmara 128 Loja C\, Lisboa\, Lisboa\, 1070-217\, Portugal
CATEGORIES:Open Gym
END:VEVENT
BEGIN:VEVENT
DTSTART;TZID=Europe/Lisbon:20270830T143000
DTEND;TZID=Europe/Lisbon:20270830T173000
DTSTAMP:20260422T033700
CREATED:20250708T093507Z
LAST-MODIFIED:20250708T211954Z
UID:10004579-1819636200-1819647000@www.collectivefitness.pt
SUMMARY:Open Gym
DESCRIPTION:TRY IT NOW
URL:https://www.collectivefitness.pt/event/open-gym-2/2027-08-30/
LOCATION:The Collective Fitness\, R. Prof. Sousa da Câmara 128 Loja C\, Lisboa\, Lisboa\, 1070-217\, Portugal
CATEGORIES:Open Gym
END:VEVENT
BEGIN:VEVENT
DTSTART;TZID=Europe/Lisbon:20270831T084500
DTEND;TZID=Europe/Lisbon:20270831T123000
DTSTAMP:20260422T033700
CREATED:20250708T132212Z
LAST-MODIFIED:20250708T211822Z
UID:10006417-1819701900-1819715400@www.collectivefitness.pt
SUMMARY:Open Gym
DESCRIPTION:TRY IT NOW
URL:https://www.collectivefitness.pt/event/open-gym/2027-08-31/
LOCATION:The Collective Fitness\, R. Prof. Sousa da Câmara 128 Loja C\, Lisboa\, Lisboa\, 1070-217\, Portugal
CATEGORIES:Open Gym
END:VEVENT
BEGIN:VEVENT
DTSTART;TZID=Europe/Lisbon:20270831T143000
DTEND;TZID=Europe/Lisbon:20270831T173000
DTSTAMP:20260422T033700
CREATED:20250708T133029Z
LAST-MODIFIED:20250708T211747Z
UID:10007991-1819722600-1819733400@www.collectivefitness.pt
SUMMARY:Open Gym
DESCRIPTION:TRY IT NOW
URL:https://www.collectivefitness.pt/event/open-gym-4/2027-08-31/
LOCATION:The Collective Fitness\, R. Prof. Sousa da Câmara 128 Loja C\, Lisboa\, Lisboa\, 1070-217\, Portugal
CATEGORIES:Open Gym
END:VEVENT
BEGIN:VEVENT
DTSTART;TZID=Europe/Lisbon:20270901T100000
DTEND;TZID=Europe/Lisbon:20270901T123000
DTSTAMP:20260422T033700
CREATED:20250708T134807Z
LAST-MODIFIED:20250708T211701Z
UID:10011664-1819792800-1819801800@www.collectivefitness.pt
SUMMARY:Open Gym
DESCRIPTION:TRY IT NOW
URL:https://www.collectivefitness.pt/event/open-gym-5/2027-09-01/
LOCATION:The Collective Fitness\, R. Prof. Sousa da Câmara 128 Loja C\, Lisboa\, Lisboa\, 1070-217\, Portugal
CATEGORIES:Open Gym
END:VEVENT
BEGIN:VEVENT
DTSTART;TZID=Europe/Lisbon:20270901T143000
DTEND;TZID=Europe/Lisbon:20270901T173000
DTSTAMP:20260422T033700
CREATED:20250708T135057Z
LAST-MODIFIED:20250708T211612Z
UID:10013236-1819809000-1819819800@www.collectivefitness.pt
SUMMARY:Open Gym
DESCRIPTION:TRY IT NOW
URL:https://www.collectivefitness.pt/event/open-gym-6/2027-09-01/
LOCATION:The Collective Fitness\, R. Prof. Sousa da Câmara 128 Loja C\, Lisboa\, Lisboa\, 1070-217\, Portugal
CATEGORIES:Open Gym
END:VEVENT
BEGIN:VEVENT
DTSTART;TZID=Europe/Lisbon:20270902T093000
DTEND;TZID=Europe/Lisbon:20270902T123000
DTSTAMP:20260422T033700
CREATED:20250708T135609Z
LAST-MODIFIED:20260306T201047Z
UID:10030488-1819877400-1819888200@www.collectivefitness.pt
SUMMARY:Open Gym
DESCRIPTION:TRY IT NOW
URL:https://www.collectivefitness.pt/event/open-gym-7/2027-09-02/
LOCATION:The Collective Fitness\, R. Prof. Sousa da Câmara 128 Loja C\, Lisboa\, Lisboa\, 1070-217\, Portugal
CATEGORIES:Open Gym
END:VEVENT
BEGIN:VEVENT
DTSTART;TZID=Europe/Lisbon:20270902T143000
DTEND;TZID=Europe/Lisbon:20270902T173000
DTSTAMP:20260422T033700
CREATED:20250708T135857Z
LAST-MODIFIED:20250708T211359Z
UID:10017952-1819895400-1819906200@www.collectivefitness.pt
SUMMARY:Open Gym
DESCRIPTION:TRY IT NOW
URL:https://www.collectivefitness.pt/event/open-gym-8/2027-09-02/
LOCATION:The Collective Fitness\, R. Prof. Sousa da Câmara 128 Loja C\, Lisboa\, Lisboa\, 1070-217\, Portugal
CATEGORIES:Open Gym
END:VEVENT
BEGIN:VEVENT
DTSTART;TZID=Europe/Lisbon:20270903T104500
DTEND;TZID=Europe/Lisbon:20270903T123000
DTSTAMP:20260422T033700
CREATED:20250708T173449Z
LAST-MODIFIED:20260306T200930Z
UID:10031080-1819968300-1819974600@www.collectivefitness.pt
SUMMARY:Open Gym
DESCRIPTION:TRY IT NOW
URL:https://www.collectivefitness.pt/event/open-gym-9/2027-09-03/
LOCATION:The Collective Fitness\, R. Prof. Sousa da Câmara 128 Loja C\, Lisboa\, Lisboa\, 1070-217\, Portugal
CATEGORIES:Open Gym
END:VEVENT
BEGIN:VEVENT
DTSTART;TZID=Europe/Lisbon:20270903T143000
DTEND;TZID=Europe/Lisbon:20270903T173000
DTSTAMP:20260422T033700
CREATED:20250708T173610Z
LAST-MODIFIED:20250708T210749Z
UID:10023715-1819981800-1819992600@www.collectivefitness.pt
SUMMARY:Open Gym
DESCRIPTION:TRY IT NOW
URL:https://www.collectivefitness.pt/event/open-gym-10/2027-09-03/
LOCATION:The Collective Fitness\, R. Prof. Sousa da Câmara 128 Loja C\, Lisboa\, Lisboa\, 1070-217\, Portugal
CATEGORIES:Open Gym
END:VEVENT
BEGIN:VEVENT
DTSTART;TZID=Europe/Lisbon:20270904T123000
DTEND;TZID=Europe/Lisbon:20270904T143000
DTSTAMP:20260422T033700
CREATED:20250708T181609Z
LAST-MODIFIED:20250708T210709Z
UID:10027649-1820061000-1820068200@www.collectivefitness.pt
SUMMARY:Open Gym
DESCRIPTION:TRY IT NOW
URL:https://www.collectivefitness.pt/event/open-gym-11/2027-09-04/
LOCATION:The Collective Fitness\, R. Prof. Sousa da Câmara 128 Loja C\, Lisboa\, Lisboa\, 1070-217\, Portugal
CATEGORIES:Open Gym
END:VEVENT
BEGIN:VEVENT
DTSTART;TZID=Europe/Lisbon:20270905T090000
DTEND;TZID=Europe/Lisbon:20270905T143000
DTSTAMP:20260422T033700
CREATED:20250708T181713Z
LAST-MODIFIED:20250708T210549Z
UID:10028173-1820134800-1820154600@www.collectivefitness.pt
SUMMARY:Open Gym
DESCRIPTION:TRY IT NOW
URL:https://www.collectivefitness.pt/event/open-gym-12/2027-09-05/
LOCATION:The Collective Fitness\, R. Prof. Sousa da Câmara 128 Loja C\, Lisboa\, Lisboa\, 1070-217\, Portugal
CATEGORIES:Open Gym
END:VEVENT
BEGIN:VEVENT
DTSTART;TZID=Europe/Lisbon:20270906T104500
DTEND;TZID=Europe/Lisbon:20270906T123000
DTSTAMP:20260422T033700
CREATED:20250708T094513Z
LAST-MODIFIED:20260306T200400Z
UID:10030192-1820227500-1820233800@www.collectivefitness.pt
SUMMARY:Open Gym
DESCRIPTION:TRY IT NOW
URL:https://www.collectivefitness.pt/event/open-gym-3/2027-09-06/
LOCATION:The Collective Fitness\, R. Prof. Sousa da Câmara 128 Loja C\, Lisboa\, Lisboa\, 1070-217\, Portugal
CATEGORIES:Open Gym
END:VEVENT
BEGIN:VEVENT
DTSTART;TZID=Europe/Lisbon:20270906T143000
DTEND;TZID=Europe/Lisbon:20270906T173000
DTSTAMP:20260422T033700
CREATED:20250708T093507Z
LAST-MODIFIED:20250708T211954Z
UID:10004580-1820241000-1820251800@www.collectivefitness.pt
SUMMARY:Open Gym
DESCRIPTION:TRY IT NOW
URL:https://www.collectivefitness.pt/event/open-gym-2/2027-09-06/
LOCATION:The Collective Fitness\, R. Prof. Sousa da Câmara 128 Loja C\, Lisboa\, Lisboa\, 1070-217\, Portugal
CATEGORIES:Open Gym
END:VEVENT
BEGIN:VEVENT
DTSTART;TZID=Europe/Lisbon:20270907T084500
DTEND;TZID=Europe/Lisbon:20270907T123000
DTSTAMP:20260422T033700
CREATED:20250708T132212Z
LAST-MODIFIED:20250708T211822Z
UID:10006418-1820306700-1820320200@www.collectivefitness.pt
SUMMARY:Open Gym
DESCRIPTION:TRY IT NOW
URL:https://www.collectivefitness.pt/event/open-gym/2027-09-07/
LOCATION:The Collective Fitness\, R. Prof. Sousa da Câmara 128 Loja C\, Lisboa\, Lisboa\, 1070-217\, Portugal
CATEGORIES:Open Gym
END:VEVENT
BEGIN:VEVENT
DTSTART;TZID=Europe/Lisbon:20270907T143000
DTEND;TZID=Europe/Lisbon:20270907T173000
DTSTAMP:20260422T033700
CREATED:20250708T133029Z
LAST-MODIFIED:20250708T211747Z
UID:10007992-1820327400-1820338200@www.collectivefitness.pt
SUMMARY:Open Gym
DESCRIPTION:TRY IT NOW
URL:https://www.collectivefitness.pt/event/open-gym-4/2027-09-07/
LOCATION:The Collective Fitness\, R. Prof. Sousa da Câmara 128 Loja C\, Lisboa\, Lisboa\, 1070-217\, Portugal
CATEGORIES:Open Gym
END:VEVENT
BEGIN:VEVENT
DTSTART;TZID=Europe/Lisbon:20270908T100000
DTEND;TZID=Europe/Lisbon:20270908T123000
DTSTAMP:20260422T033700
CREATED:20250708T134807Z
LAST-MODIFIED:20250708T211701Z
UID:10011665-1820397600-1820406600@www.collectivefitness.pt
SUMMARY:Open Gym
DESCRIPTION:TRY IT NOW
URL:https://www.collectivefitness.pt/event/open-gym-5/2027-09-08/
LOCATION:The Collective Fitness\, R. Prof. Sousa da Câmara 128 Loja C\, Lisboa\, Lisboa\, 1070-217\, Portugal
CATEGORIES:Open Gym
END:VEVENT
BEGIN:VEVENT
DTSTART;TZID=Europe/Lisbon:20270908T143000
DTEND;TZID=Europe/Lisbon:20270908T173000
DTSTAMP:20260422T033700
CREATED:20250708T135057Z
LAST-MODIFIED:20250708T211612Z
UID:10013237-1820413800-1820424600@www.collectivefitness.pt
SUMMARY:Open Gym
DESCRIPTION:TRY IT NOW
URL:https://www.collectivefitness.pt/event/open-gym-6/2027-09-08/
LOCATION:The Collective Fitness\, R. Prof. Sousa da Câmara 128 Loja C\, Lisboa\, Lisboa\, 1070-217\, Portugal
CATEGORIES:Open Gym
END:VEVENT
BEGIN:VEVENT
DTSTART;TZID=Europe/Lisbon:20270909T093000
DTEND;TZID=Europe/Lisbon:20270909T123000
DTSTAMP:20260422T033700
CREATED:20250708T135609Z
LAST-MODIFIED:20260306T201047Z
UID:10030489-1820482200-1820493000@www.collectivefitness.pt
SUMMARY:Open Gym
DESCRIPTION:TRY IT NOW
URL:https://www.collectivefitness.pt/event/open-gym-7/2027-09-09/
LOCATION:The Collective Fitness\, R. Prof. Sousa da Câmara 128 Loja C\, Lisboa\, Lisboa\, 1070-217\, Portugal
CATEGORIES:Open Gym
END:VEVENT
BEGIN:VEVENT
DTSTART;TZID=Europe/Lisbon:20270909T143000
DTEND;TZID=Europe/Lisbon:20270909T173000
DTSTAMP:20260422T033700
CREATED:20250708T135857Z
LAST-MODIFIED:20250708T211359Z
UID:10017953-1820500200-1820511000@www.collectivefitness.pt
SUMMARY:Open Gym
DESCRIPTION:TRY IT NOW
URL:https://www.collectivefitness.pt/event/open-gym-8/2027-09-09/
LOCATION:The Collective Fitness\, R. Prof. Sousa da Câmara 128 Loja C\, Lisboa\, Lisboa\, 1070-217\, Portugal
CATEGORIES:Open Gym
END:VEVENT
BEGIN:VEVENT
DTSTART;TZID=Europe/Lisbon:20270910T104500
DTEND;TZID=Europe/Lisbon:20270910T123000
DTSTAMP:20260422T033700
CREATED:20250708T173449Z
LAST-MODIFIED:20260306T200930Z
UID:10031081-1820573100-1820579400@www.collectivefitness.pt
SUMMARY:Open Gym
DESCRIPTION:TRY IT NOW
URL:https://www.collectivefitness.pt/event/open-gym-9/2027-09-10/
LOCATION:The Collective Fitness\, R. Prof. Sousa da Câmara 128 Loja C\, Lisboa\, Lisboa\, 1070-217\, Portugal
CATEGORIES:Open Gym
END:VEVENT
BEGIN:VEVENT
DTSTART;TZID=Europe/Lisbon:20270910T143000
DTEND;TZID=Europe/Lisbon:20270910T173000
DTSTAMP:20260422T033700
CREATED:20250708T173610Z
LAST-MODIFIED:20250708T210749Z
UID:10023716-1820586600-1820597400@www.collectivefitness.pt
SUMMARY:Open Gym
DESCRIPTION:TRY IT NOW
URL:https://www.collectivefitness.pt/event/open-gym-10/2027-09-10/
LOCATION:The Collective Fitness\, R. Prof. Sousa da Câmara 128 Loja C\, Lisboa\, Lisboa\, 1070-217\, Portugal
CATEGORIES:Open Gym
END:VEVENT
END:VCALENDAR