BEGIN:VCALENDAR
VERSION:2.0
PRODID:-//The collective fitness - ECPv6.15.16//NONSGML v1.0//EN
CALSCALE:GREGORIAN
METHOD:PUBLISH
X-WR-CALNAME:The collective fitness
X-ORIGINAL-URL:https://www.collectivefitness.pt
X-WR-CALDESC:Events for The collective fitness
REFRESH-INTERVAL;VALUE=DURATION:PT1H
X-Robots-Tag:noindex
X-PUBLISHED-TTL:PT1H
BEGIN:VTIMEZONE
TZID:Europe/Lisbon
BEGIN:DAYLIGHT
TZOFFSETFROM:+0000
TZOFFSETTO:+0100
TZNAME:WEST
DTSTART:20260329T010000
END:DAYLIGHT
BEGIN:STANDARD
TZOFFSETFROM:+0100
TZOFFSETTO:+0000
TZNAME:WET
DTSTART:20261025T010000
END:STANDARD
BEGIN:DAYLIGHT
TZOFFSETFROM:+0000
TZOFFSETTO:+0100
TZNAME:WEST
DTSTART:20270328T010000
END:DAYLIGHT
BEGIN:STANDARD
TZOFFSETFROM:+0100
TZOFFSETTO:+0000
TZNAME:WET
DTSTART:20271031T010000
END:STANDARD
BEGIN:DAYLIGHT
TZOFFSETFROM:+0000
TZOFFSETTO:+0100
TZNAME:WEST
DTSTART:20280326T010000
END:DAYLIGHT
BEGIN:STANDARD
TZOFFSETFROM:+0100
TZOFFSETTO:+0000
TZNAME:WET
DTSTART:20281029T010000
END:STANDARD
END:VTIMEZONE
BEGIN:VEVENT
DTSTART;TZID=Europe/Lisbon:20270721T100000
DTEND;TZID=Europe/Lisbon:20270721T123000
DTSTAMP:20260421T194011
CREATED:20250708T134807Z
LAST-MODIFIED:20250708T211701Z
UID:10011658-1816164000-1816173000@www.collectivefitness.pt
SUMMARY:Open Gym
DESCRIPTION:TRY IT NOW
URL:https://www.collectivefitness.pt/event/open-gym-5/2027-07-21/
LOCATION:The Collective Fitness\, R. Prof. Sousa da Câmara 128 Loja C\, Lisboa\, Lisboa\, 1070-217\, Portugal
CATEGORIES:Open Gym
END:VEVENT
BEGIN:VEVENT
DTSTART;TZID=Europe/Lisbon:20270721T143000
DTEND;TZID=Europe/Lisbon:20270721T173000
DTSTAMP:20260421T194011
CREATED:20250708T135057Z
LAST-MODIFIED:20250708T211612Z
UID:10013230-1816180200-1816191000@www.collectivefitness.pt
SUMMARY:Open Gym
DESCRIPTION:TRY IT NOW
URL:https://www.collectivefitness.pt/event/open-gym-6/2027-07-21/
LOCATION:The Collective Fitness\, R. Prof. Sousa da Câmara 128 Loja C\, Lisboa\, Lisboa\, 1070-217\, Portugal
CATEGORIES:Open Gym
END:VEVENT
BEGIN:VEVENT
DTSTART;TZID=Europe/Lisbon:20270722T093000
DTEND;TZID=Europe/Lisbon:20270722T123000
DTSTAMP:20260421T194011
CREATED:20250708T135609Z
LAST-MODIFIED:20260306T201047Z
UID:10030482-1816248600-1816259400@www.collectivefitness.pt
SUMMARY:Open Gym
DESCRIPTION:TRY IT NOW
URL:https://www.collectivefitness.pt/event/open-gym-7/2027-07-22/
LOCATION:The Collective Fitness\, R. Prof. Sousa da Câmara 128 Loja C\, Lisboa\, Lisboa\, 1070-217\, Portugal
CATEGORIES:Open Gym
END:VEVENT
BEGIN:VEVENT
DTSTART;TZID=Europe/Lisbon:20270722T143000
DTEND;TZID=Europe/Lisbon:20270722T173000
DTSTAMP:20260421T194011
CREATED:20250708T135857Z
LAST-MODIFIED:20250708T211359Z
UID:10017946-1816266600-1816277400@www.collectivefitness.pt
SUMMARY:Open Gym
DESCRIPTION:TRY IT NOW
URL:https://www.collectivefitness.pt/event/open-gym-8/2027-07-22/
LOCATION:The Collective Fitness\, R. Prof. Sousa da Câmara 128 Loja C\, Lisboa\, Lisboa\, 1070-217\, Portugal
CATEGORIES:Open Gym
END:VEVENT
BEGIN:VEVENT
DTSTART;TZID=Europe/Lisbon:20270723T104500
DTEND;TZID=Europe/Lisbon:20270723T123000
DTSTAMP:20260421T194011
CREATED:20250708T173449Z
LAST-MODIFIED:20260306T200930Z
UID:10031074-1816339500-1816345800@www.collectivefitness.pt
SUMMARY:Open Gym
DESCRIPTION:TRY IT NOW
URL:https://www.collectivefitness.pt/event/open-gym-9/2027-07-23/
LOCATION:The Collective Fitness\, R. Prof. Sousa da Câmara 128 Loja C\, Lisboa\, Lisboa\, 1070-217\, Portugal
CATEGORIES:Open Gym
END:VEVENT
BEGIN:VEVENT
DTSTART;TZID=Europe/Lisbon:20270723T143000
DTEND;TZID=Europe/Lisbon:20270723T173000
DTSTAMP:20260421T194011
CREATED:20250708T173610Z
LAST-MODIFIED:20250708T210749Z
UID:10023709-1816353000-1816363800@www.collectivefitness.pt
SUMMARY:Open Gym
DESCRIPTION:TRY IT NOW
URL:https://www.collectivefitness.pt/event/open-gym-10/2027-07-23/
LOCATION:The Collective Fitness\, R. Prof. Sousa da Câmara 128 Loja C\, Lisboa\, Lisboa\, 1070-217\, Portugal
CATEGORIES:Open Gym
END:VEVENT
BEGIN:VEVENT
DTSTART;TZID=Europe/Lisbon:20270724T123000
DTEND;TZID=Europe/Lisbon:20270724T143000
DTSTAMP:20260421T194011
CREATED:20250708T181609Z
LAST-MODIFIED:20250708T210709Z
UID:10027643-1816432200-1816439400@www.collectivefitness.pt
SUMMARY:Open Gym
DESCRIPTION:TRY IT NOW
URL:https://www.collectivefitness.pt/event/open-gym-11/2027-07-24/
LOCATION:The Collective Fitness\, R. Prof. Sousa da Câmara 128 Loja C\, Lisboa\, Lisboa\, 1070-217\, Portugal
CATEGORIES:Open Gym
END:VEVENT
BEGIN:VEVENT
DTSTART;TZID=Europe/Lisbon:20270725T090000
DTEND;TZID=Europe/Lisbon:20270725T143000
DTSTAMP:20260421T194011
CREATED:20250708T181713Z
LAST-MODIFIED:20250708T210549Z
UID:10028167-1816506000-1816525800@www.collectivefitness.pt
SUMMARY:Open Gym
DESCRIPTION:TRY IT NOW
URL:https://www.collectivefitness.pt/event/open-gym-12/2027-07-25/
LOCATION:The Collective Fitness\, R. Prof. Sousa da Câmara 128 Loja C\, Lisboa\, Lisboa\, 1070-217\, Portugal
CATEGORIES:Open Gym
END:VEVENT
BEGIN:VEVENT
DTSTART;TZID=Europe/Lisbon:20270726T104500
DTEND;TZID=Europe/Lisbon:20270726T123000
DTSTAMP:20260421T194011
CREATED:20250708T094513Z
LAST-MODIFIED:20260306T200400Z
UID:10030186-1816598700-1816605000@www.collectivefitness.pt
SUMMARY:Open Gym
DESCRIPTION:TRY IT NOW
URL:https://www.collectivefitness.pt/event/open-gym-3/2027-07-26/
LOCATION:The Collective Fitness\, R. Prof. Sousa da Câmara 128 Loja C\, Lisboa\, Lisboa\, 1070-217\, Portugal
CATEGORIES:Open Gym
END:VEVENT
BEGIN:VEVENT
DTSTART;TZID=Europe/Lisbon:20270726T143000
DTEND;TZID=Europe/Lisbon:20270726T173000
DTSTAMP:20260421T194011
CREATED:20250708T093507Z
LAST-MODIFIED:20250708T211954Z
UID:10004574-1816612200-1816623000@www.collectivefitness.pt
SUMMARY:Open Gym
DESCRIPTION:TRY IT NOW
URL:https://www.collectivefitness.pt/event/open-gym-2/2027-07-26/
LOCATION:The Collective Fitness\, R. Prof. Sousa da Câmara 128 Loja C\, Lisboa\, Lisboa\, 1070-217\, Portugal
CATEGORIES:Open Gym
END:VEVENT
BEGIN:VEVENT
DTSTART;TZID=Europe/Lisbon:20270727T084500
DTEND;TZID=Europe/Lisbon:20270727T123000
DTSTAMP:20260421T194011
CREATED:20250708T132212Z
LAST-MODIFIED:20250708T211822Z
UID:10006412-1816677900-1816691400@www.collectivefitness.pt
SUMMARY:Open Gym
DESCRIPTION:TRY IT NOW
URL:https://www.collectivefitness.pt/event/open-gym/2027-07-27/
LOCATION:The Collective Fitness\, R. Prof. Sousa da Câmara 128 Loja C\, Lisboa\, Lisboa\, 1070-217\, Portugal
CATEGORIES:Open Gym
END:VEVENT
BEGIN:VEVENT
DTSTART;TZID=Europe/Lisbon:20270727T143000
DTEND;TZID=Europe/Lisbon:20270727T173000
DTSTAMP:20260421T194011
CREATED:20250708T133029Z
LAST-MODIFIED:20250708T211747Z
UID:10007986-1816698600-1816709400@www.collectivefitness.pt
SUMMARY:Open Gym
DESCRIPTION:TRY IT NOW
URL:https://www.collectivefitness.pt/event/open-gym-4/2027-07-27/
LOCATION:The Collective Fitness\, R. Prof. Sousa da Câmara 128 Loja C\, Lisboa\, Lisboa\, 1070-217\, Portugal
CATEGORIES:Open Gym
END:VEVENT
BEGIN:VEVENT
DTSTART;TZID=Europe/Lisbon:20270728T100000
DTEND;TZID=Europe/Lisbon:20270728T123000
DTSTAMP:20260421T194011
CREATED:20250708T134807Z
LAST-MODIFIED:20250708T211701Z
UID:10011659-1816768800-1816777800@www.collectivefitness.pt
SUMMARY:Open Gym
DESCRIPTION:TRY IT NOW
URL:https://www.collectivefitness.pt/event/open-gym-5/2027-07-28/
LOCATION:The Collective Fitness\, R. Prof. Sousa da Câmara 128 Loja C\, Lisboa\, Lisboa\, 1070-217\, Portugal
CATEGORIES:Open Gym
END:VEVENT
BEGIN:VEVENT
DTSTART;TZID=Europe/Lisbon:20270728T143000
DTEND;TZID=Europe/Lisbon:20270728T173000
DTSTAMP:20260421T194011
CREATED:20250708T135057Z
LAST-MODIFIED:20250708T211612Z
UID:10013231-1816785000-1816795800@www.collectivefitness.pt
SUMMARY:Open Gym
DESCRIPTION:TRY IT NOW
URL:https://www.collectivefitness.pt/event/open-gym-6/2027-07-28/
LOCATION:The Collective Fitness\, R. Prof. Sousa da Câmara 128 Loja C\, Lisboa\, Lisboa\, 1070-217\, Portugal
CATEGORIES:Open Gym
END:VEVENT
BEGIN:VEVENT
DTSTART;TZID=Europe/Lisbon:20270729T093000
DTEND;TZID=Europe/Lisbon:20270729T123000
DTSTAMP:20260421T194011
CREATED:20250708T135609Z
LAST-MODIFIED:20260306T201047Z
UID:10030483-1816853400-1816864200@www.collectivefitness.pt
SUMMARY:Open Gym
DESCRIPTION:TRY IT NOW
URL:https://www.collectivefitness.pt/event/open-gym-7/2027-07-29/
LOCATION:The Collective Fitness\, R. Prof. Sousa da Câmara 128 Loja C\, Lisboa\, Lisboa\, 1070-217\, Portugal
CATEGORIES:Open Gym
END:VEVENT
BEGIN:VEVENT
DTSTART;TZID=Europe/Lisbon:20270729T143000
DTEND;TZID=Europe/Lisbon:20270729T173000
DTSTAMP:20260421T194011
CREATED:20250708T135857Z
LAST-MODIFIED:20250708T211359Z
UID:10017947-1816871400-1816882200@www.collectivefitness.pt
SUMMARY:Open Gym
DESCRIPTION:TRY IT NOW
URL:https://www.collectivefitness.pt/event/open-gym-8/2027-07-29/
LOCATION:The Collective Fitness\, R. Prof. Sousa da Câmara 128 Loja C\, Lisboa\, Lisboa\, 1070-217\, Portugal
CATEGORIES:Open Gym
END:VEVENT
BEGIN:VEVENT
DTSTART;TZID=Europe/Lisbon:20270730T104500
DTEND;TZID=Europe/Lisbon:20270730T123000
DTSTAMP:20260421T194011
CREATED:20250708T173449Z
LAST-MODIFIED:20260306T200930Z
UID:10031075-1816944300-1816950600@www.collectivefitness.pt
SUMMARY:Open Gym
DESCRIPTION:TRY IT NOW
URL:https://www.collectivefitness.pt/event/open-gym-9/2027-07-30/
LOCATION:The Collective Fitness\, R. Prof. Sousa da Câmara 128 Loja C\, Lisboa\, Lisboa\, 1070-217\, Portugal
CATEGORIES:Open Gym
END:VEVENT
BEGIN:VEVENT
DTSTART;TZID=Europe/Lisbon:20270730T143000
DTEND;TZID=Europe/Lisbon:20270730T173000
DTSTAMP:20260421T194011
CREATED:20250708T173610Z
LAST-MODIFIED:20250708T210749Z
UID:10023710-1816957800-1816968600@www.collectivefitness.pt
SUMMARY:Open Gym
DESCRIPTION:TRY IT NOW
URL:https://www.collectivefitness.pt/event/open-gym-10/2027-07-30/
LOCATION:The Collective Fitness\, R. Prof. Sousa da Câmara 128 Loja C\, Lisboa\, Lisboa\, 1070-217\, Portugal
CATEGORIES:Open Gym
END:VEVENT
BEGIN:VEVENT
DTSTART;TZID=Europe/Lisbon:20270731T123000
DTEND;TZID=Europe/Lisbon:20270731T143000
DTSTAMP:20260421T194011
CREATED:20250708T181609Z
LAST-MODIFIED:20250708T210709Z
UID:10027644-1817037000-1817044200@www.collectivefitness.pt
SUMMARY:Open Gym
DESCRIPTION:TRY IT NOW
URL:https://www.collectivefitness.pt/event/open-gym-11/2027-07-31/
LOCATION:The Collective Fitness\, R. Prof. Sousa da Câmara 128 Loja C\, Lisboa\, Lisboa\, 1070-217\, Portugal
CATEGORIES:Open Gym
END:VEVENT
BEGIN:VEVENT
DTSTART;TZID=Europe/Lisbon:20270801T090000
DTEND;TZID=Europe/Lisbon:20270801T143000
DTSTAMP:20260421T194011
CREATED:20250708T181713Z
LAST-MODIFIED:20250708T210549Z
UID:10028168-1817110800-1817130600@www.collectivefitness.pt
SUMMARY:Open Gym
DESCRIPTION:TRY IT NOW
URL:https://www.collectivefitness.pt/event/open-gym-12/2027-08-01/
LOCATION:The Collective Fitness\, R. Prof. Sousa da Câmara 128 Loja C\, Lisboa\, Lisboa\, 1070-217\, Portugal
CATEGORIES:Open Gym
END:VEVENT
BEGIN:VEVENT
DTSTART;TZID=Europe/Lisbon:20270802T104500
DTEND;TZID=Europe/Lisbon:20270802T123000
DTSTAMP:20260421T194011
CREATED:20250708T094513Z
LAST-MODIFIED:20260306T200400Z
UID:10030187-1817203500-1817209800@www.collectivefitness.pt
SUMMARY:Open Gym
DESCRIPTION:TRY IT NOW
URL:https://www.collectivefitness.pt/event/open-gym-3/2027-08-02/
LOCATION:The Collective Fitness\, R. Prof. Sousa da Câmara 128 Loja C\, Lisboa\, Lisboa\, 1070-217\, Portugal
CATEGORIES:Open Gym
END:VEVENT
BEGIN:VEVENT
DTSTART;TZID=Europe/Lisbon:20270802T143000
DTEND;TZID=Europe/Lisbon:20270802T173000
DTSTAMP:20260421T194011
CREATED:20250708T093507Z
LAST-MODIFIED:20250708T211954Z
UID:10004575-1817217000-1817227800@www.collectivefitness.pt
SUMMARY:Open Gym
DESCRIPTION:TRY IT NOW
URL:https://www.collectivefitness.pt/event/open-gym-2/2027-08-02/
LOCATION:The Collective Fitness\, R. Prof. Sousa da Câmara 128 Loja C\, Lisboa\, Lisboa\, 1070-217\, Portugal
CATEGORIES:Open Gym
END:VEVENT
BEGIN:VEVENT
DTSTART;TZID=Europe/Lisbon:20270803T084500
DTEND;TZID=Europe/Lisbon:20270803T123000
DTSTAMP:20260421T194011
CREATED:20250708T132212Z
LAST-MODIFIED:20250708T211822Z
UID:10006413-1817282700-1817296200@www.collectivefitness.pt
SUMMARY:Open Gym
DESCRIPTION:TRY IT NOW
URL:https://www.collectivefitness.pt/event/open-gym/2027-08-03/
LOCATION:The Collective Fitness\, R. Prof. Sousa da Câmara 128 Loja C\, Lisboa\, Lisboa\, 1070-217\, Portugal
CATEGORIES:Open Gym
END:VEVENT
BEGIN:VEVENT
DTSTART;TZID=Europe/Lisbon:20270803T143000
DTEND;TZID=Europe/Lisbon:20270803T173000
DTSTAMP:20260421T194011
CREATED:20250708T133029Z
LAST-MODIFIED:20250708T211747Z
UID:10007987-1817303400-1817314200@www.collectivefitness.pt
SUMMARY:Open Gym
DESCRIPTION:TRY IT NOW
URL:https://www.collectivefitness.pt/event/open-gym-4/2027-08-03/
LOCATION:The Collective Fitness\, R. Prof. Sousa da Câmara 128 Loja C\, Lisboa\, Lisboa\, 1070-217\, Portugal
CATEGORIES:Open Gym
END:VEVENT
BEGIN:VEVENT
DTSTART;TZID=Europe/Lisbon:20270804T100000
DTEND;TZID=Europe/Lisbon:20270804T123000
DTSTAMP:20260421T194011
CREATED:20250708T134807Z
LAST-MODIFIED:20250708T211701Z
UID:10011660-1817373600-1817382600@www.collectivefitness.pt
SUMMARY:Open Gym
DESCRIPTION:TRY IT NOW
URL:https://www.collectivefitness.pt/event/open-gym-5/2027-08-04/
LOCATION:The Collective Fitness\, R. Prof. Sousa da Câmara 128 Loja C\, Lisboa\, Lisboa\, 1070-217\, Portugal
CATEGORIES:Open Gym
END:VEVENT
BEGIN:VEVENT
DTSTART;TZID=Europe/Lisbon:20270804T143000
DTEND;TZID=Europe/Lisbon:20270804T173000
DTSTAMP:20260421T194011
CREATED:20250708T135057Z
LAST-MODIFIED:20250708T211612Z
UID:10013232-1817389800-1817400600@www.collectivefitness.pt
SUMMARY:Open Gym
DESCRIPTION:TRY IT NOW
URL:https://www.collectivefitness.pt/event/open-gym-6/2027-08-04/
LOCATION:The Collective Fitness\, R. Prof. Sousa da Câmara 128 Loja C\, Lisboa\, Lisboa\, 1070-217\, Portugal
CATEGORIES:Open Gym
END:VEVENT
BEGIN:VEVENT
DTSTART;TZID=Europe/Lisbon:20270805T093000
DTEND;TZID=Europe/Lisbon:20270805T123000
DTSTAMP:20260421T194011
CREATED:20250708T135609Z
LAST-MODIFIED:20260306T201047Z
UID:10030484-1817458200-1817469000@www.collectivefitness.pt
SUMMARY:Open Gym
DESCRIPTION:TRY IT NOW
URL:https://www.collectivefitness.pt/event/open-gym-7/2027-08-05/
LOCATION:The Collective Fitness\, R. Prof. Sousa da Câmara 128 Loja C\, Lisboa\, Lisboa\, 1070-217\, Portugal
CATEGORIES:Open Gym
END:VEVENT
BEGIN:VEVENT
DTSTART;TZID=Europe/Lisbon:20270805T143000
DTEND;TZID=Europe/Lisbon:20270805T173000
DTSTAMP:20260421T194011
CREATED:20250708T135857Z
LAST-MODIFIED:20250708T211359Z
UID:10017948-1817476200-1817487000@www.collectivefitness.pt
SUMMARY:Open Gym
DESCRIPTION:TRY IT NOW
URL:https://www.collectivefitness.pt/event/open-gym-8/2027-08-05/
LOCATION:The Collective Fitness\, R. Prof. Sousa da Câmara 128 Loja C\, Lisboa\, Lisboa\, 1070-217\, Portugal
CATEGORIES:Open Gym
END:VEVENT
BEGIN:VEVENT
DTSTART;TZID=Europe/Lisbon:20270806T104500
DTEND;TZID=Europe/Lisbon:20270806T123000
DTSTAMP:20260421T194011
CREATED:20250708T173449Z
LAST-MODIFIED:20260306T200930Z
UID:10031076-1817549100-1817555400@www.collectivefitness.pt
SUMMARY:Open Gym
DESCRIPTION:TRY IT NOW
URL:https://www.collectivefitness.pt/event/open-gym-9/2027-08-06/
LOCATION:The Collective Fitness\, R. Prof. Sousa da Câmara 128 Loja C\, Lisboa\, Lisboa\, 1070-217\, Portugal
CATEGORIES:Open Gym
END:VEVENT
BEGIN:VEVENT
DTSTART;TZID=Europe/Lisbon:20270806T143000
DTEND;TZID=Europe/Lisbon:20270806T173000
DTSTAMP:20260421T194011
CREATED:20250708T173610Z
LAST-MODIFIED:20250708T210749Z
UID:10023711-1817562600-1817573400@www.collectivefitness.pt
SUMMARY:Open Gym
DESCRIPTION:TRY IT NOW
URL:https://www.collectivefitness.pt/event/open-gym-10/2027-08-06/
LOCATION:The Collective Fitness\, R. Prof. Sousa da Câmara 128 Loja C\, Lisboa\, Lisboa\, 1070-217\, Portugal
CATEGORIES:Open Gym
END:VEVENT
END:VCALENDAR