BEGIN:VCALENDAR
VERSION:2.0
PRODID:-//The collective fitness - ECPv6.15.16//NONSGML v1.0//EN
CALSCALE:GREGORIAN
METHOD:PUBLISH
X-WR-CALNAME:The collective fitness
X-ORIGINAL-URL:https://www.collectivefitness.pt
X-WR-CALDESC:Events for The collective fitness
REFRESH-INTERVAL;VALUE=DURATION:PT1H
X-Robots-Tag:noindex
X-PUBLISHED-TTL:PT1H
BEGIN:VTIMEZONE
TZID:Europe/Lisbon
BEGIN:DAYLIGHT
TZOFFSETFROM:+0000
TZOFFSETTO:+0100
TZNAME:WEST
DTSTART:20260329T010000
END:DAYLIGHT
BEGIN:STANDARD
TZOFFSETFROM:+0100
TZOFFSETTO:+0000
TZNAME:WET
DTSTART:20261025T010000
END:STANDARD
BEGIN:DAYLIGHT
TZOFFSETFROM:+0000
TZOFFSETTO:+0100
TZNAME:WEST
DTSTART:20270328T010000
END:DAYLIGHT
BEGIN:STANDARD
TZOFFSETFROM:+0100
TZOFFSETTO:+0000
TZNAME:WET
DTSTART:20271031T010000
END:STANDARD
BEGIN:DAYLIGHT
TZOFFSETFROM:+0000
TZOFFSETTO:+0100
TZNAME:WEST
DTSTART:20280326T010000
END:DAYLIGHT
BEGIN:STANDARD
TZOFFSETFROM:+0100
TZOFFSETTO:+0000
TZNAME:WET
DTSTART:20281029T010000
END:STANDARD
END:VTIMEZONE
BEGIN:VEVENT
DTSTART;TZID=Europe/Lisbon:20270511T084500
DTEND;TZID=Europe/Lisbon:20270511T123000
DTSTAMP:20260421T041020
CREATED:20250708T132212Z
LAST-MODIFIED:20250708T211822Z
UID:10006401-1810025100-1810038600@www.collectivefitness.pt
SUMMARY:Open Gym
DESCRIPTION:TRY IT NOW
URL:https://www.collectivefitness.pt/event/open-gym/2027-05-11/
LOCATION:The Collective Fitness\, R. Prof. Sousa da Câmara 128 Loja C\, Lisboa\, Lisboa\, 1070-217\, Portugal
CATEGORIES:Open Gym
END:VEVENT
BEGIN:VEVENT
DTSTART;TZID=Europe/Lisbon:20270511T143000
DTEND;TZID=Europe/Lisbon:20270511T173000
DTSTAMP:20260421T041020
CREATED:20250708T133029Z
LAST-MODIFIED:20250708T211747Z
UID:10007975-1810045800-1810056600@www.collectivefitness.pt
SUMMARY:Open Gym
DESCRIPTION:TRY IT NOW
URL:https://www.collectivefitness.pt/event/open-gym-4/2027-05-11/
LOCATION:The Collective Fitness\, R. Prof. Sousa da Câmara 128 Loja C\, Lisboa\, Lisboa\, 1070-217\, Portugal
CATEGORIES:Open Gym
END:VEVENT
BEGIN:VEVENT
DTSTART;TZID=Europe/Lisbon:20270512T100000
DTEND;TZID=Europe/Lisbon:20270512T123000
DTSTAMP:20260421T041020
CREATED:20250708T134807Z
LAST-MODIFIED:20250708T211701Z
UID:10011648-1810116000-1810125000@www.collectivefitness.pt
SUMMARY:Open Gym
DESCRIPTION:TRY IT NOW
URL:https://www.collectivefitness.pt/event/open-gym-5/2027-05-12/
LOCATION:The Collective Fitness\, R. Prof. Sousa da Câmara 128 Loja C\, Lisboa\, Lisboa\, 1070-217\, Portugal
CATEGORIES:Open Gym
END:VEVENT
BEGIN:VEVENT
DTSTART;TZID=Europe/Lisbon:20270512T143000
DTEND;TZID=Europe/Lisbon:20270512T173000
DTSTAMP:20260421T041020
CREATED:20250708T135057Z
LAST-MODIFIED:20250708T211612Z
UID:10013220-1810132200-1810143000@www.collectivefitness.pt
SUMMARY:Open Gym
DESCRIPTION:TRY IT NOW
URL:https://www.collectivefitness.pt/event/open-gym-6/2027-05-12/
LOCATION:The Collective Fitness\, R. Prof. Sousa da Câmara 128 Loja C\, Lisboa\, Lisboa\, 1070-217\, Portugal
CATEGORIES:Open Gym
END:VEVENT
BEGIN:VEVENT
DTSTART;TZID=Europe/Lisbon:20270513T093000
DTEND;TZID=Europe/Lisbon:20270513T123000
DTSTAMP:20260421T041020
CREATED:20250708T135609Z
LAST-MODIFIED:20260306T201047Z
UID:10030472-1810200600-1810211400@www.collectivefitness.pt
SUMMARY:Open Gym
DESCRIPTION:TRY IT NOW
URL:https://www.collectivefitness.pt/event/open-gym-7/2027-05-13/
LOCATION:The Collective Fitness\, R. Prof. Sousa da Câmara 128 Loja C\, Lisboa\, Lisboa\, 1070-217\, Portugal
CATEGORIES:Open Gym
END:VEVENT
BEGIN:VEVENT
DTSTART;TZID=Europe/Lisbon:20270513T143000
DTEND;TZID=Europe/Lisbon:20270513T173000
DTSTAMP:20260421T041020
CREATED:20250708T135857Z
LAST-MODIFIED:20250708T211359Z
UID:10017936-1810218600-1810229400@www.collectivefitness.pt
SUMMARY:Open Gym
DESCRIPTION:TRY IT NOW
URL:https://www.collectivefitness.pt/event/open-gym-8/2027-05-13/
LOCATION:The Collective Fitness\, R. Prof. Sousa da Câmara 128 Loja C\, Lisboa\, Lisboa\, 1070-217\, Portugal
CATEGORIES:Open Gym
END:VEVENT
BEGIN:VEVENT
DTSTART;TZID=Europe/Lisbon:20270514T104500
DTEND;TZID=Europe/Lisbon:20270514T123000
DTSTAMP:20260421T041020
CREATED:20250708T173449Z
LAST-MODIFIED:20260306T200930Z
UID:10031064-1810291500-1810297800@www.collectivefitness.pt
SUMMARY:Open Gym
DESCRIPTION:TRY IT NOW
URL:https://www.collectivefitness.pt/event/open-gym-9/2027-05-14/
LOCATION:The Collective Fitness\, R. Prof. Sousa da Câmara 128 Loja C\, Lisboa\, Lisboa\, 1070-217\, Portugal
CATEGORIES:Open Gym
END:VEVENT
BEGIN:VEVENT
DTSTART;TZID=Europe/Lisbon:20270514T143000
DTEND;TZID=Europe/Lisbon:20270514T173000
DTSTAMP:20260421T041020
CREATED:20250708T173610Z
LAST-MODIFIED:20250708T210749Z
UID:10023699-1810305000-1810315800@www.collectivefitness.pt
SUMMARY:Open Gym
DESCRIPTION:TRY IT NOW
URL:https://www.collectivefitness.pt/event/open-gym-10/2027-05-14/
LOCATION:The Collective Fitness\, R. Prof. Sousa da Câmara 128 Loja C\, Lisboa\, Lisboa\, 1070-217\, Portugal
CATEGORIES:Open Gym
END:VEVENT
BEGIN:VEVENT
DTSTART;TZID=Europe/Lisbon:20270515T123000
DTEND;TZID=Europe/Lisbon:20270515T143000
DTSTAMP:20260421T041020
CREATED:20250708T181609Z
LAST-MODIFIED:20250708T210709Z
UID:10027633-1810384200-1810391400@www.collectivefitness.pt
SUMMARY:Open Gym
DESCRIPTION:TRY IT NOW
URL:https://www.collectivefitness.pt/event/open-gym-11/2027-05-15/
LOCATION:The Collective Fitness\, R. Prof. Sousa da Câmara 128 Loja C\, Lisboa\, Lisboa\, 1070-217\, Portugal
CATEGORIES:Open Gym
END:VEVENT
BEGIN:VEVENT
DTSTART;TZID=Europe/Lisbon:20270516T090000
DTEND;TZID=Europe/Lisbon:20270516T143000
DTSTAMP:20260421T041020
CREATED:20250708T181713Z
LAST-MODIFIED:20250708T210549Z
UID:10028157-1810458000-1810477800@www.collectivefitness.pt
SUMMARY:Open Gym
DESCRIPTION:TRY IT NOW
URL:https://www.collectivefitness.pt/event/open-gym-12/2027-05-16/
LOCATION:The Collective Fitness\, R. Prof. Sousa da Câmara 128 Loja C\, Lisboa\, Lisboa\, 1070-217\, Portugal
CATEGORIES:Open Gym
END:VEVENT
BEGIN:VEVENT
DTSTART;TZID=Europe/Lisbon:20270517T104500
DTEND;TZID=Europe/Lisbon:20270517T123000
DTSTAMP:20260421T041020
CREATED:20250708T094513Z
LAST-MODIFIED:20260306T200400Z
UID:10030176-1810550700-1810557000@www.collectivefitness.pt
SUMMARY:Open Gym
DESCRIPTION:TRY IT NOW
URL:https://www.collectivefitness.pt/event/open-gym-3/2027-05-17/
LOCATION:The Collective Fitness\, R. Prof. Sousa da Câmara 128 Loja C\, Lisboa\, Lisboa\, 1070-217\, Portugal
CATEGORIES:Open Gym
END:VEVENT
BEGIN:VEVENT
DTSTART;TZID=Europe/Lisbon:20270517T143000
DTEND;TZID=Europe/Lisbon:20270517T173000
DTSTAMP:20260421T041020
CREATED:20250708T093507Z
LAST-MODIFIED:20250708T211954Z
UID:10004564-1810564200-1810575000@www.collectivefitness.pt
SUMMARY:Open Gym
DESCRIPTION:TRY IT NOW
URL:https://www.collectivefitness.pt/event/open-gym-2/2027-05-17/
LOCATION:The Collective Fitness\, R. Prof. Sousa da Câmara 128 Loja C\, Lisboa\, Lisboa\, 1070-217\, Portugal
CATEGORIES:Open Gym
END:VEVENT
BEGIN:VEVENT
DTSTART;TZID=Europe/Lisbon:20270518T084500
DTEND;TZID=Europe/Lisbon:20270518T123000
DTSTAMP:20260421T041020
CREATED:20250708T132212Z
LAST-MODIFIED:20250708T211822Z
UID:10006402-1810629900-1810643400@www.collectivefitness.pt
SUMMARY:Open Gym
DESCRIPTION:TRY IT NOW
URL:https://www.collectivefitness.pt/event/open-gym/2027-05-18/
LOCATION:The Collective Fitness\, R. Prof. Sousa da Câmara 128 Loja C\, Lisboa\, Lisboa\, 1070-217\, Portugal
CATEGORIES:Open Gym
END:VEVENT
BEGIN:VEVENT
DTSTART;TZID=Europe/Lisbon:20270518T143000
DTEND;TZID=Europe/Lisbon:20270518T173000
DTSTAMP:20260421T041020
CREATED:20250708T133029Z
LAST-MODIFIED:20250708T211747Z
UID:10007976-1810650600-1810661400@www.collectivefitness.pt
SUMMARY:Open Gym
DESCRIPTION:TRY IT NOW
URL:https://www.collectivefitness.pt/event/open-gym-4/2027-05-18/
LOCATION:The Collective Fitness\, R. Prof. Sousa da Câmara 128 Loja C\, Lisboa\, Lisboa\, 1070-217\, Portugal
CATEGORIES:Open Gym
END:VEVENT
BEGIN:VEVENT
DTSTART;TZID=Europe/Lisbon:20270519T100000
DTEND;TZID=Europe/Lisbon:20270519T123000
DTSTAMP:20260421T041020
CREATED:20250708T134807Z
LAST-MODIFIED:20250708T211701Z
UID:10011649-1810720800-1810729800@www.collectivefitness.pt
SUMMARY:Open Gym
DESCRIPTION:TRY IT NOW
URL:https://www.collectivefitness.pt/event/open-gym-5/2027-05-19/
LOCATION:The Collective Fitness\, R. Prof. Sousa da Câmara 128 Loja C\, Lisboa\, Lisboa\, 1070-217\, Portugal
CATEGORIES:Open Gym
END:VEVENT
BEGIN:VEVENT
DTSTART;TZID=Europe/Lisbon:20270519T143000
DTEND;TZID=Europe/Lisbon:20270519T173000
DTSTAMP:20260421T041020
CREATED:20250708T135057Z
LAST-MODIFIED:20250708T211612Z
UID:10013221-1810737000-1810747800@www.collectivefitness.pt
SUMMARY:Open Gym
DESCRIPTION:TRY IT NOW
URL:https://www.collectivefitness.pt/event/open-gym-6/2027-05-19/
LOCATION:The Collective Fitness\, R. Prof. Sousa da Câmara 128 Loja C\, Lisboa\, Lisboa\, 1070-217\, Portugal
CATEGORIES:Open Gym
END:VEVENT
BEGIN:VEVENT
DTSTART;TZID=Europe/Lisbon:20270520T093000
DTEND;TZID=Europe/Lisbon:20270520T123000
DTSTAMP:20260421T041020
CREATED:20250708T135609Z
LAST-MODIFIED:20260306T201047Z
UID:10030473-1810805400-1810816200@www.collectivefitness.pt
SUMMARY:Open Gym
DESCRIPTION:TRY IT NOW
URL:https://www.collectivefitness.pt/event/open-gym-7/2027-05-20/
LOCATION:The Collective Fitness\, R. Prof. Sousa da Câmara 128 Loja C\, Lisboa\, Lisboa\, 1070-217\, Portugal
CATEGORIES:Open Gym
END:VEVENT
BEGIN:VEVENT
DTSTART;TZID=Europe/Lisbon:20270520T143000
DTEND;TZID=Europe/Lisbon:20270520T173000
DTSTAMP:20260421T041020
CREATED:20250708T135857Z
LAST-MODIFIED:20250708T211359Z
UID:10017937-1810823400-1810834200@www.collectivefitness.pt
SUMMARY:Open Gym
DESCRIPTION:TRY IT NOW
URL:https://www.collectivefitness.pt/event/open-gym-8/2027-05-20/
LOCATION:The Collective Fitness\, R. Prof. Sousa da Câmara 128 Loja C\, Lisboa\, Lisboa\, 1070-217\, Portugal
CATEGORIES:Open Gym
END:VEVENT
BEGIN:VEVENT
DTSTART;TZID=Europe/Lisbon:20270521T104500
DTEND;TZID=Europe/Lisbon:20270521T123000
DTSTAMP:20260421T041020
CREATED:20250708T173449Z
LAST-MODIFIED:20260306T200930Z
UID:10031065-1810896300-1810902600@www.collectivefitness.pt
SUMMARY:Open Gym
DESCRIPTION:TRY IT NOW
URL:https://www.collectivefitness.pt/event/open-gym-9/2027-05-21/
LOCATION:The Collective Fitness\, R. Prof. Sousa da Câmara 128 Loja C\, Lisboa\, Lisboa\, 1070-217\, Portugal
CATEGORIES:Open Gym
END:VEVENT
BEGIN:VEVENT
DTSTART;TZID=Europe/Lisbon:20270521T143000
DTEND;TZID=Europe/Lisbon:20270521T173000
DTSTAMP:20260421T041020
CREATED:20250708T173610Z
LAST-MODIFIED:20250708T210749Z
UID:10023700-1810909800-1810920600@www.collectivefitness.pt
SUMMARY:Open Gym
DESCRIPTION:TRY IT NOW
URL:https://www.collectivefitness.pt/event/open-gym-10/2027-05-21/
LOCATION:The Collective Fitness\, R. Prof. Sousa da Câmara 128 Loja C\, Lisboa\, Lisboa\, 1070-217\, Portugal
CATEGORIES:Open Gym
END:VEVENT
BEGIN:VEVENT
DTSTART;TZID=Europe/Lisbon:20270522T123000
DTEND;TZID=Europe/Lisbon:20270522T143000
DTSTAMP:20260421T041020
CREATED:20250708T181609Z
LAST-MODIFIED:20250708T210709Z
UID:10027634-1810989000-1810996200@www.collectivefitness.pt
SUMMARY:Open Gym
DESCRIPTION:TRY IT NOW
URL:https://www.collectivefitness.pt/event/open-gym-11/2027-05-22/
LOCATION:The Collective Fitness\, R. Prof. Sousa da Câmara 128 Loja C\, Lisboa\, Lisboa\, 1070-217\, Portugal
CATEGORIES:Open Gym
END:VEVENT
BEGIN:VEVENT
DTSTART;TZID=Europe/Lisbon:20270523T090000
DTEND;TZID=Europe/Lisbon:20270523T143000
DTSTAMP:20260421T041020
CREATED:20250708T181713Z
LAST-MODIFIED:20250708T210549Z
UID:10028158-1811062800-1811082600@www.collectivefitness.pt
SUMMARY:Open Gym
DESCRIPTION:TRY IT NOW
URL:https://www.collectivefitness.pt/event/open-gym-12/2027-05-23/
LOCATION:The Collective Fitness\, R. Prof. Sousa da Câmara 128 Loja C\, Lisboa\, Lisboa\, 1070-217\, Portugal
CATEGORIES:Open Gym
END:VEVENT
BEGIN:VEVENT
DTSTART;TZID=Europe/Lisbon:20270524T104500
DTEND;TZID=Europe/Lisbon:20270524T123000
DTSTAMP:20260421T041020
CREATED:20250708T094513Z
LAST-MODIFIED:20260306T200400Z
UID:10030177-1811155500-1811161800@www.collectivefitness.pt
SUMMARY:Open Gym
DESCRIPTION:TRY IT NOW
URL:https://www.collectivefitness.pt/event/open-gym-3/2027-05-24/
LOCATION:The Collective Fitness\, R. Prof. Sousa da Câmara 128 Loja C\, Lisboa\, Lisboa\, 1070-217\, Portugal
CATEGORIES:Open Gym
END:VEVENT
BEGIN:VEVENT
DTSTART;TZID=Europe/Lisbon:20270524T143000
DTEND;TZID=Europe/Lisbon:20270524T173000
DTSTAMP:20260421T041020
CREATED:20250708T093507Z
LAST-MODIFIED:20250708T211954Z
UID:10004565-1811169000-1811179800@www.collectivefitness.pt
SUMMARY:Open Gym
DESCRIPTION:TRY IT NOW
URL:https://www.collectivefitness.pt/event/open-gym-2/2027-05-24/
LOCATION:The Collective Fitness\, R. Prof. Sousa da Câmara 128 Loja C\, Lisboa\, Lisboa\, 1070-217\, Portugal
CATEGORIES:Open Gym
END:VEVENT
BEGIN:VEVENT
DTSTART;TZID=Europe/Lisbon:20270525T084500
DTEND;TZID=Europe/Lisbon:20270525T123000
DTSTAMP:20260421T041020
CREATED:20250708T132212Z
LAST-MODIFIED:20250708T211822Z
UID:10006403-1811234700-1811248200@www.collectivefitness.pt
SUMMARY:Open Gym
DESCRIPTION:TRY IT NOW
URL:https://www.collectivefitness.pt/event/open-gym/2027-05-25/
LOCATION:The Collective Fitness\, R. Prof. Sousa da Câmara 128 Loja C\, Lisboa\, Lisboa\, 1070-217\, Portugal
CATEGORIES:Open Gym
END:VEVENT
BEGIN:VEVENT
DTSTART;TZID=Europe/Lisbon:20270525T143000
DTEND;TZID=Europe/Lisbon:20270525T173000
DTSTAMP:20260421T041020
CREATED:20250708T133029Z
LAST-MODIFIED:20250708T211747Z
UID:10007977-1811255400-1811266200@www.collectivefitness.pt
SUMMARY:Open Gym
DESCRIPTION:TRY IT NOW
URL:https://www.collectivefitness.pt/event/open-gym-4/2027-05-25/
LOCATION:The Collective Fitness\, R. Prof. Sousa da Câmara 128 Loja C\, Lisboa\, Lisboa\, 1070-217\, Portugal
CATEGORIES:Open Gym
END:VEVENT
BEGIN:VEVENT
DTSTART;TZID=Europe/Lisbon:20270526T100000
DTEND;TZID=Europe/Lisbon:20270526T123000
DTSTAMP:20260421T041020
CREATED:20250708T134807Z
LAST-MODIFIED:20250708T211701Z
UID:10011650-1811325600-1811334600@www.collectivefitness.pt
SUMMARY:Open Gym
DESCRIPTION:TRY IT NOW
URL:https://www.collectivefitness.pt/event/open-gym-5/2027-05-26/
LOCATION:The Collective Fitness\, R. Prof. Sousa da Câmara 128 Loja C\, Lisboa\, Lisboa\, 1070-217\, Portugal
CATEGORIES:Open Gym
END:VEVENT
BEGIN:VEVENT
DTSTART;TZID=Europe/Lisbon:20270526T143000
DTEND;TZID=Europe/Lisbon:20270526T173000
DTSTAMP:20260421T041020
CREATED:20250708T135057Z
LAST-MODIFIED:20250708T211612Z
UID:10013222-1811341800-1811352600@www.collectivefitness.pt
SUMMARY:Open Gym
DESCRIPTION:TRY IT NOW
URL:https://www.collectivefitness.pt/event/open-gym-6/2027-05-26/
LOCATION:The Collective Fitness\, R. Prof. Sousa da Câmara 128 Loja C\, Lisboa\, Lisboa\, 1070-217\, Portugal
CATEGORIES:Open Gym
END:VEVENT
BEGIN:VEVENT
DTSTART;TZID=Europe/Lisbon:20270527T093000
DTEND;TZID=Europe/Lisbon:20270527T123000
DTSTAMP:20260421T041020
CREATED:20250708T135609Z
LAST-MODIFIED:20260306T201047Z
UID:10030474-1811410200-1811421000@www.collectivefitness.pt
SUMMARY:Open Gym
DESCRIPTION:TRY IT NOW
URL:https://www.collectivefitness.pt/event/open-gym-7/2027-05-27/
LOCATION:The Collective Fitness\, R. Prof. Sousa da Câmara 128 Loja C\, Lisboa\, Lisboa\, 1070-217\, Portugal
CATEGORIES:Open Gym
END:VEVENT
BEGIN:VEVENT
DTSTART;TZID=Europe/Lisbon:20270527T143000
DTEND;TZID=Europe/Lisbon:20270527T173000
DTSTAMP:20260421T041020
CREATED:20250708T135857Z
LAST-MODIFIED:20250708T211359Z
UID:10017938-1811428200-1811439000@www.collectivefitness.pt
SUMMARY:Open Gym
DESCRIPTION:TRY IT NOW
URL:https://www.collectivefitness.pt/event/open-gym-8/2027-05-27/
LOCATION:The Collective Fitness\, R. Prof. Sousa da Câmara 128 Loja C\, Lisboa\, Lisboa\, 1070-217\, Portugal
CATEGORIES:Open Gym
END:VEVENT
END:VCALENDAR