BEGIN:VCALENDAR
VERSION:2.0
PRODID:-//The collective fitness - ECPv6.15.16//NONSGML v1.0//EN
CALSCALE:GREGORIAN
METHOD:PUBLISH
X-WR-CALNAME:The collective fitness
X-ORIGINAL-URL:https://www.collectivefitness.pt
X-WR-CALDESC:Events for The collective fitness
REFRESH-INTERVAL;VALUE=DURATION:PT1H
X-Robots-Tag:noindex
X-PUBLISHED-TTL:PT1H
BEGIN:VTIMEZONE
TZID:Europe/Lisbon
BEGIN:DAYLIGHT
TZOFFSETFROM:+0000
TZOFFSETTO:+0100
TZNAME:WEST
DTSTART:20260329T010000
END:DAYLIGHT
BEGIN:STANDARD
TZOFFSETFROM:+0100
TZOFFSETTO:+0000
TZNAME:WET
DTSTART:20261025T010000
END:STANDARD
BEGIN:DAYLIGHT
TZOFFSETFROM:+0000
TZOFFSETTO:+0100
TZNAME:WEST
DTSTART:20270328T010000
END:DAYLIGHT
BEGIN:STANDARD
TZOFFSETFROM:+0100
TZOFFSETTO:+0000
TZNAME:WET
DTSTART:20271031T010000
END:STANDARD
BEGIN:DAYLIGHT
TZOFFSETFROM:+0000
TZOFFSETTO:+0100
TZNAME:WEST
DTSTART:20280326T010000
END:DAYLIGHT
BEGIN:STANDARD
TZOFFSETFROM:+0100
TZOFFSETTO:+0000
TZNAME:WET
DTSTART:20281029T010000
END:STANDARD
END:VTIMEZONE
BEGIN:VEVENT
DTSTART;TZID=Europe/Lisbon:20270420T084500
DTEND;TZID=Europe/Lisbon:20270420T123000
DTSTAMP:20260420T233551
CREATED:20250708T132212Z
LAST-MODIFIED:20250708T211822Z
UID:10006398-1808210700-1808224200@www.collectivefitness.pt
SUMMARY:Open Gym
DESCRIPTION:TRY IT NOW
URL:https://www.collectivefitness.pt/event/open-gym/2027-04-20/
LOCATION:The Collective Fitness\, R. Prof. Sousa da Câmara 128 Loja C\, Lisboa\, Lisboa\, 1070-217\, Portugal
CATEGORIES:Open Gym
END:VEVENT
BEGIN:VEVENT
DTSTART;TZID=Europe/Lisbon:20270420T143000
DTEND;TZID=Europe/Lisbon:20270420T173000
DTSTAMP:20260420T233551
CREATED:20250708T133029Z
LAST-MODIFIED:20250708T211747Z
UID:10007972-1808231400-1808242200@www.collectivefitness.pt
SUMMARY:Open Gym
DESCRIPTION:TRY IT NOW
URL:https://www.collectivefitness.pt/event/open-gym-4/2027-04-20/
LOCATION:The Collective Fitness\, R. Prof. Sousa da Câmara 128 Loja C\, Lisboa\, Lisboa\, 1070-217\, Portugal
CATEGORIES:Open Gym
END:VEVENT
BEGIN:VEVENT
DTSTART;TZID=Europe/Lisbon:20270421T100000
DTEND;TZID=Europe/Lisbon:20270421T123000
DTSTAMP:20260420T233551
CREATED:20250708T134807Z
LAST-MODIFIED:20250708T211701Z
UID:10011645-1808301600-1808310600@www.collectivefitness.pt
SUMMARY:Open Gym
DESCRIPTION:TRY IT NOW
URL:https://www.collectivefitness.pt/event/open-gym-5/2027-04-21/
LOCATION:The Collective Fitness\, R. Prof. Sousa da Câmara 128 Loja C\, Lisboa\, Lisboa\, 1070-217\, Portugal
CATEGORIES:Open Gym
END:VEVENT
BEGIN:VEVENT
DTSTART;TZID=Europe/Lisbon:20270421T143000
DTEND;TZID=Europe/Lisbon:20270421T173000
DTSTAMP:20260420T233551
CREATED:20250708T135057Z
LAST-MODIFIED:20250708T211612Z
UID:10013217-1808317800-1808328600@www.collectivefitness.pt
SUMMARY:Open Gym
DESCRIPTION:TRY IT NOW
URL:https://www.collectivefitness.pt/event/open-gym-6/2027-04-21/
LOCATION:The Collective Fitness\, R. Prof. Sousa da Câmara 128 Loja C\, Lisboa\, Lisboa\, 1070-217\, Portugal
CATEGORIES:Open Gym
END:VEVENT
BEGIN:VEVENT
DTSTART;TZID=Europe/Lisbon:20270422T093000
DTEND;TZID=Europe/Lisbon:20270422T123000
DTSTAMP:20260420T233551
CREATED:20250708T135609Z
LAST-MODIFIED:20260306T201047Z
UID:10030469-1808386200-1808397000@www.collectivefitness.pt
SUMMARY:Open Gym
DESCRIPTION:TRY IT NOW
URL:https://www.collectivefitness.pt/event/open-gym-7/2027-04-22/
LOCATION:The Collective Fitness\, R. Prof. Sousa da Câmara 128 Loja C\, Lisboa\, Lisboa\, 1070-217\, Portugal
CATEGORIES:Open Gym
END:VEVENT
BEGIN:VEVENT
DTSTART;TZID=Europe/Lisbon:20270422T143000
DTEND;TZID=Europe/Lisbon:20270422T173000
DTSTAMP:20260420T233551
CREATED:20250708T135857Z
LAST-MODIFIED:20250708T211359Z
UID:10017933-1808404200-1808415000@www.collectivefitness.pt
SUMMARY:Open Gym
DESCRIPTION:TRY IT NOW
URL:https://www.collectivefitness.pt/event/open-gym-8/2027-04-22/
LOCATION:The Collective Fitness\, R. Prof. Sousa da Câmara 128 Loja C\, Lisboa\, Lisboa\, 1070-217\, Portugal
CATEGORIES:Open Gym
END:VEVENT
BEGIN:VEVENT
DTSTART;TZID=Europe/Lisbon:20270423T104500
DTEND;TZID=Europe/Lisbon:20270423T123000
DTSTAMP:20260420T233551
CREATED:20250708T173449Z
LAST-MODIFIED:20260306T200930Z
UID:10031061-1808477100-1808483400@www.collectivefitness.pt
SUMMARY:Open Gym
DESCRIPTION:TRY IT NOW
URL:https://www.collectivefitness.pt/event/open-gym-9/2027-04-23/
LOCATION:The Collective Fitness\, R. Prof. Sousa da Câmara 128 Loja C\, Lisboa\, Lisboa\, 1070-217\, Portugal
CATEGORIES:Open Gym
END:VEVENT
BEGIN:VEVENT
DTSTART;TZID=Europe/Lisbon:20270423T143000
DTEND;TZID=Europe/Lisbon:20270423T173000
DTSTAMP:20260420T233551
CREATED:20250708T173610Z
LAST-MODIFIED:20250708T210749Z
UID:10023696-1808490600-1808501400@www.collectivefitness.pt
SUMMARY:Open Gym
DESCRIPTION:TRY IT NOW
URL:https://www.collectivefitness.pt/event/open-gym-10/2027-04-23/
LOCATION:The Collective Fitness\, R. Prof. Sousa da Câmara 128 Loja C\, Lisboa\, Lisboa\, 1070-217\, Portugal
CATEGORIES:Open Gym
END:VEVENT
BEGIN:VEVENT
DTSTART;TZID=Europe/Lisbon:20270424T123000
DTEND;TZID=Europe/Lisbon:20270424T143000
DTSTAMP:20260420T233551
CREATED:20250708T181609Z
LAST-MODIFIED:20250708T210709Z
UID:10027630-1808569800-1808577000@www.collectivefitness.pt
SUMMARY:Open Gym
DESCRIPTION:TRY IT NOW
URL:https://www.collectivefitness.pt/event/open-gym-11/2027-04-24/
LOCATION:The Collective Fitness\, R. Prof. Sousa da Câmara 128 Loja C\, Lisboa\, Lisboa\, 1070-217\, Portugal
CATEGORIES:Open Gym
END:VEVENT
BEGIN:VEVENT
DTSTART;TZID=Europe/Lisbon:20270425T090000
DTEND;TZID=Europe/Lisbon:20270425T143000
DTSTAMP:20260420T233551
CREATED:20250708T181713Z
LAST-MODIFIED:20250708T210549Z
UID:10028154-1808643600-1808663400@www.collectivefitness.pt
SUMMARY:Open Gym
DESCRIPTION:TRY IT NOW
URL:https://www.collectivefitness.pt/event/open-gym-12/2027-04-25/
LOCATION:The Collective Fitness\, R. Prof. Sousa da Câmara 128 Loja C\, Lisboa\, Lisboa\, 1070-217\, Portugal
CATEGORIES:Open Gym
END:VEVENT
BEGIN:VEVENT
DTSTART;TZID=Europe/Lisbon:20270426T104500
DTEND;TZID=Europe/Lisbon:20270426T123000
DTSTAMP:20260420T233551
CREATED:20250708T094513Z
LAST-MODIFIED:20260306T200400Z
UID:10030173-1808736300-1808742600@www.collectivefitness.pt
SUMMARY:Open Gym
DESCRIPTION:TRY IT NOW
URL:https://www.collectivefitness.pt/event/open-gym-3/2027-04-26/
LOCATION:The Collective Fitness\, R. Prof. Sousa da Câmara 128 Loja C\, Lisboa\, Lisboa\, 1070-217\, Portugal
CATEGORIES:Open Gym
END:VEVENT
BEGIN:VEVENT
DTSTART;TZID=Europe/Lisbon:20270426T143000
DTEND;TZID=Europe/Lisbon:20270426T173000
DTSTAMP:20260420T233551
CREATED:20250708T093507Z
LAST-MODIFIED:20250708T211954Z
UID:10004561-1808749800-1808760600@www.collectivefitness.pt
SUMMARY:Open Gym
DESCRIPTION:TRY IT NOW
URL:https://www.collectivefitness.pt/event/open-gym-2/2027-04-26/
LOCATION:The Collective Fitness\, R. Prof. Sousa da Câmara 128 Loja C\, Lisboa\, Lisboa\, 1070-217\, Portugal
CATEGORIES:Open Gym
END:VEVENT
BEGIN:VEVENT
DTSTART;TZID=Europe/Lisbon:20270427T084500
DTEND;TZID=Europe/Lisbon:20270427T123000
DTSTAMP:20260420T233551
CREATED:20250708T132212Z
LAST-MODIFIED:20250708T211822Z
UID:10006399-1808815500-1808829000@www.collectivefitness.pt
SUMMARY:Open Gym
DESCRIPTION:TRY IT NOW
URL:https://www.collectivefitness.pt/event/open-gym/2027-04-27/
LOCATION:The Collective Fitness\, R. Prof. Sousa da Câmara 128 Loja C\, Lisboa\, Lisboa\, 1070-217\, Portugal
CATEGORIES:Open Gym
END:VEVENT
BEGIN:VEVENT
DTSTART;TZID=Europe/Lisbon:20270427T143000
DTEND;TZID=Europe/Lisbon:20270427T173000
DTSTAMP:20260420T233551
CREATED:20250708T133029Z
LAST-MODIFIED:20250708T211747Z
UID:10007973-1808836200-1808847000@www.collectivefitness.pt
SUMMARY:Open Gym
DESCRIPTION:TRY IT NOW
URL:https://www.collectivefitness.pt/event/open-gym-4/2027-04-27/
LOCATION:The Collective Fitness\, R. Prof. Sousa da Câmara 128 Loja C\, Lisboa\, Lisboa\, 1070-217\, Portugal
CATEGORIES:Open Gym
END:VEVENT
BEGIN:VEVENT
DTSTART;TZID=Europe/Lisbon:20270428T100000
DTEND;TZID=Europe/Lisbon:20270428T123000
DTSTAMP:20260420T233551
CREATED:20250708T134807Z
LAST-MODIFIED:20250708T211701Z
UID:10011646-1808906400-1808915400@www.collectivefitness.pt
SUMMARY:Open Gym
DESCRIPTION:TRY IT NOW
URL:https://www.collectivefitness.pt/event/open-gym-5/2027-04-28/
LOCATION:The Collective Fitness\, R. Prof. Sousa da Câmara 128 Loja C\, Lisboa\, Lisboa\, 1070-217\, Portugal
CATEGORIES:Open Gym
END:VEVENT
BEGIN:VEVENT
DTSTART;TZID=Europe/Lisbon:20270428T143000
DTEND;TZID=Europe/Lisbon:20270428T173000
DTSTAMP:20260420T233551
CREATED:20250708T135057Z
LAST-MODIFIED:20250708T211612Z
UID:10013218-1808922600-1808933400@www.collectivefitness.pt
SUMMARY:Open Gym
DESCRIPTION:TRY IT NOW
URL:https://www.collectivefitness.pt/event/open-gym-6/2027-04-28/
LOCATION:The Collective Fitness\, R. Prof. Sousa da Câmara 128 Loja C\, Lisboa\, Lisboa\, 1070-217\, Portugal
CATEGORIES:Open Gym
END:VEVENT
BEGIN:VEVENT
DTSTART;TZID=Europe/Lisbon:20270429T093000
DTEND;TZID=Europe/Lisbon:20270429T123000
DTSTAMP:20260420T233551
CREATED:20250708T135609Z
LAST-MODIFIED:20260306T201047Z
UID:10030470-1808991000-1809001800@www.collectivefitness.pt
SUMMARY:Open Gym
DESCRIPTION:TRY IT NOW
URL:https://www.collectivefitness.pt/event/open-gym-7/2027-04-29/
LOCATION:The Collective Fitness\, R. Prof. Sousa da Câmara 128 Loja C\, Lisboa\, Lisboa\, 1070-217\, Portugal
CATEGORIES:Open Gym
END:VEVENT
BEGIN:VEVENT
DTSTART;TZID=Europe/Lisbon:20270429T143000
DTEND;TZID=Europe/Lisbon:20270429T173000
DTSTAMP:20260420T233551
CREATED:20250708T135857Z
LAST-MODIFIED:20250708T211359Z
UID:10017934-1809009000-1809019800@www.collectivefitness.pt
SUMMARY:Open Gym
DESCRIPTION:TRY IT NOW
URL:https://www.collectivefitness.pt/event/open-gym-8/2027-04-29/
LOCATION:The Collective Fitness\, R. Prof. Sousa da Câmara 128 Loja C\, Lisboa\, Lisboa\, 1070-217\, Portugal
CATEGORIES:Open Gym
END:VEVENT
BEGIN:VEVENT
DTSTART;TZID=Europe/Lisbon:20270430T104500
DTEND;TZID=Europe/Lisbon:20270430T123000
DTSTAMP:20260420T233551
CREATED:20250708T173449Z
LAST-MODIFIED:20260306T200930Z
UID:10031062-1809081900-1809088200@www.collectivefitness.pt
SUMMARY:Open Gym
DESCRIPTION:TRY IT NOW
URL:https://www.collectivefitness.pt/event/open-gym-9/2027-04-30/
LOCATION:The Collective Fitness\, R. Prof. Sousa da Câmara 128 Loja C\, Lisboa\, Lisboa\, 1070-217\, Portugal
CATEGORIES:Open Gym
END:VEVENT
BEGIN:VEVENT
DTSTART;TZID=Europe/Lisbon:20270430T143000
DTEND;TZID=Europe/Lisbon:20270430T173000
DTSTAMP:20260420T233551
CREATED:20250708T173610Z
LAST-MODIFIED:20250708T210749Z
UID:10023697-1809095400-1809106200@www.collectivefitness.pt
SUMMARY:Open Gym
DESCRIPTION:TRY IT NOW
URL:https://www.collectivefitness.pt/event/open-gym-10/2027-04-30/
LOCATION:The Collective Fitness\, R. Prof. Sousa da Câmara 128 Loja C\, Lisboa\, Lisboa\, 1070-217\, Portugal
CATEGORIES:Open Gym
END:VEVENT
BEGIN:VEVENT
DTSTART;TZID=Europe/Lisbon:20270501T123000
DTEND;TZID=Europe/Lisbon:20270501T143000
DTSTAMP:20260420T233551
CREATED:20250708T181609Z
LAST-MODIFIED:20250708T210709Z
UID:10027631-1809174600-1809181800@www.collectivefitness.pt
SUMMARY:Open Gym
DESCRIPTION:TRY IT NOW
URL:https://www.collectivefitness.pt/event/open-gym-11/2027-05-01/
LOCATION:The Collective Fitness\, R. Prof. Sousa da Câmara 128 Loja C\, Lisboa\, Lisboa\, 1070-217\, Portugal
CATEGORIES:Open Gym
END:VEVENT
BEGIN:VEVENT
DTSTART;TZID=Europe/Lisbon:20270502T090000
DTEND;TZID=Europe/Lisbon:20270502T143000
DTSTAMP:20260420T233551
CREATED:20250708T181713Z
LAST-MODIFIED:20250708T210549Z
UID:10028155-1809248400-1809268200@www.collectivefitness.pt
SUMMARY:Open Gym
DESCRIPTION:TRY IT NOW
URL:https://www.collectivefitness.pt/event/open-gym-12/2027-05-02/
LOCATION:The Collective Fitness\, R. Prof. Sousa da Câmara 128 Loja C\, Lisboa\, Lisboa\, 1070-217\, Portugal
CATEGORIES:Open Gym
END:VEVENT
BEGIN:VEVENT
DTSTART;TZID=Europe/Lisbon:20270503T104500
DTEND;TZID=Europe/Lisbon:20270503T123000
DTSTAMP:20260420T233551
CREATED:20250708T094513Z
LAST-MODIFIED:20260306T200400Z
UID:10030174-1809341100-1809347400@www.collectivefitness.pt
SUMMARY:Open Gym
DESCRIPTION:TRY IT NOW
URL:https://www.collectivefitness.pt/event/open-gym-3/2027-05-03/
LOCATION:The Collective Fitness\, R. Prof. Sousa da Câmara 128 Loja C\, Lisboa\, Lisboa\, 1070-217\, Portugal
CATEGORIES:Open Gym
END:VEVENT
BEGIN:VEVENT
DTSTART;TZID=Europe/Lisbon:20270503T143000
DTEND;TZID=Europe/Lisbon:20270503T173000
DTSTAMP:20260420T233551
CREATED:20250708T093507Z
LAST-MODIFIED:20250708T211954Z
UID:10004562-1809354600-1809365400@www.collectivefitness.pt
SUMMARY:Open Gym
DESCRIPTION:TRY IT NOW
URL:https://www.collectivefitness.pt/event/open-gym-2/2027-05-03/
LOCATION:The Collective Fitness\, R. Prof. Sousa da Câmara 128 Loja C\, Lisboa\, Lisboa\, 1070-217\, Portugal
CATEGORIES:Open Gym
END:VEVENT
BEGIN:VEVENT
DTSTART;TZID=Europe/Lisbon:20270504T084500
DTEND;TZID=Europe/Lisbon:20270504T123000
DTSTAMP:20260420T233551
CREATED:20250708T132212Z
LAST-MODIFIED:20250708T211822Z
UID:10006400-1809420300-1809433800@www.collectivefitness.pt
SUMMARY:Open Gym
DESCRIPTION:TRY IT NOW
URL:https://www.collectivefitness.pt/event/open-gym/2027-05-04/
LOCATION:The Collective Fitness\, R. Prof. Sousa da Câmara 128 Loja C\, Lisboa\, Lisboa\, 1070-217\, Portugal
CATEGORIES:Open Gym
END:VEVENT
BEGIN:VEVENT
DTSTART;TZID=Europe/Lisbon:20270504T143000
DTEND;TZID=Europe/Lisbon:20270504T173000
DTSTAMP:20260420T233551
CREATED:20250708T133029Z
LAST-MODIFIED:20250708T211747Z
UID:10007974-1809441000-1809451800@www.collectivefitness.pt
SUMMARY:Open Gym
DESCRIPTION:TRY IT NOW
URL:https://www.collectivefitness.pt/event/open-gym-4/2027-05-04/
LOCATION:The Collective Fitness\, R. Prof. Sousa da Câmara 128 Loja C\, Lisboa\, Lisboa\, 1070-217\, Portugal
CATEGORIES:Open Gym
END:VEVENT
BEGIN:VEVENT
DTSTART;TZID=Europe/Lisbon:20270505T100000
DTEND;TZID=Europe/Lisbon:20270505T123000
DTSTAMP:20260420T233551
CREATED:20250708T134807Z
LAST-MODIFIED:20250708T211701Z
UID:10011647-1809511200-1809520200@www.collectivefitness.pt
SUMMARY:Open Gym
DESCRIPTION:TRY IT NOW
URL:https://www.collectivefitness.pt/event/open-gym-5/2027-05-05/
LOCATION:The Collective Fitness\, R. Prof. Sousa da Câmara 128 Loja C\, Lisboa\, Lisboa\, 1070-217\, Portugal
CATEGORIES:Open Gym
END:VEVENT
BEGIN:VEVENT
DTSTART;TZID=Europe/Lisbon:20270505T143000
DTEND;TZID=Europe/Lisbon:20270505T173000
DTSTAMP:20260420T233551
CREATED:20250708T135057Z
LAST-MODIFIED:20250708T211612Z
UID:10013219-1809527400-1809538200@www.collectivefitness.pt
SUMMARY:Open Gym
DESCRIPTION:TRY IT NOW
URL:https://www.collectivefitness.pt/event/open-gym-6/2027-05-05/
LOCATION:The Collective Fitness\, R. Prof. Sousa da Câmara 128 Loja C\, Lisboa\, Lisboa\, 1070-217\, Portugal
CATEGORIES:Open Gym
END:VEVENT
BEGIN:VEVENT
DTSTART;TZID=Europe/Lisbon:20270506T093000
DTEND;TZID=Europe/Lisbon:20270506T123000
DTSTAMP:20260420T233551
CREATED:20250708T135609Z
LAST-MODIFIED:20260306T201047Z
UID:10030471-1809595800-1809606600@www.collectivefitness.pt
SUMMARY:Open Gym
DESCRIPTION:TRY IT NOW
URL:https://www.collectivefitness.pt/event/open-gym-7/2027-05-06/
LOCATION:The Collective Fitness\, R. Prof. Sousa da Câmara 128 Loja C\, Lisboa\, Lisboa\, 1070-217\, Portugal
CATEGORIES:Open Gym
END:VEVENT
BEGIN:VEVENT
DTSTART;TZID=Europe/Lisbon:20270506T143000
DTEND;TZID=Europe/Lisbon:20270506T173000
DTSTAMP:20260420T233551
CREATED:20250708T135857Z
LAST-MODIFIED:20250708T211359Z
UID:10017935-1809613800-1809624600@www.collectivefitness.pt
SUMMARY:Open Gym
DESCRIPTION:TRY IT NOW
URL:https://www.collectivefitness.pt/event/open-gym-8/2027-05-06/
LOCATION:The Collective Fitness\, R. Prof. Sousa da Câmara 128 Loja C\, Lisboa\, Lisboa\, 1070-217\, Portugal
CATEGORIES:Open Gym
END:VEVENT
END:VCALENDAR