BEGIN:VCALENDAR
VERSION:2.0
PRODID:-//The collective fitness - ECPv6.15.16//NONSGML v1.0//EN
CALSCALE:GREGORIAN
METHOD:PUBLISH
X-ORIGINAL-URL:https://www.collectivefitness.pt
X-WR-CALDESC:Events for The collective fitness
REFRESH-INTERVAL;VALUE=DURATION:PT1H
X-Robots-Tag:noindex
X-PUBLISHED-TTL:PT1H
BEGIN:VTIMEZONE
TZID:Europe/Lisbon
BEGIN:DAYLIGHT
TZOFFSETFROM:+0000
TZOFFSETTO:+0100
TZNAME:WEST
DTSTART:20260329T010000
END:DAYLIGHT
BEGIN:STANDARD
TZOFFSETFROM:+0100
TZOFFSETTO:+0000
TZNAME:WET
DTSTART:20261025T010000
END:STANDARD
BEGIN:DAYLIGHT
TZOFFSETFROM:+0000
TZOFFSETTO:+0100
TZNAME:WEST
DTSTART:20270328T010000
END:DAYLIGHT
BEGIN:STANDARD
TZOFFSETFROM:+0100
TZOFFSETTO:+0000
TZNAME:WET
DTSTART:20271031T010000
END:STANDARD
BEGIN:DAYLIGHT
TZOFFSETFROM:+0000
TZOFFSETTO:+0100
TZNAME:WEST
DTSTART:20280326T010000
END:DAYLIGHT
BEGIN:STANDARD
TZOFFSETFROM:+0100
TZOFFSETTO:+0000
TZNAME:WET
DTSTART:20281029T010000
END:STANDARD
END:VTIMEZONE
BEGIN:VEVENT
DTSTART;TZID=Europe/Lisbon:20270323T084500
DTEND;TZID=Europe/Lisbon:20270323T123000
DTSTAMP:20260420T173658
CREATED:20250708T132212Z
LAST-MODIFIED:20250708T211822Z
UID:10006394-1805791500-1805805000@www.collectivefitness.pt
SUMMARY:Open Gym
DESCRIPTION:TRY IT NOW
URL:https://www.collectivefitness.pt/event/open-gym/2027-03-23/
LOCATION:The Collective Fitness\, R. Prof. Sousa da Câmara 128 Loja C\, Lisboa\, Lisboa\, 1070-217\, Portugal
CATEGORIES:Open Gym
END:VEVENT
BEGIN:VEVENT
DTSTART;TZID=Europe/Lisbon:20270323T143000
DTEND;TZID=Europe/Lisbon:20270323T173000
DTSTAMP:20260420T173658
CREATED:20250708T133029Z
LAST-MODIFIED:20250708T211747Z
UID:10007968-1805812200-1805823000@www.collectivefitness.pt
SUMMARY:Open Gym
DESCRIPTION:TRY IT NOW
URL:https://www.collectivefitness.pt/event/open-gym-4/2027-03-23/
LOCATION:The Collective Fitness\, R. Prof. Sousa da Câmara 128 Loja C\, Lisboa\, Lisboa\, 1070-217\, Portugal
CATEGORIES:Open Gym
END:VEVENT
BEGIN:VEVENT
DTSTART;TZID=Europe/Lisbon:20270324T100000
DTEND;TZID=Europe/Lisbon:20270324T123000
DTSTAMP:20260420T173658
CREATED:20250708T134807Z
LAST-MODIFIED:20250708T211701Z
UID:10011641-1805882400-1805891400@www.collectivefitness.pt
SUMMARY:Open Gym
DESCRIPTION:TRY IT NOW
URL:https://www.collectivefitness.pt/event/open-gym-5/2027-03-24/
LOCATION:The Collective Fitness\, R. Prof. Sousa da Câmara 128 Loja C\, Lisboa\, Lisboa\, 1070-217\, Portugal
CATEGORIES:Open Gym
END:VEVENT
BEGIN:VEVENT
DTSTART;TZID=Europe/Lisbon:20270324T143000
DTEND;TZID=Europe/Lisbon:20270324T173000
DTSTAMP:20260420T173658
CREATED:20250708T135057Z
LAST-MODIFIED:20250708T211612Z
UID:10013213-1805898600-1805909400@www.collectivefitness.pt
SUMMARY:Open Gym
DESCRIPTION:TRY IT NOW
URL:https://www.collectivefitness.pt/event/open-gym-6/2027-03-24/
LOCATION:The Collective Fitness\, R. Prof. Sousa da Câmara 128 Loja C\, Lisboa\, Lisboa\, 1070-217\, Portugal
CATEGORIES:Open Gym
END:VEVENT
BEGIN:VEVENT
DTSTART;TZID=Europe/Lisbon:20270325T093000
DTEND;TZID=Europe/Lisbon:20270325T123000
DTSTAMP:20260420T173658
CREATED:20250708T135609Z
LAST-MODIFIED:20260306T201047Z
UID:10030465-1805967000-1805977800@www.collectivefitness.pt
SUMMARY:Open Gym
DESCRIPTION:TRY IT NOW
URL:https://www.collectivefitness.pt/event/open-gym-7/2027-03-25/
LOCATION:The Collective Fitness\, R. Prof. Sousa da Câmara 128 Loja C\, Lisboa\, Lisboa\, 1070-217\, Portugal
CATEGORIES:Open Gym
END:VEVENT
BEGIN:VEVENT
DTSTART;TZID=Europe/Lisbon:20270325T143000
DTEND;TZID=Europe/Lisbon:20270325T173000
DTSTAMP:20260420T173658
CREATED:20250708T135857Z
LAST-MODIFIED:20250708T211359Z
UID:10017929-1805985000-1805995800@www.collectivefitness.pt
SUMMARY:Open Gym
DESCRIPTION:TRY IT NOW
URL:https://www.collectivefitness.pt/event/open-gym-8/2027-03-25/
LOCATION:The Collective Fitness\, R. Prof. Sousa da Câmara 128 Loja C\, Lisboa\, Lisboa\, 1070-217\, Portugal
CATEGORIES:Open Gym
END:VEVENT
BEGIN:VEVENT
DTSTART;TZID=Europe/Lisbon:20270326T104500
DTEND;TZID=Europe/Lisbon:20270326T123000
DTSTAMP:20260420T173658
CREATED:20250708T173449Z
LAST-MODIFIED:20260306T200930Z
UID:10031057-1806057900-1806064200@www.collectivefitness.pt
SUMMARY:Open Gym
DESCRIPTION:TRY IT NOW
URL:https://www.collectivefitness.pt/event/open-gym-9/2027-03-26/
LOCATION:The Collective Fitness\, R. Prof. Sousa da Câmara 128 Loja C\, Lisboa\, Lisboa\, 1070-217\, Portugal
CATEGORIES:Open Gym
END:VEVENT
BEGIN:VEVENT
DTSTART;TZID=Europe/Lisbon:20270326T143000
DTEND;TZID=Europe/Lisbon:20270326T173000
DTSTAMP:20260420T173658
CREATED:20250708T173610Z
LAST-MODIFIED:20250708T210749Z
UID:10023692-1806071400-1806082200@www.collectivefitness.pt
SUMMARY:Open Gym
DESCRIPTION:TRY IT NOW
URL:https://www.collectivefitness.pt/event/open-gym-10/2027-03-26/
LOCATION:The Collective Fitness\, R. Prof. Sousa da Câmara 128 Loja C\, Lisboa\, Lisboa\, 1070-217\, Portugal
CATEGORIES:Open Gym
END:VEVENT
BEGIN:VEVENT
DTSTART;TZID=Europe/Lisbon:20270327T123000
DTEND;TZID=Europe/Lisbon:20270327T143000
DTSTAMP:20260420T173658
CREATED:20250708T181609Z
LAST-MODIFIED:20250708T210709Z
UID:10027626-1806150600-1806157800@www.collectivefitness.pt
SUMMARY:Open Gym
DESCRIPTION:TRY IT NOW
URL:https://www.collectivefitness.pt/event/open-gym-11/2027-03-27/
LOCATION:The Collective Fitness\, R. Prof. Sousa da Câmara 128 Loja C\, Lisboa\, Lisboa\, 1070-217\, Portugal
CATEGORIES:Open Gym
END:VEVENT
BEGIN:VEVENT
DTSTART;TZID=Europe/Lisbon:20270328T090000
DTEND;TZID=Europe/Lisbon:20270328T143000
DTSTAMP:20260420T173658
CREATED:20250708T181713Z
LAST-MODIFIED:20250708T210549Z
UID:10028150-1806224400-1806244200@www.collectivefitness.pt
SUMMARY:Open Gym
DESCRIPTION:TRY IT NOW
URL:https://www.collectivefitness.pt/event/open-gym-12/2027-03-28/
LOCATION:The Collective Fitness\, R. Prof. Sousa da Câmara 128 Loja C\, Lisboa\, Lisboa\, 1070-217\, Portugal
CATEGORIES:Open Gym
END:VEVENT
BEGIN:VEVENT
DTSTART;TZID=Europe/Lisbon:20270329T104500
DTEND;TZID=Europe/Lisbon:20270329T123000
DTSTAMP:20260420T173658
CREATED:20250708T094513Z
LAST-MODIFIED:20260306T200400Z
UID:10030169-1806317100-1806323400@www.collectivefitness.pt
SUMMARY:Open Gym
DESCRIPTION:TRY IT NOW
URL:https://www.collectivefitness.pt/event/open-gym-3/2027-03-29/
LOCATION:The Collective Fitness\, R. Prof. Sousa da Câmara 128 Loja C\, Lisboa\, Lisboa\, 1070-217\, Portugal
CATEGORIES:Open Gym
END:VEVENT
BEGIN:VEVENT
DTSTART;TZID=Europe/Lisbon:20270329T143000
DTEND;TZID=Europe/Lisbon:20270329T173000
DTSTAMP:20260420T173658
CREATED:20250708T093507Z
LAST-MODIFIED:20250708T211954Z
UID:10004557-1806330600-1806341400@www.collectivefitness.pt
SUMMARY:Open Gym
DESCRIPTION:TRY IT NOW
URL:https://www.collectivefitness.pt/event/open-gym-2/2027-03-29/
LOCATION:The Collective Fitness\, R. Prof. Sousa da Câmara 128 Loja C\, Lisboa\, Lisboa\, 1070-217\, Portugal
CATEGORIES:Open Gym
END:VEVENT
BEGIN:VEVENT
DTSTART;TZID=Europe/Lisbon:20270330T084500
DTEND;TZID=Europe/Lisbon:20270330T123000
DTSTAMP:20260420T173658
CREATED:20250708T132212Z
LAST-MODIFIED:20250708T211822Z
UID:10006395-1806396300-1806409800@www.collectivefitness.pt
SUMMARY:Open Gym
DESCRIPTION:TRY IT NOW
URL:https://www.collectivefitness.pt/event/open-gym/2027-03-30/
LOCATION:The Collective Fitness\, R. Prof. Sousa da Câmara 128 Loja C\, Lisboa\, Lisboa\, 1070-217\, Portugal
CATEGORIES:Open Gym
END:VEVENT
BEGIN:VEVENT
DTSTART;TZID=Europe/Lisbon:20270330T143000
DTEND;TZID=Europe/Lisbon:20270330T173000
DTSTAMP:20260420T173658
CREATED:20250708T133029Z
LAST-MODIFIED:20250708T211747Z
UID:10007969-1806417000-1806427800@www.collectivefitness.pt
SUMMARY:Open Gym
DESCRIPTION:TRY IT NOW
URL:https://www.collectivefitness.pt/event/open-gym-4/2027-03-30/
LOCATION:The Collective Fitness\, R. Prof. Sousa da Câmara 128 Loja C\, Lisboa\, Lisboa\, 1070-217\, Portugal
CATEGORIES:Open Gym
END:VEVENT
BEGIN:VEVENT
DTSTART;TZID=Europe/Lisbon:20270331T100000
DTEND;TZID=Europe/Lisbon:20270331T123000
DTSTAMP:20260420T173658
CREATED:20250708T134807Z
LAST-MODIFIED:20250708T211701Z
UID:10011642-1806487200-1806496200@www.collectivefitness.pt
SUMMARY:Open Gym
DESCRIPTION:TRY IT NOW
URL:https://www.collectivefitness.pt/event/open-gym-5/2027-03-31/
LOCATION:The Collective Fitness\, R. Prof. Sousa da Câmara 128 Loja C\, Lisboa\, Lisboa\, 1070-217\, Portugal
CATEGORIES:Open Gym
END:VEVENT
BEGIN:VEVENT
DTSTART;TZID=Europe/Lisbon:20270331T143000
DTEND;TZID=Europe/Lisbon:20270331T173000
DTSTAMP:20260420T173658
CREATED:20250708T135057Z
LAST-MODIFIED:20250708T211612Z
UID:10013214-1806503400-1806514200@www.collectivefitness.pt
SUMMARY:Open Gym
DESCRIPTION:TRY IT NOW
URL:https://www.collectivefitness.pt/event/open-gym-6/2027-03-31/
LOCATION:The Collective Fitness\, R. Prof. Sousa da Câmara 128 Loja C\, Lisboa\, Lisboa\, 1070-217\, Portugal
CATEGORIES:Open Gym
END:VEVENT
BEGIN:VEVENT
DTSTART;TZID=Europe/Lisbon:20270401T093000
DTEND;TZID=Europe/Lisbon:20270401T123000
DTSTAMP:20260420T173658
CREATED:20250708T135609Z
LAST-MODIFIED:20260306T201047Z
UID:10030466-1806571800-1806582600@www.collectivefitness.pt
SUMMARY:Open Gym
DESCRIPTION:TRY IT NOW
URL:https://www.collectivefitness.pt/event/open-gym-7/2027-04-01/
LOCATION:The Collective Fitness\, R. Prof. Sousa da Câmara 128 Loja C\, Lisboa\, Lisboa\, 1070-217\, Portugal
CATEGORIES:Open Gym
END:VEVENT
BEGIN:VEVENT
DTSTART;TZID=Europe/Lisbon:20270401T143000
DTEND;TZID=Europe/Lisbon:20270401T173000
DTSTAMP:20260420T173658
CREATED:20250708T135857Z
LAST-MODIFIED:20250708T211359Z
UID:10017930-1806589800-1806600600@www.collectivefitness.pt
SUMMARY:Open Gym
DESCRIPTION:TRY IT NOW
URL:https://www.collectivefitness.pt/event/open-gym-8/2027-04-01/
LOCATION:The Collective Fitness\, R. Prof. Sousa da Câmara 128 Loja C\, Lisboa\, Lisboa\, 1070-217\, Portugal
CATEGORIES:Open Gym
END:VEVENT
BEGIN:VEVENT
DTSTART;TZID=Europe/Lisbon:20270402T104500
DTEND;TZID=Europe/Lisbon:20270402T123000
DTSTAMP:20260420T173658
CREATED:20250708T173449Z
LAST-MODIFIED:20260306T200930Z
UID:10031058-1806662700-1806669000@www.collectivefitness.pt
SUMMARY:Open Gym
DESCRIPTION:TRY IT NOW
URL:https://www.collectivefitness.pt/event/open-gym-9/2027-04-02/
LOCATION:The Collective Fitness\, R. Prof. Sousa da Câmara 128 Loja C\, Lisboa\, Lisboa\, 1070-217\, Portugal
CATEGORIES:Open Gym
END:VEVENT
BEGIN:VEVENT
DTSTART;TZID=Europe/Lisbon:20270402T143000
DTEND;TZID=Europe/Lisbon:20270402T173000
DTSTAMP:20260420T173658
CREATED:20250708T173610Z
LAST-MODIFIED:20250708T210749Z
UID:10023693-1806676200-1806687000@www.collectivefitness.pt
SUMMARY:Open Gym
DESCRIPTION:TRY IT NOW
URL:https://www.collectivefitness.pt/event/open-gym-10/2027-04-02/
LOCATION:The Collective Fitness\, R. Prof. Sousa da Câmara 128 Loja C\, Lisboa\, Lisboa\, 1070-217\, Portugal
CATEGORIES:Open Gym
END:VEVENT
BEGIN:VEVENT
DTSTART;TZID=Europe/Lisbon:20270403T123000
DTEND;TZID=Europe/Lisbon:20270403T143000
DTSTAMP:20260420T173658
CREATED:20250708T181609Z
LAST-MODIFIED:20250708T210709Z
UID:10027627-1806755400-1806762600@www.collectivefitness.pt
SUMMARY:Open Gym
DESCRIPTION:TRY IT NOW
URL:https://www.collectivefitness.pt/event/open-gym-11/2027-04-03/
LOCATION:The Collective Fitness\, R. Prof. Sousa da Câmara 128 Loja C\, Lisboa\, Lisboa\, 1070-217\, Portugal
CATEGORIES:Open Gym
END:VEVENT
BEGIN:VEVENT
DTSTART;TZID=Europe/Lisbon:20270404T090000
DTEND;TZID=Europe/Lisbon:20270404T143000
DTSTAMP:20260420T173658
CREATED:20250708T181713Z
LAST-MODIFIED:20250708T210549Z
UID:10028151-1806829200-1806849000@www.collectivefitness.pt
SUMMARY:Open Gym
DESCRIPTION:TRY IT NOW
URL:https://www.collectivefitness.pt/event/open-gym-12/2027-04-04/
LOCATION:The Collective Fitness\, R. Prof. Sousa da Câmara 128 Loja C\, Lisboa\, Lisboa\, 1070-217\, Portugal
CATEGORIES:Open Gym
END:VEVENT
BEGIN:VEVENT
DTSTART;TZID=Europe/Lisbon:20270405T104500
DTEND;TZID=Europe/Lisbon:20270405T123000
DTSTAMP:20260420T173658
CREATED:20250708T094513Z
LAST-MODIFIED:20260306T200400Z
UID:10030170-1806921900-1806928200@www.collectivefitness.pt
SUMMARY:Open Gym
DESCRIPTION:TRY IT NOW
URL:https://www.collectivefitness.pt/event/open-gym-3/2027-04-05/
LOCATION:The Collective Fitness\, R. Prof. Sousa da Câmara 128 Loja C\, Lisboa\, Lisboa\, 1070-217\, Portugal
CATEGORIES:Open Gym
END:VEVENT
BEGIN:VEVENT
DTSTART;TZID=Europe/Lisbon:20270405T143000
DTEND;TZID=Europe/Lisbon:20270405T173000
DTSTAMP:20260420T173658
CREATED:20250708T093507Z
LAST-MODIFIED:20250708T211954Z
UID:10004558-1806935400-1806946200@www.collectivefitness.pt
SUMMARY:Open Gym
DESCRIPTION:TRY IT NOW
URL:https://www.collectivefitness.pt/event/open-gym-2/2027-04-05/
LOCATION:The Collective Fitness\, R. Prof. Sousa da Câmara 128 Loja C\, Lisboa\, Lisboa\, 1070-217\, Portugal
CATEGORIES:Open Gym
END:VEVENT
BEGIN:VEVENT
DTSTART;TZID=Europe/Lisbon:20270406T084500
DTEND;TZID=Europe/Lisbon:20270406T123000
DTSTAMP:20260420T173658
CREATED:20250708T132212Z
LAST-MODIFIED:20250708T211822Z
UID:10006396-1807001100-1807014600@www.collectivefitness.pt
SUMMARY:Open Gym
DESCRIPTION:TRY IT NOW
URL:https://www.collectivefitness.pt/event/open-gym/2027-04-06/
LOCATION:The Collective Fitness\, R. Prof. Sousa da Câmara 128 Loja C\, Lisboa\, Lisboa\, 1070-217\, Portugal
CATEGORIES:Open Gym
END:VEVENT
BEGIN:VEVENT
DTSTART;TZID=Europe/Lisbon:20270406T143000
DTEND;TZID=Europe/Lisbon:20270406T173000
DTSTAMP:20260420T173658
CREATED:20250708T133029Z
LAST-MODIFIED:20250708T211747Z
UID:10007970-1807021800-1807032600@www.collectivefitness.pt
SUMMARY:Open Gym
DESCRIPTION:TRY IT NOW
URL:https://www.collectivefitness.pt/event/open-gym-4/2027-04-06/
LOCATION:The Collective Fitness\, R. Prof. Sousa da Câmara 128 Loja C\, Lisboa\, Lisboa\, 1070-217\, Portugal
CATEGORIES:Open Gym
END:VEVENT
BEGIN:VEVENT
DTSTART;TZID=Europe/Lisbon:20270407T100000
DTEND;TZID=Europe/Lisbon:20270407T123000
DTSTAMP:20260420T173658
CREATED:20250708T134807Z
LAST-MODIFIED:20250708T211701Z
UID:10011643-1807092000-1807101000@www.collectivefitness.pt
SUMMARY:Open Gym
DESCRIPTION:TRY IT NOW
URL:https://www.collectivefitness.pt/event/open-gym-5/2027-04-07/
LOCATION:The Collective Fitness\, R. Prof. Sousa da Câmara 128 Loja C\, Lisboa\, Lisboa\, 1070-217\, Portugal
CATEGORIES:Open Gym
END:VEVENT
BEGIN:VEVENT
DTSTART;TZID=Europe/Lisbon:20270407T143000
DTEND;TZID=Europe/Lisbon:20270407T173000
DTSTAMP:20260420T173658
CREATED:20250708T135057Z
LAST-MODIFIED:20250708T211612Z
UID:10013215-1807108200-1807119000@www.collectivefitness.pt
SUMMARY:Open Gym
DESCRIPTION:TRY IT NOW
URL:https://www.collectivefitness.pt/event/open-gym-6/2027-04-07/
LOCATION:The Collective Fitness\, R. Prof. Sousa da Câmara 128 Loja C\, Lisboa\, Lisboa\, 1070-217\, Portugal
CATEGORIES:Open Gym
END:VEVENT
BEGIN:VEVENT
DTSTART;TZID=Europe/Lisbon:20270408T093000
DTEND;TZID=Europe/Lisbon:20270408T123000
DTSTAMP:20260420T173658
CREATED:20250708T135609Z
LAST-MODIFIED:20260306T201047Z
UID:10030467-1807176600-1807187400@www.collectivefitness.pt
SUMMARY:Open Gym
DESCRIPTION:TRY IT NOW
URL:https://www.collectivefitness.pt/event/open-gym-7/2027-04-08/
LOCATION:The Collective Fitness\, R. Prof. Sousa da Câmara 128 Loja C\, Lisboa\, Lisboa\, 1070-217\, Portugal
CATEGORIES:Open Gym
END:VEVENT
BEGIN:VEVENT
DTSTART;TZID=Europe/Lisbon:20270408T143000
DTEND;TZID=Europe/Lisbon:20270408T173000
DTSTAMP:20260420T173658
CREATED:20250708T135857Z
LAST-MODIFIED:20250708T211359Z
UID:10017931-1807194600-1807205400@www.collectivefitness.pt
SUMMARY:Open Gym
DESCRIPTION:TRY IT NOW
URL:https://www.collectivefitness.pt/event/open-gym-8/2027-04-08/
LOCATION:The Collective Fitness\, R. Prof. Sousa da Câmara 128 Loja C\, Lisboa\, Lisboa\, 1070-217\, Portugal
CATEGORIES:Open Gym
END:VEVENT
END:VCALENDAR