BEGIN:VCALENDAR
VERSION:2.0
PRODID:-//The collective fitness - ECPv6.15.16//NONSGML v1.0//EN
CALSCALE:GREGORIAN
METHOD:PUBLISH
X-WR-CALNAME:The collective fitness
X-ORIGINAL-URL:https://www.collectivefitness.pt
X-WR-CALDESC:Events for The collective fitness
REFRESH-INTERVAL;VALUE=DURATION:PT1H
X-Robots-Tag:noindex
X-PUBLISHED-TTL:PT1H
BEGIN:VTIMEZONE
TZID:Europe/Lisbon
BEGIN:DAYLIGHT
TZOFFSETFROM:+0000
TZOFFSETTO:+0100
TZNAME:WEST
DTSTART:20250330T010000
END:DAYLIGHT
BEGIN:STANDARD
TZOFFSETFROM:+0100
TZOFFSETTO:+0000
TZNAME:WET
DTSTART:20251026T010000
END:STANDARD
BEGIN:DAYLIGHT
TZOFFSETFROM:+0000
TZOFFSETTO:+0100
TZNAME:WEST
DTSTART:20260329T010000
END:DAYLIGHT
BEGIN:STANDARD
TZOFFSETFROM:+0100
TZOFFSETTO:+0000
TZNAME:WET
DTSTART:20261025T010000
END:STANDARD
BEGIN:DAYLIGHT
TZOFFSETFROM:+0000
TZOFFSETTO:+0100
TZNAME:WEST
DTSTART:20270328T010000
END:DAYLIGHT
BEGIN:STANDARD
TZOFFSETFROM:+0100
TZOFFSETTO:+0000
TZNAME:WET
DTSTART:20271031T010000
END:STANDARD
END:VTIMEZONE
BEGIN:VEVENT
DTSTART;TZID=Europe/Lisbon:20261122T090000
DTEND;TZID=Europe/Lisbon:20261122T143000
DTSTAMP:20260419T140319
CREATED:20250708T181713Z
LAST-MODIFIED:20250708T210549Z
UID:10028132-1795338000-1795357800@www.collectivefitness.pt
SUMMARY:Open Gym
DESCRIPTION:TRY IT NOW
URL:https://www.collectivefitness.pt/event/open-gym-12/2026-11-22/
LOCATION:The Collective Fitness\, R. Prof. Sousa da Câmara 128 Loja C\, Lisboa\, Lisboa\, 1070-217\, Portugal
CATEGORIES:Open Gym
END:VEVENT
BEGIN:VEVENT
DTSTART;TZID=Europe/Lisbon:20261123T104500
DTEND;TZID=Europe/Lisbon:20261123T123000
DTSTAMP:20260419T140319
CREATED:20250708T094513Z
LAST-MODIFIED:20260306T200400Z
UID:10030151-1795430700-1795437000@www.collectivefitness.pt
SUMMARY:Open Gym
DESCRIPTION:TRY IT NOW
URL:https://www.collectivefitness.pt/event/open-gym-3/2026-11-23/
LOCATION:The Collective Fitness\, R. Prof. Sousa da Câmara 128 Loja C\, Lisboa\, Lisboa\, 1070-217\, Portugal
CATEGORIES:Open Gym
END:VEVENT
BEGIN:VEVENT
DTSTART;TZID=Europe/Lisbon:20261123T143000
DTEND;TZID=Europe/Lisbon:20261123T173000
DTSTAMP:20260419T140319
CREATED:20250708T093507Z
LAST-MODIFIED:20250708T211954Z
UID:10004539-1795444200-1795455000@www.collectivefitness.pt
SUMMARY:Open Gym
DESCRIPTION:TRY IT NOW
URL:https://www.collectivefitness.pt/event/open-gym-2/2026-11-23/
LOCATION:The Collective Fitness\, R. Prof. Sousa da Câmara 128 Loja C\, Lisboa\, Lisboa\, 1070-217\, Portugal
CATEGORIES:Open Gym
END:VEVENT
BEGIN:VEVENT
DTSTART;TZID=Europe/Lisbon:20261124T084500
DTEND;TZID=Europe/Lisbon:20261124T123000
DTSTAMP:20260419T140319
CREATED:20250708T132212Z
LAST-MODIFIED:20250708T211822Z
UID:10006377-1795509900-1795523400@www.collectivefitness.pt
SUMMARY:Open Gym
DESCRIPTION:TRY IT NOW
URL:https://www.collectivefitness.pt/event/open-gym/2026-11-24/
LOCATION:The Collective Fitness\, R. Prof. Sousa da Câmara 128 Loja C\, Lisboa\, Lisboa\, 1070-217\, Portugal
CATEGORIES:Open Gym
END:VEVENT
BEGIN:VEVENT
DTSTART;TZID=Europe/Lisbon:20261124T143000
DTEND;TZID=Europe/Lisbon:20261124T173000
DTSTAMP:20260419T140319
CREATED:20250708T133029Z
LAST-MODIFIED:20250708T211747Z
UID:10007951-1795530600-1795541400@www.collectivefitness.pt
SUMMARY:Open Gym
DESCRIPTION:TRY IT NOW
URL:https://www.collectivefitness.pt/event/open-gym-4/2026-11-24/
LOCATION:The Collective Fitness\, R. Prof. Sousa da Câmara 128 Loja C\, Lisboa\, Lisboa\, 1070-217\, Portugal
CATEGORIES:Open Gym
END:VEVENT
BEGIN:VEVENT
DTSTART;TZID=Europe/Lisbon:20261125T100000
DTEND;TZID=Europe/Lisbon:20261125T123000
DTSTAMP:20260419T140319
CREATED:20250708T134807Z
LAST-MODIFIED:20250708T211701Z
UID:10011624-1795600800-1795609800@www.collectivefitness.pt
SUMMARY:Open Gym
DESCRIPTION:TRY IT NOW
URL:https://www.collectivefitness.pt/event/open-gym-5/2026-11-25/
LOCATION:The Collective Fitness\, R. Prof. Sousa da Câmara 128 Loja C\, Lisboa\, Lisboa\, 1070-217\, Portugal
CATEGORIES:Open Gym
END:VEVENT
BEGIN:VEVENT
DTSTART;TZID=Europe/Lisbon:20261125T143000
DTEND;TZID=Europe/Lisbon:20261125T173000
DTSTAMP:20260419T140319
CREATED:20250708T135057Z
LAST-MODIFIED:20250708T211612Z
UID:10013196-1795617000-1795627800@www.collectivefitness.pt
SUMMARY:Open Gym
DESCRIPTION:TRY IT NOW
URL:https://www.collectivefitness.pt/event/open-gym-6/2026-11-25/
LOCATION:The Collective Fitness\, R. Prof. Sousa da Câmara 128 Loja C\, Lisboa\, Lisboa\, 1070-217\, Portugal
CATEGORIES:Open Gym
END:VEVENT
BEGIN:VEVENT
DTSTART;TZID=Europe/Lisbon:20261126T093000
DTEND;TZID=Europe/Lisbon:20261126T123000
DTSTAMP:20260419T140319
CREATED:20250708T135609Z
LAST-MODIFIED:20260306T201047Z
UID:10030448-1795685400-1795696200@www.collectivefitness.pt
SUMMARY:Open Gym
DESCRIPTION:TRY IT NOW
URL:https://www.collectivefitness.pt/event/open-gym-7/2026-11-26/
LOCATION:The Collective Fitness\, R. Prof. Sousa da Câmara 128 Loja C\, Lisboa\, Lisboa\, 1070-217\, Portugal
CATEGORIES:Open Gym
END:VEVENT
BEGIN:VEVENT
DTSTART;TZID=Europe/Lisbon:20261126T143000
DTEND;TZID=Europe/Lisbon:20261126T173000
DTSTAMP:20260419T140319
CREATED:20250708T135857Z
LAST-MODIFIED:20250708T211359Z
UID:10017912-1795703400-1795714200@www.collectivefitness.pt
SUMMARY:Open Gym
DESCRIPTION:TRY IT NOW
URL:https://www.collectivefitness.pt/event/open-gym-8/2026-11-26/
LOCATION:The Collective Fitness\, R. Prof. Sousa da Câmara 128 Loja C\, Lisboa\, Lisboa\, 1070-217\, Portugal
CATEGORIES:Open Gym
END:VEVENT
BEGIN:VEVENT
DTSTART;TZID=Europe/Lisbon:20261127T104500
DTEND;TZID=Europe/Lisbon:20261127T123000
DTSTAMP:20260419T140319
CREATED:20250708T173449Z
LAST-MODIFIED:20260306T200930Z
UID:10031040-1795776300-1795782600@www.collectivefitness.pt
SUMMARY:Open Gym
DESCRIPTION:TRY IT NOW
URL:https://www.collectivefitness.pt/event/open-gym-9/2026-11-27/
LOCATION:The Collective Fitness\, R. Prof. Sousa da Câmara 128 Loja C\, Lisboa\, Lisboa\, 1070-217\, Portugal
CATEGORIES:Open Gym
END:VEVENT
BEGIN:VEVENT
DTSTART;TZID=Europe/Lisbon:20261127T143000
DTEND;TZID=Europe/Lisbon:20261127T173000
DTSTAMP:20260419T140319
CREATED:20250708T173610Z
LAST-MODIFIED:20250708T210749Z
UID:10023675-1795789800-1795800600@www.collectivefitness.pt
SUMMARY:Open Gym
DESCRIPTION:TRY IT NOW
URL:https://www.collectivefitness.pt/event/open-gym-10/2026-11-27/
LOCATION:The Collective Fitness\, R. Prof. Sousa da Câmara 128 Loja C\, Lisboa\, Lisboa\, 1070-217\, Portugal
CATEGORIES:Open Gym
END:VEVENT
BEGIN:VEVENT
DTSTART;TZID=Europe/Lisbon:20261128T123000
DTEND;TZID=Europe/Lisbon:20261128T143000
DTSTAMP:20260419T140319
CREATED:20250708T181609Z
LAST-MODIFIED:20250708T210709Z
UID:10027609-1795869000-1795876200@www.collectivefitness.pt
SUMMARY:Open Gym
DESCRIPTION:TRY IT NOW
URL:https://www.collectivefitness.pt/event/open-gym-11/2026-11-28/
LOCATION:The Collective Fitness\, R. Prof. Sousa da Câmara 128 Loja C\, Lisboa\, Lisboa\, 1070-217\, Portugal
CATEGORIES:Open Gym
END:VEVENT
BEGIN:VEVENT
DTSTART;TZID=Europe/Lisbon:20261129T090000
DTEND;TZID=Europe/Lisbon:20261129T143000
DTSTAMP:20260419T140319
CREATED:20250708T181713Z
LAST-MODIFIED:20250708T210549Z
UID:10028133-1795942800-1795962600@www.collectivefitness.pt
SUMMARY:Open Gym
DESCRIPTION:TRY IT NOW
URL:https://www.collectivefitness.pt/event/open-gym-12/2026-11-29/
LOCATION:The Collective Fitness\, R. Prof. Sousa da Câmara 128 Loja C\, Lisboa\, Lisboa\, 1070-217\, Portugal
CATEGORIES:Open Gym
END:VEVENT
BEGIN:VEVENT
DTSTART;TZID=Europe/Lisbon:20261130T104500
DTEND;TZID=Europe/Lisbon:20261130T123000
DTSTAMP:20260419T140319
CREATED:20250708T094513Z
LAST-MODIFIED:20260306T200400Z
UID:10030152-1796035500-1796041800@www.collectivefitness.pt
SUMMARY:Open Gym
DESCRIPTION:TRY IT NOW
URL:https://www.collectivefitness.pt/event/open-gym-3/2026-11-30/
LOCATION:The Collective Fitness\, R. Prof. Sousa da Câmara 128 Loja C\, Lisboa\, Lisboa\, 1070-217\, Portugal
CATEGORIES:Open Gym
END:VEVENT
BEGIN:VEVENT
DTSTART;TZID=Europe/Lisbon:20261130T143000
DTEND;TZID=Europe/Lisbon:20261130T173000
DTSTAMP:20260419T140319
CREATED:20250708T093507Z
LAST-MODIFIED:20250708T211954Z
UID:10004540-1796049000-1796059800@www.collectivefitness.pt
SUMMARY:Open Gym
DESCRIPTION:TRY IT NOW
URL:https://www.collectivefitness.pt/event/open-gym-2/2026-11-30/
LOCATION:The Collective Fitness\, R. Prof. Sousa da Câmara 128 Loja C\, Lisboa\, Lisboa\, 1070-217\, Portugal
CATEGORIES:Open Gym
END:VEVENT
BEGIN:VEVENT
DTSTART;TZID=Europe/Lisbon:20261201T084500
DTEND;TZID=Europe/Lisbon:20261201T123000
DTSTAMP:20260419T140319
CREATED:20250708T132212Z
LAST-MODIFIED:20250708T211822Z
UID:10006378-1796114700-1796128200@www.collectivefitness.pt
SUMMARY:Open Gym
DESCRIPTION:TRY IT NOW
URL:https://www.collectivefitness.pt/event/open-gym/2026-12-01/
LOCATION:The Collective Fitness\, R. Prof. Sousa da Câmara 128 Loja C\, Lisboa\, Lisboa\, 1070-217\, Portugal
CATEGORIES:Open Gym
END:VEVENT
BEGIN:VEVENT
DTSTART;TZID=Europe/Lisbon:20261201T143000
DTEND;TZID=Europe/Lisbon:20261201T173000
DTSTAMP:20260419T140319
CREATED:20250708T133029Z
LAST-MODIFIED:20250708T211747Z
UID:10007952-1796135400-1796146200@www.collectivefitness.pt
SUMMARY:Open Gym
DESCRIPTION:TRY IT NOW
URL:https://www.collectivefitness.pt/event/open-gym-4/2026-12-01/
LOCATION:The Collective Fitness\, R. Prof. Sousa da Câmara 128 Loja C\, Lisboa\, Lisboa\, 1070-217\, Portugal
CATEGORIES:Open Gym
END:VEVENT
BEGIN:VEVENT
DTSTART;TZID=Europe/Lisbon:20261202T100000
DTEND;TZID=Europe/Lisbon:20261202T123000
DTSTAMP:20260419T140319
CREATED:20250708T134807Z
LAST-MODIFIED:20250708T211701Z
UID:10011625-1796205600-1796214600@www.collectivefitness.pt
SUMMARY:Open Gym
DESCRIPTION:TRY IT NOW
URL:https://www.collectivefitness.pt/event/open-gym-5/2026-12-02/
LOCATION:The Collective Fitness\, R. Prof. Sousa da Câmara 128 Loja C\, Lisboa\, Lisboa\, 1070-217\, Portugal
CATEGORIES:Open Gym
END:VEVENT
BEGIN:VEVENT
DTSTART;TZID=Europe/Lisbon:20261202T143000
DTEND;TZID=Europe/Lisbon:20261202T173000
DTSTAMP:20260419T140319
CREATED:20250708T135057Z
LAST-MODIFIED:20250708T211612Z
UID:10013197-1796221800-1796232600@www.collectivefitness.pt
SUMMARY:Open Gym
DESCRIPTION:TRY IT NOW
URL:https://www.collectivefitness.pt/event/open-gym-6/2026-12-02/
LOCATION:The Collective Fitness\, R. Prof. Sousa da Câmara 128 Loja C\, Lisboa\, Lisboa\, 1070-217\, Portugal
CATEGORIES:Open Gym
END:VEVENT
BEGIN:VEVENT
DTSTART;TZID=Europe/Lisbon:20261203T093000
DTEND;TZID=Europe/Lisbon:20261203T123000
DTSTAMP:20260419T140319
CREATED:20250708T135609Z
LAST-MODIFIED:20260306T201047Z
UID:10030449-1796290200-1796301000@www.collectivefitness.pt
SUMMARY:Open Gym
DESCRIPTION:TRY IT NOW
URL:https://www.collectivefitness.pt/event/open-gym-7/2026-12-03/
LOCATION:The Collective Fitness\, R. Prof. Sousa da Câmara 128 Loja C\, Lisboa\, Lisboa\, 1070-217\, Portugal
CATEGORIES:Open Gym
END:VEVENT
BEGIN:VEVENT
DTSTART;TZID=Europe/Lisbon:20261203T143000
DTEND;TZID=Europe/Lisbon:20261203T173000
DTSTAMP:20260419T140319
CREATED:20250708T135857Z
LAST-MODIFIED:20250708T211359Z
UID:10017913-1796308200-1796319000@www.collectivefitness.pt
SUMMARY:Open Gym
DESCRIPTION:TRY IT NOW
URL:https://www.collectivefitness.pt/event/open-gym-8/2026-12-03/
LOCATION:The Collective Fitness\, R. Prof. Sousa da Câmara 128 Loja C\, Lisboa\, Lisboa\, 1070-217\, Portugal
CATEGORIES:Open Gym
END:VEVENT
BEGIN:VEVENT
DTSTART;TZID=Europe/Lisbon:20261204T104500
DTEND;TZID=Europe/Lisbon:20261204T123000
DTSTAMP:20260419T140319
CREATED:20250708T173449Z
LAST-MODIFIED:20260306T200930Z
UID:10031041-1796381100-1796387400@www.collectivefitness.pt
SUMMARY:Open Gym
DESCRIPTION:TRY IT NOW
URL:https://www.collectivefitness.pt/event/open-gym-9/2026-12-04/
LOCATION:The Collective Fitness\, R. Prof. Sousa da Câmara 128 Loja C\, Lisboa\, Lisboa\, 1070-217\, Portugal
CATEGORIES:Open Gym
END:VEVENT
BEGIN:VEVENT
DTSTART;TZID=Europe/Lisbon:20261204T143000
DTEND;TZID=Europe/Lisbon:20261204T173000
DTSTAMP:20260419T140319
CREATED:20250708T173610Z
LAST-MODIFIED:20250708T210749Z
UID:10023676-1796394600-1796405400@www.collectivefitness.pt
SUMMARY:Open Gym
DESCRIPTION:TRY IT NOW
URL:https://www.collectivefitness.pt/event/open-gym-10/2026-12-04/
LOCATION:The Collective Fitness\, R. Prof. Sousa da Câmara 128 Loja C\, Lisboa\, Lisboa\, 1070-217\, Portugal
CATEGORIES:Open Gym
END:VEVENT
BEGIN:VEVENT
DTSTART;TZID=Europe/Lisbon:20261205T123000
DTEND;TZID=Europe/Lisbon:20261205T143000
DTSTAMP:20260419T140319
CREATED:20250708T181609Z
LAST-MODIFIED:20250708T210709Z
UID:10027610-1796473800-1796481000@www.collectivefitness.pt
SUMMARY:Open Gym
DESCRIPTION:TRY IT NOW
URL:https://www.collectivefitness.pt/event/open-gym-11/2026-12-05/
LOCATION:The Collective Fitness\, R. Prof. Sousa da Câmara 128 Loja C\, Lisboa\, Lisboa\, 1070-217\, Portugal
CATEGORIES:Open Gym
END:VEVENT
BEGIN:VEVENT
DTSTART;TZID=Europe/Lisbon:20261206T090000
DTEND;TZID=Europe/Lisbon:20261206T143000
DTSTAMP:20260419T140319
CREATED:20250708T181713Z
LAST-MODIFIED:20250708T210549Z
UID:10028134-1796547600-1796567400@www.collectivefitness.pt
SUMMARY:Open Gym
DESCRIPTION:TRY IT NOW
URL:https://www.collectivefitness.pt/event/open-gym-12/2026-12-06/
LOCATION:The Collective Fitness\, R. Prof. Sousa da Câmara 128 Loja C\, Lisboa\, Lisboa\, 1070-217\, Portugal
CATEGORIES:Open Gym
END:VEVENT
BEGIN:VEVENT
DTSTART;TZID=Europe/Lisbon:20261207T104500
DTEND;TZID=Europe/Lisbon:20261207T123000
DTSTAMP:20260419T140319
CREATED:20250708T094513Z
LAST-MODIFIED:20260306T200400Z
UID:10030153-1796640300-1796646600@www.collectivefitness.pt
SUMMARY:Open Gym
DESCRIPTION:TRY IT NOW
URL:https://www.collectivefitness.pt/event/open-gym-3/2026-12-07/
LOCATION:The Collective Fitness\, R. Prof. Sousa da Câmara 128 Loja C\, Lisboa\, Lisboa\, 1070-217\, Portugal
CATEGORIES:Open Gym
END:VEVENT
BEGIN:VEVENT
DTSTART;TZID=Europe/Lisbon:20261207T143000
DTEND;TZID=Europe/Lisbon:20261207T173000
DTSTAMP:20260419T140319
CREATED:20250708T093507Z
LAST-MODIFIED:20250708T211954Z
UID:10004541-1796653800-1796664600@www.collectivefitness.pt
SUMMARY:Open Gym
DESCRIPTION:TRY IT NOW
URL:https://www.collectivefitness.pt/event/open-gym-2/2026-12-07/
LOCATION:The Collective Fitness\, R. Prof. Sousa da Câmara 128 Loja C\, Lisboa\, Lisboa\, 1070-217\, Portugal
CATEGORIES:Open Gym
END:VEVENT
BEGIN:VEVENT
DTSTART;TZID=Europe/Lisbon:20261208T084500
DTEND;TZID=Europe/Lisbon:20261208T123000
DTSTAMP:20260419T140319
CREATED:20250708T132212Z
LAST-MODIFIED:20250708T211822Z
UID:10006379-1796719500-1796733000@www.collectivefitness.pt
SUMMARY:Open Gym
DESCRIPTION:TRY IT NOW
URL:https://www.collectivefitness.pt/event/open-gym/2026-12-08/
LOCATION:The Collective Fitness\, R. Prof. Sousa da Câmara 128 Loja C\, Lisboa\, Lisboa\, 1070-217\, Portugal
CATEGORIES:Open Gym
END:VEVENT
BEGIN:VEVENT
DTSTART;TZID=Europe/Lisbon:20261208T143000
DTEND;TZID=Europe/Lisbon:20261208T173000
DTSTAMP:20260419T140319
CREATED:20250708T133029Z
LAST-MODIFIED:20250708T211747Z
UID:10007953-1796740200-1796751000@www.collectivefitness.pt
SUMMARY:Open Gym
DESCRIPTION:TRY IT NOW
URL:https://www.collectivefitness.pt/event/open-gym-4/2026-12-08/
LOCATION:The Collective Fitness\, R. Prof. Sousa da Câmara 128 Loja C\, Lisboa\, Lisboa\, 1070-217\, Portugal
CATEGORIES:Open Gym
END:VEVENT
BEGIN:VEVENT
DTSTART;TZID=Europe/Lisbon:20261209T100000
DTEND;TZID=Europe/Lisbon:20261209T123000
DTSTAMP:20260419T140319
CREATED:20250708T134807Z
LAST-MODIFIED:20250708T211701Z
UID:10011626-1796810400-1796819400@www.collectivefitness.pt
SUMMARY:Open Gym
DESCRIPTION:TRY IT NOW
URL:https://www.collectivefitness.pt/event/open-gym-5/2026-12-09/
LOCATION:The Collective Fitness\, R. Prof. Sousa da Câmara 128 Loja C\, Lisboa\, Lisboa\, 1070-217\, Portugal
CATEGORIES:Open Gym
END:VEVENT
END:VCALENDAR