BEGIN:VCALENDAR
VERSION:2.0
PRODID:-//The collective fitness - ECPv6.15.16//NONSGML v1.0//EN
CALSCALE:GREGORIAN
METHOD:PUBLISH
X-WR-CALNAME:The collective fitness
X-ORIGINAL-URL:https://www.collectivefitness.pt
X-WR-CALDESC:Events for The collective fitness
REFRESH-INTERVAL;VALUE=DURATION:PT1H
X-Robots-Tag:noindex
X-PUBLISHED-TTL:PT1H
BEGIN:VTIMEZONE
TZID:Europe/Lisbon
BEGIN:DAYLIGHT
TZOFFSETFROM:+0000
TZOFFSETTO:+0100
TZNAME:WEST
DTSTART:20270328T010000
END:DAYLIGHT
BEGIN:STANDARD
TZOFFSETFROM:+0100
TZOFFSETTO:+0000
TZNAME:WET
DTSTART:20271031T010000
END:STANDARD
BEGIN:DAYLIGHT
TZOFFSETFROM:+0000
TZOFFSETTO:+0100
TZNAME:WEST
DTSTART:20280326T010000
END:DAYLIGHT
BEGIN:STANDARD
TZOFFSETFROM:+0100
TZOFFSETTO:+0000
TZNAME:WET
DTSTART:20281029T010000
END:STANDARD
BEGIN:DAYLIGHT
TZOFFSETFROM:+0000
TZOFFSETTO:+0100
TZNAME:WEST
DTSTART:20290325T010000
END:DAYLIGHT
BEGIN:STANDARD
TZOFFSETFROM:+0100
TZOFFSETTO:+0000
TZNAME:WET
DTSTART:20291028T010000
END:STANDARD
END:VTIMEZONE
BEGIN:VEVENT
DTSTART;TZID=Europe/Lisbon:20280924T090000
DTEND;TZID=Europe/Lisbon:20280924T143000
DTSTAMP:20260425T210803
CREATED:20250708T181713Z
LAST-MODIFIED:20250708T210549Z
UID:10028228-1853398800-1853418600@www.collectivefitness.pt
SUMMARY:Open Gym
DESCRIPTION:TRY IT NOW
URL:https://www.collectivefitness.pt/event/open-gym-12/2028-09-24/
LOCATION:The Collective Fitness\, R. Prof. Sousa da Câmara 128 Loja C\, Lisboa\, Lisboa\, 1070-217\, Portugal
CATEGORIES:Open Gym
END:VEVENT
BEGIN:VEVENT
DTSTART;TZID=Europe/Lisbon:20280925T104500
DTEND;TZID=Europe/Lisbon:20280925T123000
DTSTAMP:20260425T210803
CREATED:20250708T094513Z
LAST-MODIFIED:20260306T200400Z
UID:10030247-1853491500-1853497800@www.collectivefitness.pt
SUMMARY:Open Gym
DESCRIPTION:TRY IT NOW
URL:https://www.collectivefitness.pt/event/open-gym-3/2028-09-25/
LOCATION:The Collective Fitness\, R. Prof. Sousa da Câmara 128 Loja C\, Lisboa\, Lisboa\, 1070-217\, Portugal
CATEGORIES:Open Gym
END:VEVENT
BEGIN:VEVENT
DTSTART;TZID=Europe/Lisbon:20280925T143000
DTEND;TZID=Europe/Lisbon:20280925T173000
DTSTAMP:20260425T210803
CREATED:20250708T093507Z
LAST-MODIFIED:20250708T211954Z
UID:10004635-1853505000-1853515800@www.collectivefitness.pt
SUMMARY:Open Gym
DESCRIPTION:TRY IT NOW
URL:https://www.collectivefitness.pt/event/open-gym-2/2028-09-25/
LOCATION:The Collective Fitness\, R. Prof. Sousa da Câmara 128 Loja C\, Lisboa\, Lisboa\, 1070-217\, Portugal
CATEGORIES:Open Gym
END:VEVENT
BEGIN:VEVENT
DTSTART;TZID=Europe/Lisbon:20280926T084500
DTEND;TZID=Europe/Lisbon:20280926T123000
DTSTAMP:20260425T210803
CREATED:20250708T132212Z
LAST-MODIFIED:20250708T211822Z
UID:10006473-1853570700-1853584200@www.collectivefitness.pt
SUMMARY:Open Gym
DESCRIPTION:TRY IT NOW
URL:https://www.collectivefitness.pt/event/open-gym/2028-09-26/
LOCATION:The Collective Fitness\, R. Prof. Sousa da Câmara 128 Loja C\, Lisboa\, Lisboa\, 1070-217\, Portugal
CATEGORIES:Open Gym
END:VEVENT
BEGIN:VEVENT
DTSTART;TZID=Europe/Lisbon:20280926T143000
DTEND;TZID=Europe/Lisbon:20280926T173000
DTSTAMP:20260425T210803
CREATED:20250708T133029Z
LAST-MODIFIED:20250708T211747Z
UID:10008047-1853591400-1853602200@www.collectivefitness.pt
SUMMARY:Open Gym
DESCRIPTION:TRY IT NOW
URL:https://www.collectivefitness.pt/event/open-gym-4/2028-09-26/
LOCATION:The Collective Fitness\, R. Prof. Sousa da Câmara 128 Loja C\, Lisboa\, Lisboa\, 1070-217\, Portugal
CATEGORIES:Open Gym
END:VEVENT
BEGIN:VEVENT
DTSTART;TZID=Europe/Lisbon:20280927T100000
DTEND;TZID=Europe/Lisbon:20280927T123000
DTSTAMP:20260425T210803
CREATED:20250708T134807Z
LAST-MODIFIED:20250708T211701Z
UID:10011720-1853661600-1853670600@www.collectivefitness.pt
SUMMARY:Open Gym
DESCRIPTION:TRY IT NOW
URL:https://www.collectivefitness.pt/event/open-gym-5/2028-09-27/
LOCATION:The Collective Fitness\, R. Prof. Sousa da Câmara 128 Loja C\, Lisboa\, Lisboa\, 1070-217\, Portugal
CATEGORIES:Open Gym
END:VEVENT
BEGIN:VEVENT
DTSTART;TZID=Europe/Lisbon:20280927T143000
DTEND;TZID=Europe/Lisbon:20280927T173000
DTSTAMP:20260425T210803
CREATED:20250708T135057Z
LAST-MODIFIED:20250708T211612Z
UID:10013292-1853677800-1853688600@www.collectivefitness.pt
SUMMARY:Open Gym
DESCRIPTION:TRY IT NOW
URL:https://www.collectivefitness.pt/event/open-gym-6/2028-09-27/
LOCATION:The Collective Fitness\, R. Prof. Sousa da Câmara 128 Loja C\, Lisboa\, Lisboa\, 1070-217\, Portugal
CATEGORIES:Open Gym
END:VEVENT
BEGIN:VEVENT
DTSTART;TZID=Europe/Lisbon:20280928T093000
DTEND;TZID=Europe/Lisbon:20280928T123000
DTSTAMP:20260425T210803
CREATED:20250708T135609Z
LAST-MODIFIED:20260306T201047Z
UID:10030544-1853746200-1853757000@www.collectivefitness.pt
SUMMARY:Open Gym
DESCRIPTION:TRY IT NOW
URL:https://www.collectivefitness.pt/event/open-gym-7/2028-09-28/
LOCATION:The Collective Fitness\, R. Prof. Sousa da Câmara 128 Loja C\, Lisboa\, Lisboa\, 1070-217\, Portugal
CATEGORIES:Open Gym
END:VEVENT
BEGIN:VEVENT
DTSTART;TZID=Europe/Lisbon:20280928T143000
DTEND;TZID=Europe/Lisbon:20280928T173000
DTSTAMP:20260425T210803
CREATED:20250708T135857Z
LAST-MODIFIED:20250708T211359Z
UID:10018008-1853764200-1853775000@www.collectivefitness.pt
SUMMARY:Open Gym
DESCRIPTION:TRY IT NOW
URL:https://www.collectivefitness.pt/event/open-gym-8/2028-09-28/
LOCATION:The Collective Fitness\, R. Prof. Sousa da Câmara 128 Loja C\, Lisboa\, Lisboa\, 1070-217\, Portugal
CATEGORIES:Open Gym
END:VEVENT
BEGIN:VEVENT
DTSTART;TZID=Europe/Lisbon:20280929T104500
DTEND;TZID=Europe/Lisbon:20280929T123000
DTSTAMP:20260425T210803
CREATED:20250708T173449Z
LAST-MODIFIED:20260306T200930Z
UID:10031136-1853837100-1853843400@www.collectivefitness.pt
SUMMARY:Open Gym
DESCRIPTION:TRY IT NOW
URL:https://www.collectivefitness.pt/event/open-gym-9/2028-09-29/
LOCATION:The Collective Fitness\, R. Prof. Sousa da Câmara 128 Loja C\, Lisboa\, Lisboa\, 1070-217\, Portugal
CATEGORIES:Open Gym
END:VEVENT
BEGIN:VEVENT
DTSTART;TZID=Europe/Lisbon:20280929T143000
DTEND;TZID=Europe/Lisbon:20280929T173000
DTSTAMP:20260425T210803
CREATED:20250708T173610Z
LAST-MODIFIED:20250708T210749Z
UID:10023771-1853850600-1853861400@www.collectivefitness.pt
SUMMARY:Open Gym
DESCRIPTION:TRY IT NOW
URL:https://www.collectivefitness.pt/event/open-gym-10/2028-09-29/
LOCATION:The Collective Fitness\, R. Prof. Sousa da Câmara 128 Loja C\, Lisboa\, Lisboa\, 1070-217\, Portugal
CATEGORIES:Open Gym
END:VEVENT
BEGIN:VEVENT
DTSTART;TZID=Europe/Lisbon:20280930T123000
DTEND;TZID=Europe/Lisbon:20280930T143000
DTSTAMP:20260425T210803
CREATED:20250708T181609Z
LAST-MODIFIED:20250708T210709Z
UID:10027705-1853929800-1853937000@www.collectivefitness.pt
SUMMARY:Open Gym
DESCRIPTION:TRY IT NOW
URL:https://www.collectivefitness.pt/event/open-gym-11/2028-09-30/
LOCATION:The Collective Fitness\, R. Prof. Sousa da Câmara 128 Loja C\, Lisboa\, Lisboa\, 1070-217\, Portugal
CATEGORIES:Open Gym
END:VEVENT
BEGIN:VEVENT
DTSTART;TZID=Europe/Lisbon:20281001T090000
DTEND;TZID=Europe/Lisbon:20281001T143000
DTSTAMP:20260425T210803
CREATED:20250708T181713Z
LAST-MODIFIED:20250708T210549Z
UID:10028229-1854003600-1854023400@www.collectivefitness.pt
SUMMARY:Open Gym
DESCRIPTION:TRY IT NOW
URL:https://www.collectivefitness.pt/event/open-gym-12/2028-10-01/
LOCATION:The Collective Fitness\, R. Prof. Sousa da Câmara 128 Loja C\, Lisboa\, Lisboa\, 1070-217\, Portugal
CATEGORIES:Open Gym
END:VEVENT
BEGIN:VEVENT
DTSTART;TZID=Europe/Lisbon:20281002T104500
DTEND;TZID=Europe/Lisbon:20281002T123000
DTSTAMP:20260425T210803
CREATED:20250708T094513Z
LAST-MODIFIED:20260306T200400Z
UID:10030248-1854096300-1854102600@www.collectivefitness.pt
SUMMARY:Open Gym
DESCRIPTION:TRY IT NOW
URL:https://www.collectivefitness.pt/event/open-gym-3/2028-10-02/
LOCATION:The Collective Fitness\, R. Prof. Sousa da Câmara 128 Loja C\, Lisboa\, Lisboa\, 1070-217\, Portugal
CATEGORIES:Open Gym
END:VEVENT
BEGIN:VEVENT
DTSTART;TZID=Europe/Lisbon:20281002T143000
DTEND;TZID=Europe/Lisbon:20281002T173000
DTSTAMP:20260425T210803
CREATED:20250708T093507Z
LAST-MODIFIED:20250708T211954Z
UID:10004636-1854109800-1854120600@www.collectivefitness.pt
SUMMARY:Open Gym
DESCRIPTION:TRY IT NOW
URL:https://www.collectivefitness.pt/event/open-gym-2/2028-10-02/
LOCATION:The Collective Fitness\, R. Prof. Sousa da Câmara 128 Loja C\, Lisboa\, Lisboa\, 1070-217\, Portugal
CATEGORIES:Open Gym
END:VEVENT
BEGIN:VEVENT
DTSTART;TZID=Europe/Lisbon:20281003T084500
DTEND;TZID=Europe/Lisbon:20281003T123000
DTSTAMP:20260425T210803
CREATED:20250708T132212Z
LAST-MODIFIED:20250708T211822Z
UID:10006474-1854175500-1854189000@www.collectivefitness.pt
SUMMARY:Open Gym
DESCRIPTION:TRY IT NOW
URL:https://www.collectivefitness.pt/event/open-gym/2028-10-03/
LOCATION:The Collective Fitness\, R. Prof. Sousa da Câmara 128 Loja C\, Lisboa\, Lisboa\, 1070-217\, Portugal
CATEGORIES:Open Gym
END:VEVENT
BEGIN:VEVENT
DTSTART;TZID=Europe/Lisbon:20281003T143000
DTEND;TZID=Europe/Lisbon:20281003T173000
DTSTAMP:20260425T210803
CREATED:20250708T133029Z
LAST-MODIFIED:20250708T211747Z
UID:10008048-1854196200-1854207000@www.collectivefitness.pt
SUMMARY:Open Gym
DESCRIPTION:TRY IT NOW
URL:https://www.collectivefitness.pt/event/open-gym-4/2028-10-03/
LOCATION:The Collective Fitness\, R. Prof. Sousa da Câmara 128 Loja C\, Lisboa\, Lisboa\, 1070-217\, Portugal
CATEGORIES:Open Gym
END:VEVENT
BEGIN:VEVENT
DTSTART;TZID=Europe/Lisbon:20281004T100000
DTEND;TZID=Europe/Lisbon:20281004T123000
DTSTAMP:20260425T210803
CREATED:20250708T134807Z
LAST-MODIFIED:20250708T211701Z
UID:10011721-1854266400-1854275400@www.collectivefitness.pt
SUMMARY:Open Gym
DESCRIPTION:TRY IT NOW
URL:https://www.collectivefitness.pt/event/open-gym-5/2028-10-04/
LOCATION:The Collective Fitness\, R. Prof. Sousa da Câmara 128 Loja C\, Lisboa\, Lisboa\, 1070-217\, Portugal
CATEGORIES:Open Gym
END:VEVENT
BEGIN:VEVENT
DTSTART;TZID=Europe/Lisbon:20281004T143000
DTEND;TZID=Europe/Lisbon:20281004T173000
DTSTAMP:20260425T210803
CREATED:20250708T135057Z
LAST-MODIFIED:20250708T211612Z
UID:10013293-1854282600-1854293400@www.collectivefitness.pt
SUMMARY:Open Gym
DESCRIPTION:TRY IT NOW
URL:https://www.collectivefitness.pt/event/open-gym-6/2028-10-04/
LOCATION:The Collective Fitness\, R. Prof. Sousa da Câmara 128 Loja C\, Lisboa\, Lisboa\, 1070-217\, Portugal
CATEGORIES:Open Gym
END:VEVENT
BEGIN:VEVENT
DTSTART;TZID=Europe/Lisbon:20281005T093000
DTEND;TZID=Europe/Lisbon:20281005T123000
DTSTAMP:20260425T210803
CREATED:20250708T135609Z
LAST-MODIFIED:20260306T201047Z
UID:10030545-1854351000-1854361800@www.collectivefitness.pt
SUMMARY:Open Gym
DESCRIPTION:TRY IT NOW
URL:https://www.collectivefitness.pt/event/open-gym-7/2028-10-05/
LOCATION:The Collective Fitness\, R. Prof. Sousa da Câmara 128 Loja C\, Lisboa\, Lisboa\, 1070-217\, Portugal
CATEGORIES:Open Gym
END:VEVENT
BEGIN:VEVENT
DTSTART;TZID=Europe/Lisbon:20281005T143000
DTEND;TZID=Europe/Lisbon:20281005T173000
DTSTAMP:20260425T210803
CREATED:20250708T135857Z
LAST-MODIFIED:20250708T211359Z
UID:10018009-1854369000-1854379800@www.collectivefitness.pt
SUMMARY:Open Gym
DESCRIPTION:TRY IT NOW
URL:https://www.collectivefitness.pt/event/open-gym-8/2028-10-05/
LOCATION:The Collective Fitness\, R. Prof. Sousa da Câmara 128 Loja C\, Lisboa\, Lisboa\, 1070-217\, Portugal
CATEGORIES:Open Gym
END:VEVENT
BEGIN:VEVENT
DTSTART;TZID=Europe/Lisbon:20281006T104500
DTEND;TZID=Europe/Lisbon:20281006T123000
DTSTAMP:20260425T210803
CREATED:20250708T173449Z
LAST-MODIFIED:20260306T200930Z
UID:10031137-1854441900-1854448200@www.collectivefitness.pt
SUMMARY:Open Gym
DESCRIPTION:TRY IT NOW
URL:https://www.collectivefitness.pt/event/open-gym-9/2028-10-06/
LOCATION:The Collective Fitness\, R. Prof. Sousa da Câmara 128 Loja C\, Lisboa\, Lisboa\, 1070-217\, Portugal
CATEGORIES:Open Gym
END:VEVENT
BEGIN:VEVENT
DTSTART;TZID=Europe/Lisbon:20281006T143000
DTEND;TZID=Europe/Lisbon:20281006T173000
DTSTAMP:20260425T210803
CREATED:20250708T173610Z
LAST-MODIFIED:20250708T210749Z
UID:10023772-1854455400-1854466200@www.collectivefitness.pt
SUMMARY:Open Gym
DESCRIPTION:TRY IT NOW
URL:https://www.collectivefitness.pt/event/open-gym-10/2028-10-06/
LOCATION:The Collective Fitness\, R. Prof. Sousa da Câmara 128 Loja C\, Lisboa\, Lisboa\, 1070-217\, Portugal
CATEGORIES:Open Gym
END:VEVENT
BEGIN:VEVENT
DTSTART;TZID=Europe/Lisbon:20281007T123000
DTEND;TZID=Europe/Lisbon:20281007T143000
DTSTAMP:20260425T210803
CREATED:20250708T181609Z
LAST-MODIFIED:20250708T210709Z
UID:10027706-1854534600-1854541800@www.collectivefitness.pt
SUMMARY:Open Gym
DESCRIPTION:TRY IT NOW
URL:https://www.collectivefitness.pt/event/open-gym-11/2028-10-07/
LOCATION:The Collective Fitness\, R. Prof. Sousa da Câmara 128 Loja C\, Lisboa\, Lisboa\, 1070-217\, Portugal
CATEGORIES:Open Gym
END:VEVENT
BEGIN:VEVENT
DTSTART;TZID=Europe/Lisbon:20281008T090000
DTEND;TZID=Europe/Lisbon:20281008T143000
DTSTAMP:20260425T210803
CREATED:20250708T181713Z
LAST-MODIFIED:20250708T210549Z
UID:10028230-1854608400-1854628200@www.collectivefitness.pt
SUMMARY:Open Gym
DESCRIPTION:TRY IT NOW
URL:https://www.collectivefitness.pt/event/open-gym-12/2028-10-08/
LOCATION:The Collective Fitness\, R. Prof. Sousa da Câmara 128 Loja C\, Lisboa\, Lisboa\, 1070-217\, Portugal
CATEGORIES:Open Gym
END:VEVENT
BEGIN:VEVENT
DTSTART;TZID=Europe/Lisbon:20281009T104500
DTEND;TZID=Europe/Lisbon:20281009T123000
DTSTAMP:20260425T210803
CREATED:20250708T094513Z
LAST-MODIFIED:20260306T200400Z
UID:10030249-1854701100-1854707400@www.collectivefitness.pt
SUMMARY:Open Gym
DESCRIPTION:TRY IT NOW
URL:https://www.collectivefitness.pt/event/open-gym-3/2028-10-09/
LOCATION:The Collective Fitness\, R. Prof. Sousa da Câmara 128 Loja C\, Lisboa\, Lisboa\, 1070-217\, Portugal
CATEGORIES:Open Gym
END:VEVENT
BEGIN:VEVENT
DTSTART;TZID=Europe/Lisbon:20281009T143000
DTEND;TZID=Europe/Lisbon:20281009T173000
DTSTAMP:20260425T210803
CREATED:20250708T093507Z
LAST-MODIFIED:20250708T211954Z
UID:10004637-1854714600-1854725400@www.collectivefitness.pt
SUMMARY:Open Gym
DESCRIPTION:TRY IT NOW
URL:https://www.collectivefitness.pt/event/open-gym-2/2028-10-09/
LOCATION:The Collective Fitness\, R. Prof. Sousa da Câmara 128 Loja C\, Lisboa\, Lisboa\, 1070-217\, Portugal
CATEGORIES:Open Gym
END:VEVENT
BEGIN:VEVENT
DTSTART;TZID=Europe/Lisbon:20281010T084500
DTEND;TZID=Europe/Lisbon:20281010T123000
DTSTAMP:20260425T210803
CREATED:20250708T132212Z
LAST-MODIFIED:20250708T211822Z
UID:10006475-1854780300-1854793800@www.collectivefitness.pt
SUMMARY:Open Gym
DESCRIPTION:TRY IT NOW
URL:https://www.collectivefitness.pt/event/open-gym/2028-10-10/
LOCATION:The Collective Fitness\, R. Prof. Sousa da Câmara 128 Loja C\, Lisboa\, Lisboa\, 1070-217\, Portugal
CATEGORIES:Open Gym
END:VEVENT
BEGIN:VEVENT
DTSTART;TZID=Europe/Lisbon:20281010T143000
DTEND;TZID=Europe/Lisbon:20281010T173000
DTSTAMP:20260425T210803
CREATED:20250708T133029Z
LAST-MODIFIED:20250708T211747Z
UID:10008049-1854801000-1854811800@www.collectivefitness.pt
SUMMARY:Open Gym
DESCRIPTION:TRY IT NOW
URL:https://www.collectivefitness.pt/event/open-gym-4/2028-10-10/
LOCATION:The Collective Fitness\, R. Prof. Sousa da Câmara 128 Loja C\, Lisboa\, Lisboa\, 1070-217\, Portugal
CATEGORIES:Open Gym
END:VEVENT
BEGIN:VEVENT
DTSTART;TZID=Europe/Lisbon:20281011T100000
DTEND;TZID=Europe/Lisbon:20281011T123000
DTSTAMP:20260425T210803
CREATED:20250708T134807Z
LAST-MODIFIED:20250708T211701Z
UID:10011722-1854871200-1854880200@www.collectivefitness.pt
SUMMARY:Open Gym
DESCRIPTION:TRY IT NOW
URL:https://www.collectivefitness.pt/event/open-gym-5/2028-10-11/
LOCATION:The Collective Fitness\, R. Prof. Sousa da Câmara 128 Loja C\, Lisboa\, Lisboa\, 1070-217\, Portugal
CATEGORIES:Open Gym
END:VEVENT
END:VCALENDAR