BEGIN:VCALENDAR
VERSION:2.0
PRODID:-//The collective fitness - ECPv6.15.16//NONSGML v1.0//EN
CALSCALE:GREGORIAN
METHOD:PUBLISH
X-WR-CALNAME:The collective fitness
X-ORIGINAL-URL:https://www.collectivefitness.pt
X-WR-CALDESC:Events for The collective fitness
REFRESH-INTERVAL;VALUE=DURATION:PT1H
X-Robots-Tag:noindex
X-PUBLISHED-TTL:PT1H
BEGIN:VTIMEZONE
TZID:Europe/Lisbon
BEGIN:DAYLIGHT
TZOFFSETFROM:+0000
TZOFFSETTO:+0100
TZNAME:WEST
DTSTART:20270328T010000
END:DAYLIGHT
BEGIN:STANDARD
TZOFFSETFROM:+0100
TZOFFSETTO:+0000
TZNAME:WET
DTSTART:20271031T010000
END:STANDARD
BEGIN:DAYLIGHT
TZOFFSETFROM:+0000
TZOFFSETTO:+0100
TZNAME:WEST
DTSTART:20280326T010000
END:DAYLIGHT
BEGIN:STANDARD
TZOFFSETFROM:+0100
TZOFFSETTO:+0000
TZNAME:WET
DTSTART:20281029T010000
END:STANDARD
BEGIN:DAYLIGHT
TZOFFSETFROM:+0000
TZOFFSETTO:+0100
TZNAME:WEST
DTSTART:20290325T010000
END:DAYLIGHT
BEGIN:STANDARD
TZOFFSETFROM:+0100
TZOFFSETTO:+0000
TZNAME:WET
DTSTART:20291028T010000
END:STANDARD
END:VTIMEZONE
BEGIN:VEVENT
DTSTART;TZID=Europe/Lisbon:20280715T123000
DTEND;TZID=Europe/Lisbon:20280715T143000
DTSTAMP:20260425T044321
CREATED:20250708T181609Z
LAST-MODIFIED:20250708T210709Z
UID:10027694-1847277000-1847284200@www.collectivefitness.pt
SUMMARY:Open Gym
DESCRIPTION:TRY IT NOW
URL:https://www.collectivefitness.pt/event/open-gym-11/2028-07-15/
LOCATION:The Collective Fitness\, R. Prof. Sousa da Câmara 128 Loja C\, Lisboa\, Lisboa\, 1070-217\, Portugal
CATEGORIES:Open Gym
END:VEVENT
BEGIN:VEVENT
DTSTART;TZID=Europe/Lisbon:20280716T090000
DTEND;TZID=Europe/Lisbon:20280716T143000
DTSTAMP:20260425T044321
CREATED:20250708T181713Z
LAST-MODIFIED:20250708T210549Z
UID:10028218-1847350800-1847370600@www.collectivefitness.pt
SUMMARY:Open Gym
DESCRIPTION:TRY IT NOW
URL:https://www.collectivefitness.pt/event/open-gym-12/2028-07-16/
LOCATION:The Collective Fitness\, R. Prof. Sousa da Câmara 128 Loja C\, Lisboa\, Lisboa\, 1070-217\, Portugal
CATEGORIES:Open Gym
END:VEVENT
BEGIN:VEVENT
DTSTART;TZID=Europe/Lisbon:20280717T104500
DTEND;TZID=Europe/Lisbon:20280717T123000
DTSTAMP:20260425T044321
CREATED:20250708T094513Z
LAST-MODIFIED:20260306T200400Z
UID:10030237-1847443500-1847449800@www.collectivefitness.pt
SUMMARY:Open Gym
DESCRIPTION:TRY IT NOW
URL:https://www.collectivefitness.pt/event/open-gym-3/2028-07-17/
LOCATION:The Collective Fitness\, R. Prof. Sousa da Câmara 128 Loja C\, Lisboa\, Lisboa\, 1070-217\, Portugal
CATEGORIES:Open Gym
END:VEVENT
BEGIN:VEVENT
DTSTART;TZID=Europe/Lisbon:20280717T143000
DTEND;TZID=Europe/Lisbon:20280717T173000
DTSTAMP:20260425T044321
CREATED:20250708T093507Z
LAST-MODIFIED:20250708T211954Z
UID:10004625-1847457000-1847467800@www.collectivefitness.pt
SUMMARY:Open Gym
DESCRIPTION:TRY IT NOW
URL:https://www.collectivefitness.pt/event/open-gym-2/2028-07-17/
LOCATION:The Collective Fitness\, R. Prof. Sousa da Câmara 128 Loja C\, Lisboa\, Lisboa\, 1070-217\, Portugal
CATEGORIES:Open Gym
END:VEVENT
BEGIN:VEVENT
DTSTART;TZID=Europe/Lisbon:20280718T084500
DTEND;TZID=Europe/Lisbon:20280718T123000
DTSTAMP:20260425T044321
CREATED:20250708T132212Z
LAST-MODIFIED:20250708T211822Z
UID:10006463-1847522700-1847536200@www.collectivefitness.pt
SUMMARY:Open Gym
DESCRIPTION:TRY IT NOW
URL:https://www.collectivefitness.pt/event/open-gym/2028-07-18/
LOCATION:The Collective Fitness\, R. Prof. Sousa da Câmara 128 Loja C\, Lisboa\, Lisboa\, 1070-217\, Portugal
CATEGORIES:Open Gym
END:VEVENT
BEGIN:VEVENT
DTSTART;TZID=Europe/Lisbon:20280718T143000
DTEND;TZID=Europe/Lisbon:20280718T173000
DTSTAMP:20260425T044321
CREATED:20250708T133029Z
LAST-MODIFIED:20250708T211747Z
UID:10008037-1847543400-1847554200@www.collectivefitness.pt
SUMMARY:Open Gym
DESCRIPTION:TRY IT NOW
URL:https://www.collectivefitness.pt/event/open-gym-4/2028-07-18/
LOCATION:The Collective Fitness\, R. Prof. Sousa da Câmara 128 Loja C\, Lisboa\, Lisboa\, 1070-217\, Portugal
CATEGORIES:Open Gym
END:VEVENT
BEGIN:VEVENT
DTSTART;TZID=Europe/Lisbon:20280719T100000
DTEND;TZID=Europe/Lisbon:20280719T123000
DTSTAMP:20260425T044321
CREATED:20250708T134807Z
LAST-MODIFIED:20250708T211701Z
UID:10011710-1847613600-1847622600@www.collectivefitness.pt
SUMMARY:Open Gym
DESCRIPTION:TRY IT NOW
URL:https://www.collectivefitness.pt/event/open-gym-5/2028-07-19/
LOCATION:The Collective Fitness\, R. Prof. Sousa da Câmara 128 Loja C\, Lisboa\, Lisboa\, 1070-217\, Portugal
CATEGORIES:Open Gym
END:VEVENT
BEGIN:VEVENT
DTSTART;TZID=Europe/Lisbon:20280719T143000
DTEND;TZID=Europe/Lisbon:20280719T173000
DTSTAMP:20260425T044321
CREATED:20250708T135057Z
LAST-MODIFIED:20250708T211612Z
UID:10013282-1847629800-1847640600@www.collectivefitness.pt
SUMMARY:Open Gym
DESCRIPTION:TRY IT NOW
URL:https://www.collectivefitness.pt/event/open-gym-6/2028-07-19/
LOCATION:The Collective Fitness\, R. Prof. Sousa da Câmara 128 Loja C\, Lisboa\, Lisboa\, 1070-217\, Portugal
CATEGORIES:Open Gym
END:VEVENT
BEGIN:VEVENT
DTSTART;TZID=Europe/Lisbon:20280720T093000
DTEND;TZID=Europe/Lisbon:20280720T123000
DTSTAMP:20260425T044321
CREATED:20250708T135609Z
LAST-MODIFIED:20260306T201047Z
UID:10030534-1847698200-1847709000@www.collectivefitness.pt
SUMMARY:Open Gym
DESCRIPTION:TRY IT NOW
URL:https://www.collectivefitness.pt/event/open-gym-7/2028-07-20/
LOCATION:The Collective Fitness\, R. Prof. Sousa da Câmara 128 Loja C\, Lisboa\, Lisboa\, 1070-217\, Portugal
CATEGORIES:Open Gym
END:VEVENT
BEGIN:VEVENT
DTSTART;TZID=Europe/Lisbon:20280720T143000
DTEND;TZID=Europe/Lisbon:20280720T173000
DTSTAMP:20260425T044321
CREATED:20250708T135857Z
LAST-MODIFIED:20250708T211359Z
UID:10017998-1847716200-1847727000@www.collectivefitness.pt
SUMMARY:Open Gym
DESCRIPTION:TRY IT NOW
URL:https://www.collectivefitness.pt/event/open-gym-8/2028-07-20/
LOCATION:The Collective Fitness\, R. Prof. Sousa da Câmara 128 Loja C\, Lisboa\, Lisboa\, 1070-217\, Portugal
CATEGORIES:Open Gym
END:VEVENT
BEGIN:VEVENT
DTSTART;TZID=Europe/Lisbon:20280721T104500
DTEND;TZID=Europe/Lisbon:20280721T123000
DTSTAMP:20260425T044321
CREATED:20250708T173449Z
LAST-MODIFIED:20260306T200930Z
UID:10031126-1847789100-1847795400@www.collectivefitness.pt
SUMMARY:Open Gym
DESCRIPTION:TRY IT NOW
URL:https://www.collectivefitness.pt/event/open-gym-9/2028-07-21/
LOCATION:The Collective Fitness\, R. Prof. Sousa da Câmara 128 Loja C\, Lisboa\, Lisboa\, 1070-217\, Portugal
CATEGORIES:Open Gym
END:VEVENT
BEGIN:VEVENT
DTSTART;TZID=Europe/Lisbon:20280721T143000
DTEND;TZID=Europe/Lisbon:20280721T173000
DTSTAMP:20260425T044321
CREATED:20250708T173610Z
LAST-MODIFIED:20250708T210749Z
UID:10023761-1847802600-1847813400@www.collectivefitness.pt
SUMMARY:Open Gym
DESCRIPTION:TRY IT NOW
URL:https://www.collectivefitness.pt/event/open-gym-10/2028-07-21/
LOCATION:The Collective Fitness\, R. Prof. Sousa da Câmara 128 Loja C\, Lisboa\, Lisboa\, 1070-217\, Portugal
CATEGORIES:Open Gym
END:VEVENT
BEGIN:VEVENT
DTSTART;TZID=Europe/Lisbon:20280722T123000
DTEND;TZID=Europe/Lisbon:20280722T143000
DTSTAMP:20260425T044321
CREATED:20250708T181609Z
LAST-MODIFIED:20250708T210709Z
UID:10027695-1847881800-1847889000@www.collectivefitness.pt
SUMMARY:Open Gym
DESCRIPTION:TRY IT NOW
URL:https://www.collectivefitness.pt/event/open-gym-11/2028-07-22/
LOCATION:The Collective Fitness\, R. Prof. Sousa da Câmara 128 Loja C\, Lisboa\, Lisboa\, 1070-217\, Portugal
CATEGORIES:Open Gym
END:VEVENT
BEGIN:VEVENT
DTSTART;TZID=Europe/Lisbon:20280723T090000
DTEND;TZID=Europe/Lisbon:20280723T143000
DTSTAMP:20260425T044321
CREATED:20250708T181713Z
LAST-MODIFIED:20250708T210549Z
UID:10028219-1847955600-1847975400@www.collectivefitness.pt
SUMMARY:Open Gym
DESCRIPTION:TRY IT NOW
URL:https://www.collectivefitness.pt/event/open-gym-12/2028-07-23/
LOCATION:The Collective Fitness\, R. Prof. Sousa da Câmara 128 Loja C\, Lisboa\, Lisboa\, 1070-217\, Portugal
CATEGORIES:Open Gym
END:VEVENT
BEGIN:VEVENT
DTSTART;TZID=Europe/Lisbon:20280724T104500
DTEND;TZID=Europe/Lisbon:20280724T123000
DTSTAMP:20260425T044321
CREATED:20250708T094513Z
LAST-MODIFIED:20260306T200400Z
UID:10030238-1848048300-1848054600@www.collectivefitness.pt
SUMMARY:Open Gym
DESCRIPTION:TRY IT NOW
URL:https://www.collectivefitness.pt/event/open-gym-3/2028-07-24/
LOCATION:The Collective Fitness\, R. Prof. Sousa da Câmara 128 Loja C\, Lisboa\, Lisboa\, 1070-217\, Portugal
CATEGORIES:Open Gym
END:VEVENT
BEGIN:VEVENT
DTSTART;TZID=Europe/Lisbon:20280724T143000
DTEND;TZID=Europe/Lisbon:20280724T173000
DTSTAMP:20260425T044321
CREATED:20250708T093507Z
LAST-MODIFIED:20250708T211954Z
UID:10004626-1848061800-1848072600@www.collectivefitness.pt
SUMMARY:Open Gym
DESCRIPTION:TRY IT NOW
URL:https://www.collectivefitness.pt/event/open-gym-2/2028-07-24/
LOCATION:The Collective Fitness\, R. Prof. Sousa da Câmara 128 Loja C\, Lisboa\, Lisboa\, 1070-217\, Portugal
CATEGORIES:Open Gym
END:VEVENT
BEGIN:VEVENT
DTSTART;TZID=Europe/Lisbon:20280725T084500
DTEND;TZID=Europe/Lisbon:20280725T123000
DTSTAMP:20260425T044321
CREATED:20250708T132212Z
LAST-MODIFIED:20250708T211822Z
UID:10006464-1848127500-1848141000@www.collectivefitness.pt
SUMMARY:Open Gym
DESCRIPTION:TRY IT NOW
URL:https://www.collectivefitness.pt/event/open-gym/2028-07-25/
LOCATION:The Collective Fitness\, R. Prof. Sousa da Câmara 128 Loja C\, Lisboa\, Lisboa\, 1070-217\, Portugal
CATEGORIES:Open Gym
END:VEVENT
BEGIN:VEVENT
DTSTART;TZID=Europe/Lisbon:20280725T143000
DTEND;TZID=Europe/Lisbon:20280725T173000
DTSTAMP:20260425T044321
CREATED:20250708T133029Z
LAST-MODIFIED:20250708T211747Z
UID:10008038-1848148200-1848159000@www.collectivefitness.pt
SUMMARY:Open Gym
DESCRIPTION:TRY IT NOW
URL:https://www.collectivefitness.pt/event/open-gym-4/2028-07-25/
LOCATION:The Collective Fitness\, R. Prof. Sousa da Câmara 128 Loja C\, Lisboa\, Lisboa\, 1070-217\, Portugal
CATEGORIES:Open Gym
END:VEVENT
BEGIN:VEVENT
DTSTART;TZID=Europe/Lisbon:20280726T100000
DTEND;TZID=Europe/Lisbon:20280726T123000
DTSTAMP:20260425T044321
CREATED:20250708T134807Z
LAST-MODIFIED:20250708T211701Z
UID:10011711-1848218400-1848227400@www.collectivefitness.pt
SUMMARY:Open Gym
DESCRIPTION:TRY IT NOW
URL:https://www.collectivefitness.pt/event/open-gym-5/2028-07-26/
LOCATION:The Collective Fitness\, R. Prof. Sousa da Câmara 128 Loja C\, Lisboa\, Lisboa\, 1070-217\, Portugal
CATEGORIES:Open Gym
END:VEVENT
BEGIN:VEVENT
DTSTART;TZID=Europe/Lisbon:20280726T143000
DTEND;TZID=Europe/Lisbon:20280726T173000
DTSTAMP:20260425T044321
CREATED:20250708T135057Z
LAST-MODIFIED:20250708T211612Z
UID:10013283-1848234600-1848245400@www.collectivefitness.pt
SUMMARY:Open Gym
DESCRIPTION:TRY IT NOW
URL:https://www.collectivefitness.pt/event/open-gym-6/2028-07-26/
LOCATION:The Collective Fitness\, R. Prof. Sousa da Câmara 128 Loja C\, Lisboa\, Lisboa\, 1070-217\, Portugal
CATEGORIES:Open Gym
END:VEVENT
BEGIN:VEVENT
DTSTART;TZID=Europe/Lisbon:20280727T093000
DTEND;TZID=Europe/Lisbon:20280727T123000
DTSTAMP:20260425T044321
CREATED:20250708T135609Z
LAST-MODIFIED:20260306T201047Z
UID:10030535-1848303000-1848313800@www.collectivefitness.pt
SUMMARY:Open Gym
DESCRIPTION:TRY IT NOW
URL:https://www.collectivefitness.pt/event/open-gym-7/2028-07-27/
LOCATION:The Collective Fitness\, R. Prof. Sousa da Câmara 128 Loja C\, Lisboa\, Lisboa\, 1070-217\, Portugal
CATEGORIES:Open Gym
END:VEVENT
BEGIN:VEVENT
DTSTART;TZID=Europe/Lisbon:20280727T143000
DTEND;TZID=Europe/Lisbon:20280727T173000
DTSTAMP:20260425T044321
CREATED:20250708T135857Z
LAST-MODIFIED:20250708T211359Z
UID:10017999-1848321000-1848331800@www.collectivefitness.pt
SUMMARY:Open Gym
DESCRIPTION:TRY IT NOW
URL:https://www.collectivefitness.pt/event/open-gym-8/2028-07-27/
LOCATION:The Collective Fitness\, R. Prof. Sousa da Câmara 128 Loja C\, Lisboa\, Lisboa\, 1070-217\, Portugal
CATEGORIES:Open Gym
END:VEVENT
BEGIN:VEVENT
DTSTART;TZID=Europe/Lisbon:20280728T104500
DTEND;TZID=Europe/Lisbon:20280728T123000
DTSTAMP:20260425T044321
CREATED:20250708T173449Z
LAST-MODIFIED:20260306T200930Z
UID:10031127-1848393900-1848400200@www.collectivefitness.pt
SUMMARY:Open Gym
DESCRIPTION:TRY IT NOW
URL:https://www.collectivefitness.pt/event/open-gym-9/2028-07-28/
LOCATION:The Collective Fitness\, R. Prof. Sousa da Câmara 128 Loja C\, Lisboa\, Lisboa\, 1070-217\, Portugal
CATEGORIES:Open Gym
END:VEVENT
BEGIN:VEVENT
DTSTART;TZID=Europe/Lisbon:20280728T143000
DTEND;TZID=Europe/Lisbon:20280728T173000
DTSTAMP:20260425T044321
CREATED:20250708T173610Z
LAST-MODIFIED:20250708T210749Z
UID:10023762-1848407400-1848418200@www.collectivefitness.pt
SUMMARY:Open Gym
DESCRIPTION:TRY IT NOW
URL:https://www.collectivefitness.pt/event/open-gym-10/2028-07-28/
LOCATION:The Collective Fitness\, R. Prof. Sousa da Câmara 128 Loja C\, Lisboa\, Lisboa\, 1070-217\, Portugal
CATEGORIES:Open Gym
END:VEVENT
BEGIN:VEVENT
DTSTART;TZID=Europe/Lisbon:20280729T123000
DTEND;TZID=Europe/Lisbon:20280729T143000
DTSTAMP:20260425T044321
CREATED:20250708T181609Z
LAST-MODIFIED:20250708T210709Z
UID:10027696-1848486600-1848493800@www.collectivefitness.pt
SUMMARY:Open Gym
DESCRIPTION:TRY IT NOW
URL:https://www.collectivefitness.pt/event/open-gym-11/2028-07-29/
LOCATION:The Collective Fitness\, R. Prof. Sousa da Câmara 128 Loja C\, Lisboa\, Lisboa\, 1070-217\, Portugal
CATEGORIES:Open Gym
END:VEVENT
BEGIN:VEVENT
DTSTART;TZID=Europe/Lisbon:20280730T090000
DTEND;TZID=Europe/Lisbon:20280730T143000
DTSTAMP:20260425T044321
CREATED:20250708T181713Z
LAST-MODIFIED:20250708T210549Z
UID:10028220-1848560400-1848580200@www.collectivefitness.pt
SUMMARY:Open Gym
DESCRIPTION:TRY IT NOW
URL:https://www.collectivefitness.pt/event/open-gym-12/2028-07-30/
LOCATION:The Collective Fitness\, R. Prof. Sousa da Câmara 128 Loja C\, Lisboa\, Lisboa\, 1070-217\, Portugal
CATEGORIES:Open Gym
END:VEVENT
BEGIN:VEVENT
DTSTART;TZID=Europe/Lisbon:20280731T104500
DTEND;TZID=Europe/Lisbon:20280731T123000
DTSTAMP:20260425T044321
CREATED:20250708T094513Z
LAST-MODIFIED:20260306T200400Z
UID:10030239-1848653100-1848659400@www.collectivefitness.pt
SUMMARY:Open Gym
DESCRIPTION:TRY IT NOW
URL:https://www.collectivefitness.pt/event/open-gym-3/2028-07-31/
LOCATION:The Collective Fitness\, R. Prof. Sousa da Câmara 128 Loja C\, Lisboa\, Lisboa\, 1070-217\, Portugal
CATEGORIES:Open Gym
END:VEVENT
BEGIN:VEVENT
DTSTART;TZID=Europe/Lisbon:20280731T143000
DTEND;TZID=Europe/Lisbon:20280731T173000
DTSTAMP:20260425T044321
CREATED:20250708T093507Z
LAST-MODIFIED:20250708T211954Z
UID:10004627-1848666600-1848677400@www.collectivefitness.pt
SUMMARY:Open Gym
DESCRIPTION:TRY IT NOW
URL:https://www.collectivefitness.pt/event/open-gym-2/2028-07-31/
LOCATION:The Collective Fitness\, R. Prof. Sousa da Câmara 128 Loja C\, Lisboa\, Lisboa\, 1070-217\, Portugal
CATEGORIES:Open Gym
END:VEVENT
BEGIN:VEVENT
DTSTART;TZID=Europe/Lisbon:20280801T084500
DTEND;TZID=Europe/Lisbon:20280801T123000
DTSTAMP:20260425T044321
CREATED:20250708T132212Z
LAST-MODIFIED:20250708T211822Z
UID:10006465-1848732300-1848745800@www.collectivefitness.pt
SUMMARY:Open Gym
DESCRIPTION:TRY IT NOW
URL:https://www.collectivefitness.pt/event/open-gym/2028-08-01/
LOCATION:The Collective Fitness\, R. Prof. Sousa da Câmara 128 Loja C\, Lisboa\, Lisboa\, 1070-217\, Portugal
CATEGORIES:Open Gym
END:VEVENT
BEGIN:VEVENT
DTSTART;TZID=Europe/Lisbon:20280801T143000
DTEND;TZID=Europe/Lisbon:20280801T173000
DTSTAMP:20260425T044321
CREATED:20250708T133029Z
LAST-MODIFIED:20250708T211747Z
UID:10008039-1848753000-1848763800@www.collectivefitness.pt
SUMMARY:Open Gym
DESCRIPTION:TRY IT NOW
URL:https://www.collectivefitness.pt/event/open-gym-4/2028-08-01/
LOCATION:The Collective Fitness\, R. Prof. Sousa da Câmara 128 Loja C\, Lisboa\, Lisboa\, 1070-217\, Portugal
CATEGORIES:Open Gym
END:VEVENT
END:VCALENDAR