BEGIN:VCALENDAR
VERSION:2.0
PRODID:-//The collective fitness - ECPv6.15.16//NONSGML v1.0//EN
CALSCALE:GREGORIAN
METHOD:PUBLISH
X-WR-CALNAME:The collective fitness
X-ORIGINAL-URL:https://www.collectivefitness.pt
X-WR-CALDESC:Events for The collective fitness
REFRESH-INTERVAL;VALUE=DURATION:PT1H
X-Robots-Tag:noindex
X-PUBLISHED-TTL:PT1H
BEGIN:VTIMEZONE
TZID:Europe/Lisbon
BEGIN:DAYLIGHT
TZOFFSETFROM:+0000
TZOFFSETTO:+0100
TZNAME:WEST
DTSTART:20270328T010000
END:DAYLIGHT
BEGIN:STANDARD
TZOFFSETFROM:+0100
TZOFFSETTO:+0000
TZNAME:WET
DTSTART:20271031T010000
END:STANDARD
BEGIN:DAYLIGHT
TZOFFSETFROM:+0000
TZOFFSETTO:+0100
TZNAME:WEST
DTSTART:20280326T010000
END:DAYLIGHT
BEGIN:STANDARD
TZOFFSETFROM:+0100
TZOFFSETTO:+0000
TZNAME:WET
DTSTART:20281029T010000
END:STANDARD
BEGIN:DAYLIGHT
TZOFFSETFROM:+0000
TZOFFSETTO:+0100
TZNAME:WEST
DTSTART:20290325T010000
END:DAYLIGHT
BEGIN:STANDARD
TZOFFSETFROM:+0100
TZOFFSETTO:+0000
TZNAME:WET
DTSTART:20291028T010000
END:STANDARD
END:VTIMEZONE
BEGIN:VEVENT
DTSTART;TZID=Europe/Lisbon:20280512T143000
DTEND;TZID=Europe/Lisbon:20280512T173000
DTSTAMP:20260424T142457
CREATED:20250708T173610Z
LAST-MODIFIED:20250708T210749Z
UID:10023751-1841754600-1841765400@www.collectivefitness.pt
SUMMARY:Open Gym
DESCRIPTION:TRY IT NOW
URL:https://www.collectivefitness.pt/event/open-gym-10/2028-05-12/
LOCATION:The Collective Fitness\, R. Prof. Sousa da Câmara 128 Loja C\, Lisboa\, Lisboa\, 1070-217\, Portugal
CATEGORIES:Open Gym
END:VEVENT
BEGIN:VEVENT
DTSTART;TZID=Europe/Lisbon:20280513T123000
DTEND;TZID=Europe/Lisbon:20280513T143000
DTSTAMP:20260424T142457
CREATED:20250708T181609Z
LAST-MODIFIED:20250708T210709Z
UID:10027685-1841833800-1841841000@www.collectivefitness.pt
SUMMARY:Open Gym
DESCRIPTION:TRY IT NOW
URL:https://www.collectivefitness.pt/event/open-gym-11/2028-05-13/
LOCATION:The Collective Fitness\, R. Prof. Sousa da Câmara 128 Loja C\, Lisboa\, Lisboa\, 1070-217\, Portugal
CATEGORIES:Open Gym
END:VEVENT
BEGIN:VEVENT
DTSTART;TZID=Europe/Lisbon:20280514T090000
DTEND;TZID=Europe/Lisbon:20280514T143000
DTSTAMP:20260424T142457
CREATED:20250708T181713Z
LAST-MODIFIED:20250708T210549Z
UID:10028209-1841907600-1841927400@www.collectivefitness.pt
SUMMARY:Open Gym
DESCRIPTION:TRY IT NOW
URL:https://www.collectivefitness.pt/event/open-gym-12/2028-05-14/
LOCATION:The Collective Fitness\, R. Prof. Sousa da Câmara 128 Loja C\, Lisboa\, Lisboa\, 1070-217\, Portugal
CATEGORIES:Open Gym
END:VEVENT
BEGIN:VEVENT
DTSTART;TZID=Europe/Lisbon:20280515T104500
DTEND;TZID=Europe/Lisbon:20280515T123000
DTSTAMP:20260424T142457
CREATED:20250708T094513Z
LAST-MODIFIED:20260306T200400Z
UID:10030228-1842000300-1842006600@www.collectivefitness.pt
SUMMARY:Open Gym
DESCRIPTION:TRY IT NOW
URL:https://www.collectivefitness.pt/event/open-gym-3/2028-05-15/
LOCATION:The Collective Fitness\, R. Prof. Sousa da Câmara 128 Loja C\, Lisboa\, Lisboa\, 1070-217\, Portugal
CATEGORIES:Open Gym
END:VEVENT
BEGIN:VEVENT
DTSTART;TZID=Europe/Lisbon:20280515T143000
DTEND;TZID=Europe/Lisbon:20280515T173000
DTSTAMP:20260424T142457
CREATED:20250708T093507Z
LAST-MODIFIED:20250708T211954Z
UID:10004616-1842013800-1842024600@www.collectivefitness.pt
SUMMARY:Open Gym
DESCRIPTION:TRY IT NOW
URL:https://www.collectivefitness.pt/event/open-gym-2/2028-05-15/
LOCATION:The Collective Fitness\, R. Prof. Sousa da Câmara 128 Loja C\, Lisboa\, Lisboa\, 1070-217\, Portugal
CATEGORIES:Open Gym
END:VEVENT
BEGIN:VEVENT
DTSTART;TZID=Europe/Lisbon:20280516T084500
DTEND;TZID=Europe/Lisbon:20280516T123000
DTSTAMP:20260424T142457
CREATED:20250708T132212Z
LAST-MODIFIED:20250708T211822Z
UID:10006454-1842079500-1842093000@www.collectivefitness.pt
SUMMARY:Open Gym
DESCRIPTION:TRY IT NOW
URL:https://www.collectivefitness.pt/event/open-gym/2028-05-16/
LOCATION:The Collective Fitness\, R. Prof. Sousa da Câmara 128 Loja C\, Lisboa\, Lisboa\, 1070-217\, Portugal
CATEGORIES:Open Gym
END:VEVENT
BEGIN:VEVENT
DTSTART;TZID=Europe/Lisbon:20280516T143000
DTEND;TZID=Europe/Lisbon:20280516T173000
DTSTAMP:20260424T142457
CREATED:20250708T133029Z
LAST-MODIFIED:20250708T211747Z
UID:10008028-1842100200-1842111000@www.collectivefitness.pt
SUMMARY:Open Gym
DESCRIPTION:TRY IT NOW
URL:https://www.collectivefitness.pt/event/open-gym-4/2028-05-16/
LOCATION:The Collective Fitness\, R. Prof. Sousa da Câmara 128 Loja C\, Lisboa\, Lisboa\, 1070-217\, Portugal
CATEGORIES:Open Gym
END:VEVENT
BEGIN:VEVENT
DTSTART;TZID=Europe/Lisbon:20280517T100000
DTEND;TZID=Europe/Lisbon:20280517T123000
DTSTAMP:20260424T142457
CREATED:20250708T134807Z
LAST-MODIFIED:20250708T211701Z
UID:10011701-1842170400-1842179400@www.collectivefitness.pt
SUMMARY:Open Gym
DESCRIPTION:TRY IT NOW
URL:https://www.collectivefitness.pt/event/open-gym-5/2028-05-17/
LOCATION:The Collective Fitness\, R. Prof. Sousa da Câmara 128 Loja C\, Lisboa\, Lisboa\, 1070-217\, Portugal
CATEGORIES:Open Gym
END:VEVENT
BEGIN:VEVENT
DTSTART;TZID=Europe/Lisbon:20280517T143000
DTEND;TZID=Europe/Lisbon:20280517T173000
DTSTAMP:20260424T142457
CREATED:20250708T135057Z
LAST-MODIFIED:20250708T211612Z
UID:10013273-1842186600-1842197400@www.collectivefitness.pt
SUMMARY:Open Gym
DESCRIPTION:TRY IT NOW
URL:https://www.collectivefitness.pt/event/open-gym-6/2028-05-17/
LOCATION:The Collective Fitness\, R. Prof. Sousa da Câmara 128 Loja C\, Lisboa\, Lisboa\, 1070-217\, Portugal
CATEGORIES:Open Gym
END:VEVENT
BEGIN:VEVENT
DTSTART;TZID=Europe/Lisbon:20280518T093000
DTEND;TZID=Europe/Lisbon:20280518T123000
DTSTAMP:20260424T142457
CREATED:20250708T135609Z
LAST-MODIFIED:20260306T201047Z
UID:10030525-1842255000-1842265800@www.collectivefitness.pt
SUMMARY:Open Gym
DESCRIPTION:TRY IT NOW
URL:https://www.collectivefitness.pt/event/open-gym-7/2028-05-18/
LOCATION:The Collective Fitness\, R. Prof. Sousa da Câmara 128 Loja C\, Lisboa\, Lisboa\, 1070-217\, Portugal
CATEGORIES:Open Gym
END:VEVENT
BEGIN:VEVENT
DTSTART;TZID=Europe/Lisbon:20280518T143000
DTEND;TZID=Europe/Lisbon:20280518T173000
DTSTAMP:20260424T142457
CREATED:20250708T135857Z
LAST-MODIFIED:20250708T211359Z
UID:10017989-1842273000-1842283800@www.collectivefitness.pt
SUMMARY:Open Gym
DESCRIPTION:TRY IT NOW
URL:https://www.collectivefitness.pt/event/open-gym-8/2028-05-18/
LOCATION:The Collective Fitness\, R. Prof. Sousa da Câmara 128 Loja C\, Lisboa\, Lisboa\, 1070-217\, Portugal
CATEGORIES:Open Gym
END:VEVENT
BEGIN:VEVENT
DTSTART;TZID=Europe/Lisbon:20280519T104500
DTEND;TZID=Europe/Lisbon:20280519T123000
DTSTAMP:20260424T142457
CREATED:20250708T173449Z
LAST-MODIFIED:20260306T200930Z
UID:10031117-1842345900-1842352200@www.collectivefitness.pt
SUMMARY:Open Gym
DESCRIPTION:TRY IT NOW
URL:https://www.collectivefitness.pt/event/open-gym-9/2028-05-19/
LOCATION:The Collective Fitness\, R. Prof. Sousa da Câmara 128 Loja C\, Lisboa\, Lisboa\, 1070-217\, Portugal
CATEGORIES:Open Gym
END:VEVENT
BEGIN:VEVENT
DTSTART;TZID=Europe/Lisbon:20280519T143000
DTEND;TZID=Europe/Lisbon:20280519T173000
DTSTAMP:20260424T142457
CREATED:20250708T173610Z
LAST-MODIFIED:20250708T210749Z
UID:10023752-1842359400-1842370200@www.collectivefitness.pt
SUMMARY:Open Gym
DESCRIPTION:TRY IT NOW
URL:https://www.collectivefitness.pt/event/open-gym-10/2028-05-19/
LOCATION:The Collective Fitness\, R. Prof. Sousa da Câmara 128 Loja C\, Lisboa\, Lisboa\, 1070-217\, Portugal
CATEGORIES:Open Gym
END:VEVENT
BEGIN:VEVENT
DTSTART;TZID=Europe/Lisbon:20280520T123000
DTEND;TZID=Europe/Lisbon:20280520T143000
DTSTAMP:20260424T142457
CREATED:20250708T181609Z
LAST-MODIFIED:20250708T210709Z
UID:10027686-1842438600-1842445800@www.collectivefitness.pt
SUMMARY:Open Gym
DESCRIPTION:TRY IT NOW
URL:https://www.collectivefitness.pt/event/open-gym-11/2028-05-20/
LOCATION:The Collective Fitness\, R. Prof. Sousa da Câmara 128 Loja C\, Lisboa\, Lisboa\, 1070-217\, Portugal
CATEGORIES:Open Gym
END:VEVENT
BEGIN:VEVENT
DTSTART;TZID=Europe/Lisbon:20280521T090000
DTEND;TZID=Europe/Lisbon:20280521T143000
DTSTAMP:20260424T142457
CREATED:20250708T181713Z
LAST-MODIFIED:20250708T210549Z
UID:10028210-1842512400-1842532200@www.collectivefitness.pt
SUMMARY:Open Gym
DESCRIPTION:TRY IT NOW
URL:https://www.collectivefitness.pt/event/open-gym-12/2028-05-21/
LOCATION:The Collective Fitness\, R. Prof. Sousa da Câmara 128 Loja C\, Lisboa\, Lisboa\, 1070-217\, Portugal
CATEGORIES:Open Gym
END:VEVENT
BEGIN:VEVENT
DTSTART;TZID=Europe/Lisbon:20280522T104500
DTEND;TZID=Europe/Lisbon:20280522T123000
DTSTAMP:20260424T142457
CREATED:20250708T094513Z
LAST-MODIFIED:20260306T200400Z
UID:10030229-1842605100-1842611400@www.collectivefitness.pt
SUMMARY:Open Gym
DESCRIPTION:TRY IT NOW
URL:https://www.collectivefitness.pt/event/open-gym-3/2028-05-22/
LOCATION:The Collective Fitness\, R. Prof. Sousa da Câmara 128 Loja C\, Lisboa\, Lisboa\, 1070-217\, Portugal
CATEGORIES:Open Gym
END:VEVENT
BEGIN:VEVENT
DTSTART;TZID=Europe/Lisbon:20280522T143000
DTEND;TZID=Europe/Lisbon:20280522T173000
DTSTAMP:20260424T142457
CREATED:20250708T093507Z
LAST-MODIFIED:20250708T211954Z
UID:10004617-1842618600-1842629400@www.collectivefitness.pt
SUMMARY:Open Gym
DESCRIPTION:TRY IT NOW
URL:https://www.collectivefitness.pt/event/open-gym-2/2028-05-22/
LOCATION:The Collective Fitness\, R. Prof. Sousa da Câmara 128 Loja C\, Lisboa\, Lisboa\, 1070-217\, Portugal
CATEGORIES:Open Gym
END:VEVENT
BEGIN:VEVENT
DTSTART;TZID=Europe/Lisbon:20280523T084500
DTEND;TZID=Europe/Lisbon:20280523T123000
DTSTAMP:20260424T142457
CREATED:20250708T132212Z
LAST-MODIFIED:20250708T211822Z
UID:10006455-1842684300-1842697800@www.collectivefitness.pt
SUMMARY:Open Gym
DESCRIPTION:TRY IT NOW
URL:https://www.collectivefitness.pt/event/open-gym/2028-05-23/
LOCATION:The Collective Fitness\, R. Prof. Sousa da Câmara 128 Loja C\, Lisboa\, Lisboa\, 1070-217\, Portugal
CATEGORIES:Open Gym
END:VEVENT
BEGIN:VEVENT
DTSTART;TZID=Europe/Lisbon:20280523T143000
DTEND;TZID=Europe/Lisbon:20280523T173000
DTSTAMP:20260424T142457
CREATED:20250708T133029Z
LAST-MODIFIED:20250708T211747Z
UID:10008029-1842705000-1842715800@www.collectivefitness.pt
SUMMARY:Open Gym
DESCRIPTION:TRY IT NOW
URL:https://www.collectivefitness.pt/event/open-gym-4/2028-05-23/
LOCATION:The Collective Fitness\, R. Prof. Sousa da Câmara 128 Loja C\, Lisboa\, Lisboa\, 1070-217\, Portugal
CATEGORIES:Open Gym
END:VEVENT
BEGIN:VEVENT
DTSTART;TZID=Europe/Lisbon:20280524T100000
DTEND;TZID=Europe/Lisbon:20280524T123000
DTSTAMP:20260424T142457
CREATED:20250708T134807Z
LAST-MODIFIED:20250708T211701Z
UID:10011702-1842775200-1842784200@www.collectivefitness.pt
SUMMARY:Open Gym
DESCRIPTION:TRY IT NOW
URL:https://www.collectivefitness.pt/event/open-gym-5/2028-05-24/
LOCATION:The Collective Fitness\, R. Prof. Sousa da Câmara 128 Loja C\, Lisboa\, Lisboa\, 1070-217\, Portugal
CATEGORIES:Open Gym
END:VEVENT
BEGIN:VEVENT
DTSTART;TZID=Europe/Lisbon:20280524T143000
DTEND;TZID=Europe/Lisbon:20280524T173000
DTSTAMP:20260424T142457
CREATED:20250708T135057Z
LAST-MODIFIED:20250708T211612Z
UID:10013274-1842791400-1842802200@www.collectivefitness.pt
SUMMARY:Open Gym
DESCRIPTION:TRY IT NOW
URL:https://www.collectivefitness.pt/event/open-gym-6/2028-05-24/
LOCATION:The Collective Fitness\, R. Prof. Sousa da Câmara 128 Loja C\, Lisboa\, Lisboa\, 1070-217\, Portugal
CATEGORIES:Open Gym
END:VEVENT
BEGIN:VEVENT
DTSTART;TZID=Europe/Lisbon:20280525T093000
DTEND;TZID=Europe/Lisbon:20280525T123000
DTSTAMP:20260424T142457
CREATED:20250708T135609Z
LAST-MODIFIED:20260306T201047Z
UID:10030526-1842859800-1842870600@www.collectivefitness.pt
SUMMARY:Open Gym
DESCRIPTION:TRY IT NOW
URL:https://www.collectivefitness.pt/event/open-gym-7/2028-05-25/
LOCATION:The Collective Fitness\, R. Prof. Sousa da Câmara 128 Loja C\, Lisboa\, Lisboa\, 1070-217\, Portugal
CATEGORIES:Open Gym
END:VEVENT
BEGIN:VEVENT
DTSTART;TZID=Europe/Lisbon:20280525T143000
DTEND;TZID=Europe/Lisbon:20280525T173000
DTSTAMP:20260424T142457
CREATED:20250708T135857Z
LAST-MODIFIED:20250708T211359Z
UID:10017990-1842877800-1842888600@www.collectivefitness.pt
SUMMARY:Open Gym
DESCRIPTION:TRY IT NOW
URL:https://www.collectivefitness.pt/event/open-gym-8/2028-05-25/
LOCATION:The Collective Fitness\, R. Prof. Sousa da Câmara 128 Loja C\, Lisboa\, Lisboa\, 1070-217\, Portugal
CATEGORIES:Open Gym
END:VEVENT
BEGIN:VEVENT
DTSTART;TZID=Europe/Lisbon:20280526T104500
DTEND;TZID=Europe/Lisbon:20280526T123000
DTSTAMP:20260424T142457
CREATED:20250708T173449Z
LAST-MODIFIED:20260306T200930Z
UID:10031118-1842950700-1842957000@www.collectivefitness.pt
SUMMARY:Open Gym
DESCRIPTION:TRY IT NOW
URL:https://www.collectivefitness.pt/event/open-gym-9/2028-05-26/
LOCATION:The Collective Fitness\, R. Prof. Sousa da Câmara 128 Loja C\, Lisboa\, Lisboa\, 1070-217\, Portugal
CATEGORIES:Open Gym
END:VEVENT
BEGIN:VEVENT
DTSTART;TZID=Europe/Lisbon:20280526T143000
DTEND;TZID=Europe/Lisbon:20280526T173000
DTSTAMP:20260424T142457
CREATED:20250708T173610Z
LAST-MODIFIED:20250708T210749Z
UID:10023753-1842964200-1842975000@www.collectivefitness.pt
SUMMARY:Open Gym
DESCRIPTION:TRY IT NOW
URL:https://www.collectivefitness.pt/event/open-gym-10/2028-05-26/
LOCATION:The Collective Fitness\, R. Prof. Sousa da Câmara 128 Loja C\, Lisboa\, Lisboa\, 1070-217\, Portugal
CATEGORIES:Open Gym
END:VEVENT
BEGIN:VEVENT
DTSTART;TZID=Europe/Lisbon:20280527T123000
DTEND;TZID=Europe/Lisbon:20280527T143000
DTSTAMP:20260424T142457
CREATED:20250708T181609Z
LAST-MODIFIED:20250708T210709Z
UID:10027687-1843043400-1843050600@www.collectivefitness.pt
SUMMARY:Open Gym
DESCRIPTION:TRY IT NOW
URL:https://www.collectivefitness.pt/event/open-gym-11/2028-05-27/
LOCATION:The Collective Fitness\, R. Prof. Sousa da Câmara 128 Loja C\, Lisboa\, Lisboa\, 1070-217\, Portugal
CATEGORIES:Open Gym
END:VEVENT
BEGIN:VEVENT
DTSTART;TZID=Europe/Lisbon:20280528T090000
DTEND;TZID=Europe/Lisbon:20280528T143000
DTSTAMP:20260424T142457
CREATED:20250708T181713Z
LAST-MODIFIED:20250708T210549Z
UID:10028211-1843117200-1843137000@www.collectivefitness.pt
SUMMARY:Open Gym
DESCRIPTION:TRY IT NOW
URL:https://www.collectivefitness.pt/event/open-gym-12/2028-05-28/
LOCATION:The Collective Fitness\, R. Prof. Sousa da Câmara 128 Loja C\, Lisboa\, Lisboa\, 1070-217\, Portugal
CATEGORIES:Open Gym
END:VEVENT
BEGIN:VEVENT
DTSTART;TZID=Europe/Lisbon:20280529T104500
DTEND;TZID=Europe/Lisbon:20280529T123000
DTSTAMP:20260424T142457
CREATED:20250708T094513Z
LAST-MODIFIED:20260306T200400Z
UID:10030230-1843209900-1843216200@www.collectivefitness.pt
SUMMARY:Open Gym
DESCRIPTION:TRY IT NOW
URL:https://www.collectivefitness.pt/event/open-gym-3/2028-05-29/
LOCATION:The Collective Fitness\, R. Prof. Sousa da Câmara 128 Loja C\, Lisboa\, Lisboa\, 1070-217\, Portugal
CATEGORIES:Open Gym
END:VEVENT
BEGIN:VEVENT
DTSTART;TZID=Europe/Lisbon:20280529T143000
DTEND;TZID=Europe/Lisbon:20280529T173000
DTSTAMP:20260424T142457
CREATED:20250708T093507Z
LAST-MODIFIED:20250708T211954Z
UID:10004618-1843223400-1843234200@www.collectivefitness.pt
SUMMARY:Open Gym
DESCRIPTION:TRY IT NOW
URL:https://www.collectivefitness.pt/event/open-gym-2/2028-05-29/
LOCATION:The Collective Fitness\, R. Prof. Sousa da Câmara 128 Loja C\, Lisboa\, Lisboa\, 1070-217\, Portugal
CATEGORIES:Open Gym
END:VEVENT
BEGIN:VEVENT
DTSTART;TZID=Europe/Lisbon:20280530T084500
DTEND;TZID=Europe/Lisbon:20280530T123000
DTSTAMP:20260424T142457
CREATED:20250708T132212Z
LAST-MODIFIED:20250708T211822Z
UID:10006456-1843289100-1843302600@www.collectivefitness.pt
SUMMARY:Open Gym
DESCRIPTION:TRY IT NOW
URL:https://www.collectivefitness.pt/event/open-gym/2028-05-30/
LOCATION:The Collective Fitness\, R. Prof. Sousa da Câmara 128 Loja C\, Lisboa\, Lisboa\, 1070-217\, Portugal
CATEGORIES:Open Gym
END:VEVENT
END:VCALENDAR