BEGIN:VCALENDAR
VERSION:2.0
PRODID:-//The collective fitness - ECPv6.15.16//NONSGML v1.0//EN
CALSCALE:GREGORIAN
METHOD:PUBLISH
X-ORIGINAL-URL:https://www.collectivefitness.pt
X-WR-CALDESC:Events for The collective fitness
REFRESH-INTERVAL;VALUE=DURATION:PT1H
X-Robots-Tag:noindex
X-PUBLISHED-TTL:PT1H
BEGIN:VTIMEZONE
TZID:Europe/Lisbon
BEGIN:DAYLIGHT
TZOFFSETFROM:+0000
TZOFFSETTO:+0100
TZNAME:WEST
DTSTART:20270328T010000
END:DAYLIGHT
BEGIN:STANDARD
TZOFFSETFROM:+0100
TZOFFSETTO:+0000
TZNAME:WET
DTSTART:20271031T010000
END:STANDARD
BEGIN:DAYLIGHT
TZOFFSETFROM:+0000
TZOFFSETTO:+0100
TZNAME:WEST
DTSTART:20280326T010000
END:DAYLIGHT
BEGIN:STANDARD
TZOFFSETFROM:+0100
TZOFFSETTO:+0000
TZNAME:WET
DTSTART:20281029T010000
END:STANDARD
BEGIN:DAYLIGHT
TZOFFSETFROM:+0000
TZOFFSETTO:+0100
TZNAME:WEST
DTSTART:20290325T010000
END:DAYLIGHT
BEGIN:STANDARD
TZOFFSETFROM:+0100
TZOFFSETTO:+0000
TZNAME:WET
DTSTART:20291028T010000
END:STANDARD
END:VTIMEZONE
BEGIN:VEVENT
DTSTART;TZID=Europe/Lisbon:20280324T104500
DTEND;TZID=Europe/Lisbon:20280324T123000
DTSTAMP:20260424T034029
CREATED:20250708T173449Z
LAST-MODIFIED:20260306T200930Z
UID:10031109-1837507500-1837513800@www.collectivefitness.pt
SUMMARY:Open Gym
DESCRIPTION:TRY IT NOW
URL:https://www.collectivefitness.pt/event/open-gym-9/2028-03-24/
LOCATION:The Collective Fitness\, R. Prof. Sousa da Câmara 128 Loja C\, Lisboa\, Lisboa\, 1070-217\, Portugal
CATEGORIES:Open Gym
END:VEVENT
BEGIN:VEVENT
DTSTART;TZID=Europe/Lisbon:20280324T143000
DTEND;TZID=Europe/Lisbon:20280324T173000
DTSTAMP:20260424T034029
CREATED:20250708T173610Z
LAST-MODIFIED:20250708T210749Z
UID:10023744-1837521000-1837531800@www.collectivefitness.pt
SUMMARY:Open Gym
DESCRIPTION:TRY IT NOW
URL:https://www.collectivefitness.pt/event/open-gym-10/2028-03-24/
LOCATION:The Collective Fitness\, R. Prof. Sousa da Câmara 128 Loja C\, Lisboa\, Lisboa\, 1070-217\, Portugal
CATEGORIES:Open Gym
END:VEVENT
BEGIN:VEVENT
DTSTART;TZID=Europe/Lisbon:20280325T123000
DTEND;TZID=Europe/Lisbon:20280325T143000
DTSTAMP:20260424T034029
CREATED:20250708T181609Z
LAST-MODIFIED:20250708T210709Z
UID:10027678-1837600200-1837607400@www.collectivefitness.pt
SUMMARY:Open Gym
DESCRIPTION:TRY IT NOW
URL:https://www.collectivefitness.pt/event/open-gym-11/2028-03-25/
LOCATION:The Collective Fitness\, R. Prof. Sousa da Câmara 128 Loja C\, Lisboa\, Lisboa\, 1070-217\, Portugal
CATEGORIES:Open Gym
END:VEVENT
BEGIN:VEVENT
DTSTART;TZID=Europe/Lisbon:20280326T090000
DTEND;TZID=Europe/Lisbon:20280326T143000
DTSTAMP:20260424T034029
CREATED:20250708T181713Z
LAST-MODIFIED:20250708T210549Z
UID:10028202-1837674000-1837693800@www.collectivefitness.pt
SUMMARY:Open Gym
DESCRIPTION:TRY IT NOW
URL:https://www.collectivefitness.pt/event/open-gym-12/2028-03-26/
LOCATION:The Collective Fitness\, R. Prof. Sousa da Câmara 128 Loja C\, Lisboa\, Lisboa\, 1070-217\, Portugal
CATEGORIES:Open Gym
END:VEVENT
BEGIN:VEVENT
DTSTART;TZID=Europe/Lisbon:20280327T104500
DTEND;TZID=Europe/Lisbon:20280327T123000
DTSTAMP:20260424T034029
CREATED:20250708T094513Z
LAST-MODIFIED:20260306T200400Z
UID:10030221-1837766700-1837773000@www.collectivefitness.pt
SUMMARY:Open Gym
DESCRIPTION:TRY IT NOW
URL:https://www.collectivefitness.pt/event/open-gym-3/2028-03-27/
LOCATION:The Collective Fitness\, R. Prof. Sousa da Câmara 128 Loja C\, Lisboa\, Lisboa\, 1070-217\, Portugal
CATEGORIES:Open Gym
END:VEVENT
BEGIN:VEVENT
DTSTART;TZID=Europe/Lisbon:20280327T143000
DTEND;TZID=Europe/Lisbon:20280327T173000
DTSTAMP:20260424T034029
CREATED:20250708T093507Z
LAST-MODIFIED:20250708T211954Z
UID:10004609-1837780200-1837791000@www.collectivefitness.pt
SUMMARY:Open Gym
DESCRIPTION:TRY IT NOW
URL:https://www.collectivefitness.pt/event/open-gym-2/2028-03-27/
LOCATION:The Collective Fitness\, R. Prof. Sousa da Câmara 128 Loja C\, Lisboa\, Lisboa\, 1070-217\, Portugal
CATEGORIES:Open Gym
END:VEVENT
BEGIN:VEVENT
DTSTART;TZID=Europe/Lisbon:20280328T084500
DTEND;TZID=Europe/Lisbon:20280328T123000
DTSTAMP:20260424T034029
CREATED:20250708T132212Z
LAST-MODIFIED:20250708T211822Z
UID:10006447-1837845900-1837859400@www.collectivefitness.pt
SUMMARY:Open Gym
DESCRIPTION:TRY IT NOW
URL:https://www.collectivefitness.pt/event/open-gym/2028-03-28/
LOCATION:The Collective Fitness\, R. Prof. Sousa da Câmara 128 Loja C\, Lisboa\, Lisboa\, 1070-217\, Portugal
CATEGORIES:Open Gym
END:VEVENT
BEGIN:VEVENT
DTSTART;TZID=Europe/Lisbon:20280328T143000
DTEND;TZID=Europe/Lisbon:20280328T173000
DTSTAMP:20260424T034029
CREATED:20250708T133029Z
LAST-MODIFIED:20250708T211747Z
UID:10008021-1837866600-1837877400@www.collectivefitness.pt
SUMMARY:Open Gym
DESCRIPTION:TRY IT NOW
URL:https://www.collectivefitness.pt/event/open-gym-4/2028-03-28/
LOCATION:The Collective Fitness\, R. Prof. Sousa da Câmara 128 Loja C\, Lisboa\, Lisboa\, 1070-217\, Portugal
CATEGORIES:Open Gym
END:VEVENT
BEGIN:VEVENT
DTSTART;TZID=Europe/Lisbon:20280329T100000
DTEND;TZID=Europe/Lisbon:20280329T123000
DTSTAMP:20260424T034029
CREATED:20250708T134807Z
LAST-MODIFIED:20250708T211701Z
UID:10011694-1837936800-1837945800@www.collectivefitness.pt
SUMMARY:Open Gym
DESCRIPTION:TRY IT NOW
URL:https://www.collectivefitness.pt/event/open-gym-5/2028-03-29/
LOCATION:The Collective Fitness\, R. Prof. Sousa da Câmara 128 Loja C\, Lisboa\, Lisboa\, 1070-217\, Portugal
CATEGORIES:Open Gym
END:VEVENT
BEGIN:VEVENT
DTSTART;TZID=Europe/Lisbon:20280329T143000
DTEND;TZID=Europe/Lisbon:20280329T173000
DTSTAMP:20260424T034029
CREATED:20250708T135057Z
LAST-MODIFIED:20250708T211612Z
UID:10013266-1837953000-1837963800@www.collectivefitness.pt
SUMMARY:Open Gym
DESCRIPTION:TRY IT NOW
URL:https://www.collectivefitness.pt/event/open-gym-6/2028-03-29/
LOCATION:The Collective Fitness\, R. Prof. Sousa da Câmara 128 Loja C\, Lisboa\, Lisboa\, 1070-217\, Portugal
CATEGORIES:Open Gym
END:VEVENT
BEGIN:VEVENT
DTSTART;TZID=Europe/Lisbon:20280330T093000
DTEND;TZID=Europe/Lisbon:20280330T123000
DTSTAMP:20260424T034029
CREATED:20250708T135609Z
LAST-MODIFIED:20260306T201047Z
UID:10030518-1838021400-1838032200@www.collectivefitness.pt
SUMMARY:Open Gym
DESCRIPTION:TRY IT NOW
URL:https://www.collectivefitness.pt/event/open-gym-7/2028-03-30/
LOCATION:The Collective Fitness\, R. Prof. Sousa da Câmara 128 Loja C\, Lisboa\, Lisboa\, 1070-217\, Portugal
CATEGORIES:Open Gym
END:VEVENT
BEGIN:VEVENT
DTSTART;TZID=Europe/Lisbon:20280330T143000
DTEND;TZID=Europe/Lisbon:20280330T173000
DTSTAMP:20260424T034029
CREATED:20250708T135857Z
LAST-MODIFIED:20250708T211359Z
UID:10017982-1838039400-1838050200@www.collectivefitness.pt
SUMMARY:Open Gym
DESCRIPTION:TRY IT NOW
URL:https://www.collectivefitness.pt/event/open-gym-8/2028-03-30/
LOCATION:The Collective Fitness\, R. Prof. Sousa da Câmara 128 Loja C\, Lisboa\, Lisboa\, 1070-217\, Portugal
CATEGORIES:Open Gym
END:VEVENT
BEGIN:VEVENT
DTSTART;TZID=Europe/Lisbon:20280331T104500
DTEND;TZID=Europe/Lisbon:20280331T123000
DTSTAMP:20260424T034029
CREATED:20250708T173449Z
LAST-MODIFIED:20260306T200930Z
UID:10031110-1838112300-1838118600@www.collectivefitness.pt
SUMMARY:Open Gym
DESCRIPTION:TRY IT NOW
URL:https://www.collectivefitness.pt/event/open-gym-9/2028-03-31/
LOCATION:The Collective Fitness\, R. Prof. Sousa da Câmara 128 Loja C\, Lisboa\, Lisboa\, 1070-217\, Portugal
CATEGORIES:Open Gym
END:VEVENT
BEGIN:VEVENT
DTSTART;TZID=Europe/Lisbon:20280331T143000
DTEND;TZID=Europe/Lisbon:20280331T173000
DTSTAMP:20260424T034029
CREATED:20250708T173610Z
LAST-MODIFIED:20250708T210749Z
UID:10023745-1838125800-1838136600@www.collectivefitness.pt
SUMMARY:Open Gym
DESCRIPTION:TRY IT NOW
URL:https://www.collectivefitness.pt/event/open-gym-10/2028-03-31/
LOCATION:The Collective Fitness\, R. Prof. Sousa da Câmara 128 Loja C\, Lisboa\, Lisboa\, 1070-217\, Portugal
CATEGORIES:Open Gym
END:VEVENT
BEGIN:VEVENT
DTSTART;TZID=Europe/Lisbon:20280401T123000
DTEND;TZID=Europe/Lisbon:20280401T143000
DTSTAMP:20260424T034029
CREATED:20250708T181609Z
LAST-MODIFIED:20250708T210709Z
UID:10027679-1838205000-1838212200@www.collectivefitness.pt
SUMMARY:Open Gym
DESCRIPTION:TRY IT NOW
URL:https://www.collectivefitness.pt/event/open-gym-11/2028-04-01/
LOCATION:The Collective Fitness\, R. Prof. Sousa da Câmara 128 Loja C\, Lisboa\, Lisboa\, 1070-217\, Portugal
CATEGORIES:Open Gym
END:VEVENT
BEGIN:VEVENT
DTSTART;TZID=Europe/Lisbon:20280402T090000
DTEND;TZID=Europe/Lisbon:20280402T143000
DTSTAMP:20260424T034029
CREATED:20250708T181713Z
LAST-MODIFIED:20250708T210549Z
UID:10028203-1838278800-1838298600@www.collectivefitness.pt
SUMMARY:Open Gym
DESCRIPTION:TRY IT NOW
URL:https://www.collectivefitness.pt/event/open-gym-12/2028-04-02/
LOCATION:The Collective Fitness\, R. Prof. Sousa da Câmara 128 Loja C\, Lisboa\, Lisboa\, 1070-217\, Portugal
CATEGORIES:Open Gym
END:VEVENT
BEGIN:VEVENT
DTSTART;TZID=Europe/Lisbon:20280403T104500
DTEND;TZID=Europe/Lisbon:20280403T123000
DTSTAMP:20260424T034029
CREATED:20250708T094513Z
LAST-MODIFIED:20260306T200400Z
UID:10030222-1838371500-1838377800@www.collectivefitness.pt
SUMMARY:Open Gym
DESCRIPTION:TRY IT NOW
URL:https://www.collectivefitness.pt/event/open-gym-3/2028-04-03/
LOCATION:The Collective Fitness\, R. Prof. Sousa da Câmara 128 Loja C\, Lisboa\, Lisboa\, 1070-217\, Portugal
CATEGORIES:Open Gym
END:VEVENT
BEGIN:VEVENT
DTSTART;TZID=Europe/Lisbon:20280403T143000
DTEND;TZID=Europe/Lisbon:20280403T173000
DTSTAMP:20260424T034029
CREATED:20250708T093507Z
LAST-MODIFIED:20250708T211954Z
UID:10004610-1838385000-1838395800@www.collectivefitness.pt
SUMMARY:Open Gym
DESCRIPTION:TRY IT NOW
URL:https://www.collectivefitness.pt/event/open-gym-2/2028-04-03/
LOCATION:The Collective Fitness\, R. Prof. Sousa da Câmara 128 Loja C\, Lisboa\, Lisboa\, 1070-217\, Portugal
CATEGORIES:Open Gym
END:VEVENT
BEGIN:VEVENT
DTSTART;TZID=Europe/Lisbon:20280404T084500
DTEND;TZID=Europe/Lisbon:20280404T123000
DTSTAMP:20260424T034029
CREATED:20250708T132212Z
LAST-MODIFIED:20250708T211822Z
UID:10006448-1838450700-1838464200@www.collectivefitness.pt
SUMMARY:Open Gym
DESCRIPTION:TRY IT NOW
URL:https://www.collectivefitness.pt/event/open-gym/2028-04-04/
LOCATION:The Collective Fitness\, R. Prof. Sousa da Câmara 128 Loja C\, Lisboa\, Lisboa\, 1070-217\, Portugal
CATEGORIES:Open Gym
END:VEVENT
BEGIN:VEVENT
DTSTART;TZID=Europe/Lisbon:20280404T143000
DTEND;TZID=Europe/Lisbon:20280404T173000
DTSTAMP:20260424T034029
CREATED:20250708T133029Z
LAST-MODIFIED:20250708T211747Z
UID:10008022-1838471400-1838482200@www.collectivefitness.pt
SUMMARY:Open Gym
DESCRIPTION:TRY IT NOW
URL:https://www.collectivefitness.pt/event/open-gym-4/2028-04-04/
LOCATION:The Collective Fitness\, R. Prof. Sousa da Câmara 128 Loja C\, Lisboa\, Lisboa\, 1070-217\, Portugal
CATEGORIES:Open Gym
END:VEVENT
BEGIN:VEVENT
DTSTART;TZID=Europe/Lisbon:20280405T100000
DTEND;TZID=Europe/Lisbon:20280405T123000
DTSTAMP:20260424T034029
CREATED:20250708T134807Z
LAST-MODIFIED:20250708T211701Z
UID:10011695-1838541600-1838550600@www.collectivefitness.pt
SUMMARY:Open Gym
DESCRIPTION:TRY IT NOW
URL:https://www.collectivefitness.pt/event/open-gym-5/2028-04-05/
LOCATION:The Collective Fitness\, R. Prof. Sousa da Câmara 128 Loja C\, Lisboa\, Lisboa\, 1070-217\, Portugal
CATEGORIES:Open Gym
END:VEVENT
BEGIN:VEVENT
DTSTART;TZID=Europe/Lisbon:20280405T143000
DTEND;TZID=Europe/Lisbon:20280405T173000
DTSTAMP:20260424T034029
CREATED:20250708T135057Z
LAST-MODIFIED:20250708T211612Z
UID:10013267-1838557800-1838568600@www.collectivefitness.pt
SUMMARY:Open Gym
DESCRIPTION:TRY IT NOW
URL:https://www.collectivefitness.pt/event/open-gym-6/2028-04-05/
LOCATION:The Collective Fitness\, R. Prof. Sousa da Câmara 128 Loja C\, Lisboa\, Lisboa\, 1070-217\, Portugal
CATEGORIES:Open Gym
END:VEVENT
BEGIN:VEVENT
DTSTART;TZID=Europe/Lisbon:20280406T093000
DTEND;TZID=Europe/Lisbon:20280406T123000
DTSTAMP:20260424T034029
CREATED:20250708T135609Z
LAST-MODIFIED:20260306T201047Z
UID:10030519-1838626200-1838637000@www.collectivefitness.pt
SUMMARY:Open Gym
DESCRIPTION:TRY IT NOW
URL:https://www.collectivefitness.pt/event/open-gym-7/2028-04-06/
LOCATION:The Collective Fitness\, R. Prof. Sousa da Câmara 128 Loja C\, Lisboa\, Lisboa\, 1070-217\, Portugal
CATEGORIES:Open Gym
END:VEVENT
BEGIN:VEVENT
DTSTART;TZID=Europe/Lisbon:20280406T143000
DTEND;TZID=Europe/Lisbon:20280406T173000
DTSTAMP:20260424T034029
CREATED:20250708T135857Z
LAST-MODIFIED:20250708T211359Z
UID:10017983-1838644200-1838655000@www.collectivefitness.pt
SUMMARY:Open Gym
DESCRIPTION:TRY IT NOW
URL:https://www.collectivefitness.pt/event/open-gym-8/2028-04-06/
LOCATION:The Collective Fitness\, R. Prof. Sousa da Câmara 128 Loja C\, Lisboa\, Lisboa\, 1070-217\, Portugal
CATEGORIES:Open Gym
END:VEVENT
BEGIN:VEVENT
DTSTART;TZID=Europe/Lisbon:20280407T104500
DTEND;TZID=Europe/Lisbon:20280407T123000
DTSTAMP:20260424T034029
CREATED:20250708T173449Z
LAST-MODIFIED:20260306T200930Z
UID:10031111-1838717100-1838723400@www.collectivefitness.pt
SUMMARY:Open Gym
DESCRIPTION:TRY IT NOW
URL:https://www.collectivefitness.pt/event/open-gym-9/2028-04-07/
LOCATION:The Collective Fitness\, R. Prof. Sousa da Câmara 128 Loja C\, Lisboa\, Lisboa\, 1070-217\, Portugal
CATEGORIES:Open Gym
END:VEVENT
BEGIN:VEVENT
DTSTART;TZID=Europe/Lisbon:20280407T143000
DTEND;TZID=Europe/Lisbon:20280407T173000
DTSTAMP:20260424T034029
CREATED:20250708T173610Z
LAST-MODIFIED:20250708T210749Z
UID:10023746-1838730600-1838741400@www.collectivefitness.pt
SUMMARY:Open Gym
DESCRIPTION:TRY IT NOW
URL:https://www.collectivefitness.pt/event/open-gym-10/2028-04-07/
LOCATION:The Collective Fitness\, R. Prof. Sousa da Câmara 128 Loja C\, Lisboa\, Lisboa\, 1070-217\, Portugal
CATEGORIES:Open Gym
END:VEVENT
BEGIN:VEVENT
DTSTART;TZID=Europe/Lisbon:20280408T123000
DTEND;TZID=Europe/Lisbon:20280408T143000
DTSTAMP:20260424T034029
CREATED:20250708T181609Z
LAST-MODIFIED:20250708T210709Z
UID:10027680-1838809800-1838817000@www.collectivefitness.pt
SUMMARY:Open Gym
DESCRIPTION:TRY IT NOW
URL:https://www.collectivefitness.pt/event/open-gym-11/2028-04-08/
LOCATION:The Collective Fitness\, R. Prof. Sousa da Câmara 128 Loja C\, Lisboa\, Lisboa\, 1070-217\, Portugal
CATEGORIES:Open Gym
END:VEVENT
BEGIN:VEVENT
DTSTART;TZID=Europe/Lisbon:20280409T090000
DTEND;TZID=Europe/Lisbon:20280409T143000
DTSTAMP:20260424T034029
CREATED:20250708T181713Z
LAST-MODIFIED:20250708T210549Z
UID:10028204-1838883600-1838903400@www.collectivefitness.pt
SUMMARY:Open Gym
DESCRIPTION:TRY IT NOW
URL:https://www.collectivefitness.pt/event/open-gym-12/2028-04-09/
LOCATION:The Collective Fitness\, R. Prof. Sousa da Câmara 128 Loja C\, Lisboa\, Lisboa\, 1070-217\, Portugal
CATEGORIES:Open Gym
END:VEVENT
BEGIN:VEVENT
DTSTART;TZID=Europe/Lisbon:20280410T104500
DTEND;TZID=Europe/Lisbon:20280410T123000
DTSTAMP:20260424T034029
CREATED:20250708T094513Z
LAST-MODIFIED:20260306T200400Z
UID:10030223-1838976300-1838982600@www.collectivefitness.pt
SUMMARY:Open Gym
DESCRIPTION:TRY IT NOW
URL:https://www.collectivefitness.pt/event/open-gym-3/2028-04-10/
LOCATION:The Collective Fitness\, R. Prof. Sousa da Câmara 128 Loja C\, Lisboa\, Lisboa\, 1070-217\, Portugal
CATEGORIES:Open Gym
END:VEVENT
BEGIN:VEVENT
DTSTART;TZID=Europe/Lisbon:20280410T143000
DTEND;TZID=Europe/Lisbon:20280410T173000
DTSTAMP:20260424T034029
CREATED:20250708T093507Z
LAST-MODIFIED:20250708T211954Z
UID:10004611-1838989800-1839000600@www.collectivefitness.pt
SUMMARY:Open Gym
DESCRIPTION:TRY IT NOW
URL:https://www.collectivefitness.pt/event/open-gym-2/2028-04-10/
LOCATION:The Collective Fitness\, R. Prof. Sousa da Câmara 128 Loja C\, Lisboa\, Lisboa\, 1070-217\, Portugal
CATEGORIES:Open Gym
END:VEVENT
END:VCALENDAR