BEGIN:VCALENDAR
VERSION:2.0
PRODID:-//The collective fitness - ECPv6.15.16//NONSGML v1.0//EN
CALSCALE:GREGORIAN
METHOD:PUBLISH
X-WR-CALNAME:The collective fitness
X-ORIGINAL-URL:https://www.collectivefitness.pt
X-WR-CALDESC:Events for The collective fitness
REFRESH-INTERVAL;VALUE=DURATION:PT1H
X-Robots-Tag:noindex
X-PUBLISHED-TTL:PT1H
BEGIN:VTIMEZONE
TZID:Europe/Lisbon
BEGIN:DAYLIGHT
TZOFFSETFROM:+0000
TZOFFSETTO:+0100
TZNAME:WEST
DTSTART:20280326T010000
END:DAYLIGHT
BEGIN:STANDARD
TZOFFSETFROM:+0100
TZOFFSETTO:+0000
TZNAME:WET
DTSTART:20281029T010000
END:STANDARD
BEGIN:DAYLIGHT
TZOFFSETFROM:+0000
TZOFFSETTO:+0100
TZNAME:WEST
DTSTART:20290325T010000
END:DAYLIGHT
BEGIN:STANDARD
TZOFFSETFROM:+0100
TZOFFSETTO:+0000
TZNAME:WET
DTSTART:20291028T010000
END:STANDARD
BEGIN:DAYLIGHT
TZOFFSETFROM:+0000
TZOFFSETTO:+0100
TZNAME:WEST
DTSTART:20300331T010000
END:DAYLIGHT
BEGIN:STANDARD
TZOFFSETFROM:+0100
TZOFFSETTO:+0000
TZNAME:WET
DTSTART:20301027T010000
END:STANDARD
END:VTIMEZONE
BEGIN:VEVENT
DTSTART;TZID=Europe/Lisbon:20290222T173000
DTEND;TZID=Europe/Lisbon:20290222T183000
DTSTAMP:20260423T085807
CREATED:20250708T140035Z
LAST-MODIFIED:20250708T140035Z
UID:10018553-1866475800-1866479400@www.collectivefitness.pt
SUMMARY:TCF Daily
DESCRIPTION:TCF Daily-Our signature functional fitness class. A comprehensive 60 minutes session incorporating either a strength-building or skill-focused segment\, alongside a heart-pumping metabolic conditioning portion.
URL:https://www.collectivefitness.pt/event/tcf-daily-25/2029-02-22/
LOCATION:The Collective Fitness\, R. Prof. Sousa da Câmara 128 Loja C\, Lisboa\, Lisboa\, 1070-217\, Portugal
CATEGORIES:TCF Daily
END:VEVENT
BEGIN:VEVENT
DTSTART;TZID=Europe/Lisbon:20290222T183000
DTEND;TZID=Europe/Lisbon:20290222T193000
DTSTAMP:20260423T085807
CREATED:20250708T173002Z
LAST-MODIFIED:20250708T203605Z
UID:10019339-1866479400-1866483000@www.collectivefitness.pt
SUMMARY:TCF Daily
DESCRIPTION:TCF Daily-Our signature functional fitness class. A comprehensive 60 minutes session incorporating either a strength-building or skill-focused segment\, alongside a heart-pumping metabolic conditioning portion. \nTRY THIS CLASS NOW
URL:https://www.collectivefitness.pt/event/tcf-daily-26/2029-02-22/
LOCATION:The Collective Fitness\, R. Prof. Sousa da Câmara 128 Loja C\, Lisboa\, Lisboa\, 1070-217\, Portugal
CATEGORIES:TCF Daily
END:VEVENT
BEGIN:VEVENT
DTSTART;TZID=Europe/Lisbon:20290222T193000
DTEND;TZID=Europe/Lisbon:20290222T203000
DTSTAMP:20260423T085807
CREATED:20250708T173100Z
LAST-MODIFIED:20250708T190902Z
UID:10019861-1866483000-1866486600@www.collectivefitness.pt
SUMMARY:TCF Daily
DESCRIPTION:TCF Daily-Our signature functional fitness class. A comprehensive 60 minutes session incorporating either a strength-building or skill-focused segment\, alongside a heart-pumping metabolic conditioning portion. \nTRY THIS CLASS NOW
URL:https://www.collectivefitness.pt/event/tcf-daily-27-2/2029-02-22/
LOCATION:The Collective Fitness\, R. Prof. Sousa da Câmara 128 Loja C\, Lisboa\, Lisboa\, 1070-217\, Portugal
CATEGORIES:TCF Daily
END:VEVENT
BEGIN:VEVENT
DTSTART;TZID=Europe/Lisbon:20290223T173000
DTEND;TZID=Europe/Lisbon:20290223T183000
DTSTAMP:20260423T085807
CREATED:20250708T173728Z
LAST-MODIFIED:20250717T145115Z
UID:10024579-1866562200-1866565800@www.collectivefitness.pt
SUMMARY:Strengh Club
DESCRIPTION:Develop strength\, power\, and muscular endurance in our 60-minute blend of weightlifting\, powerlifting\, ans strength athletics training.
URL:https://www.collectivefitness.pt/event/strengh-club-2/2029-02-23/
LOCATION:The Collective Fitness\, R. Prof. Sousa da Câmara 128 Loja C\, Lisboa\, Lisboa\, 1070-217\, Portugal
CATEGORIES:Strength Club
END:VEVENT
BEGIN:VEVENT
DTSTART;TZID=Europe/Lisbon:20290223T183000
DTEND;TZID=Europe/Lisbon:20290223T193000
DTSTAMP:20260423T085807
CREATED:20250708T173757Z
LAST-MODIFIED:20250717T145011Z
UID:10025104-1866565800-1866569400@www.collectivefitness.pt
SUMMARY:TCF Daily
DESCRIPTION:TCF Daily-Our signature functional fitness class. A comprehensive 60 minutes session incorporating either a strength-building or skill-focused segment\, alongside a heart-pumping metabolic conditioning portion. \nTRY THIS CLASS NOW
URL:https://www.collectivefitness.pt/event/tcf-daily-32/2029-02-23/
LOCATION:The Collective Fitness\, R. Prof. Sousa da Câmara 128 Loja C\, Lisboa\, Lisboa\, 1070-217\, Portugal
CATEGORIES:TCF Daily
END:VEVENT
BEGIN:VEVENT
DTSTART;TZID=Europe/Lisbon:20290223T193000
DTEND;TZID=Europe/Lisbon:20290223T203000
DTSTAMP:20260423T085807
CREATED:20250708T173821Z
LAST-MODIFIED:20250717T144936Z
UID:10025629-1866569400-1866573000@www.collectivefitness.pt
SUMMARY:TCF Daily
DESCRIPTION:TCF Daily-Our signature functional fitness class. A comprehensive 60 minutes session incorporating either a strength-building or skill-focused segment\, alongside a heart-pumping metabolic conditioning portion. \nTRY THIS CLASS NOW
URL:https://www.collectivefitness.pt/event/tcf-daily-33/2029-02-23/
LOCATION:The Collective Fitness\, R. Prof. Sousa da Câmara 128 Loja C\, Lisboa\, Lisboa\, 1070-217\, Portugal
CATEGORIES:TCF Daily
END:VEVENT
BEGIN:VEVENT
DTSTART;TZID=Europe/Lisbon:20290301T173000
DTEND;TZID=Europe/Lisbon:20290301T183000
DTSTAMP:20260423T085807
CREATED:20250708T140035Z
LAST-MODIFIED:20250708T140035Z
UID:10018554-1867080600-1867084200@www.collectivefitness.pt
SUMMARY:TCF Daily
DESCRIPTION:TCF Daily-Our signature functional fitness class. A comprehensive 60 minutes session incorporating either a strength-building or skill-focused segment\, alongside a heart-pumping metabolic conditioning portion.
URL:https://www.collectivefitness.pt/event/tcf-daily-25/2029-03-01/
LOCATION:The Collective Fitness\, R. Prof. Sousa da Câmara 128 Loja C\, Lisboa\, Lisboa\, 1070-217\, Portugal
CATEGORIES:TCF Daily
END:VEVENT
BEGIN:VEVENT
DTSTART;TZID=Europe/Lisbon:20290301T183000
DTEND;TZID=Europe/Lisbon:20290301T193000
DTSTAMP:20260423T085807
CREATED:20250708T173002Z
LAST-MODIFIED:20250708T203605Z
UID:10019340-1867084200-1867087800@www.collectivefitness.pt
SUMMARY:TCF Daily
DESCRIPTION:TCF Daily-Our signature functional fitness class. A comprehensive 60 minutes session incorporating either a strength-building or skill-focused segment\, alongside a heart-pumping metabolic conditioning portion. \nTRY THIS CLASS NOW
URL:https://www.collectivefitness.pt/event/tcf-daily-26/2029-03-01/
LOCATION:The Collective Fitness\, R. Prof. Sousa da Câmara 128 Loja C\, Lisboa\, Lisboa\, 1070-217\, Portugal
CATEGORIES:TCF Daily
END:VEVENT
BEGIN:VEVENT
DTSTART;TZID=Europe/Lisbon:20290301T193000
DTEND;TZID=Europe/Lisbon:20290301T203000
DTSTAMP:20260423T085807
CREATED:20250708T173100Z
LAST-MODIFIED:20250708T190902Z
UID:10019862-1867087800-1867091400@www.collectivefitness.pt
SUMMARY:TCF Daily
DESCRIPTION:TCF Daily-Our signature functional fitness class. A comprehensive 60 minutes session incorporating either a strength-building or skill-focused segment\, alongside a heart-pumping metabolic conditioning portion. \nTRY THIS CLASS NOW
URL:https://www.collectivefitness.pt/event/tcf-daily-27-2/2029-03-01/
LOCATION:The Collective Fitness\, R. Prof. Sousa da Câmara 128 Loja C\, Lisboa\, Lisboa\, 1070-217\, Portugal
CATEGORIES:TCF Daily
END:VEVENT
BEGIN:VEVENT
DTSTART;TZID=Europe/Lisbon:20290302T173000
DTEND;TZID=Europe/Lisbon:20290302T183000
DTSTAMP:20260423T085807
CREATED:20250708T173728Z
LAST-MODIFIED:20250717T145115Z
UID:10024580-1867167000-1867170600@www.collectivefitness.pt
SUMMARY:Strengh Club
DESCRIPTION:Develop strength\, power\, and muscular endurance in our 60-minute blend of weightlifting\, powerlifting\, ans strength athletics training.
URL:https://www.collectivefitness.pt/event/strengh-club-2/2029-03-02/
LOCATION:The Collective Fitness\, R. Prof. Sousa da Câmara 128 Loja C\, Lisboa\, Lisboa\, 1070-217\, Portugal
CATEGORIES:Strength Club
END:VEVENT
BEGIN:VEVENT
DTSTART;TZID=Europe/Lisbon:20290302T183000
DTEND;TZID=Europe/Lisbon:20290302T193000
DTSTAMP:20260423T085807
CREATED:20250708T173757Z
LAST-MODIFIED:20250717T145011Z
UID:10025105-1867170600-1867174200@www.collectivefitness.pt
SUMMARY:TCF Daily
DESCRIPTION:TCF Daily-Our signature functional fitness class. A comprehensive 60 minutes session incorporating either a strength-building or skill-focused segment\, alongside a heart-pumping metabolic conditioning portion. \nTRY THIS CLASS NOW
URL:https://www.collectivefitness.pt/event/tcf-daily-32/2029-03-02/
LOCATION:The Collective Fitness\, R. Prof. Sousa da Câmara 128 Loja C\, Lisboa\, Lisboa\, 1070-217\, Portugal
CATEGORIES:TCF Daily
END:VEVENT
BEGIN:VEVENT
DTSTART;TZID=Europe/Lisbon:20290302T193000
DTEND;TZID=Europe/Lisbon:20290302T203000
DTSTAMP:20260423T085807
CREATED:20250708T173821Z
LAST-MODIFIED:20250717T144936Z
UID:10025630-1867174200-1867177800@www.collectivefitness.pt
SUMMARY:TCF Daily
DESCRIPTION:TCF Daily-Our signature functional fitness class. A comprehensive 60 minutes session incorporating either a strength-building or skill-focused segment\, alongside a heart-pumping metabolic conditioning portion. \nTRY THIS CLASS NOW
URL:https://www.collectivefitness.pt/event/tcf-daily-33/2029-03-02/
LOCATION:The Collective Fitness\, R. Prof. Sousa da Câmara 128 Loja C\, Lisboa\, Lisboa\, 1070-217\, Portugal
CATEGORIES:TCF Daily
END:VEVENT
BEGIN:VEVENT
DTSTART;TZID=Europe/Lisbon:20290308T173000
DTEND;TZID=Europe/Lisbon:20290308T183000
DTSTAMP:20260423T085807
CREATED:20250708T140035Z
LAST-MODIFIED:20250708T140035Z
UID:10018555-1867685400-1867689000@www.collectivefitness.pt
SUMMARY:TCF Daily
DESCRIPTION:TCF Daily-Our signature functional fitness class. A comprehensive 60 minutes session incorporating either a strength-building or skill-focused segment\, alongside a heart-pumping metabolic conditioning portion.
URL:https://www.collectivefitness.pt/event/tcf-daily-25/2029-03-08/
LOCATION:The Collective Fitness\, R. Prof. Sousa da Câmara 128 Loja C\, Lisboa\, Lisboa\, 1070-217\, Portugal
CATEGORIES:TCF Daily
END:VEVENT
BEGIN:VEVENT
DTSTART;TZID=Europe/Lisbon:20290308T183000
DTEND;TZID=Europe/Lisbon:20290308T193000
DTSTAMP:20260423T085807
CREATED:20250708T173002Z
LAST-MODIFIED:20250708T203605Z
UID:10019341-1867689000-1867692600@www.collectivefitness.pt
SUMMARY:TCF Daily
DESCRIPTION:TCF Daily-Our signature functional fitness class. A comprehensive 60 minutes session incorporating either a strength-building or skill-focused segment\, alongside a heart-pumping metabolic conditioning portion. \nTRY THIS CLASS NOW
URL:https://www.collectivefitness.pt/event/tcf-daily-26/2029-03-08/
LOCATION:The Collective Fitness\, R. Prof. Sousa da Câmara 128 Loja C\, Lisboa\, Lisboa\, 1070-217\, Portugal
CATEGORIES:TCF Daily
END:VEVENT
BEGIN:VEVENT
DTSTART;TZID=Europe/Lisbon:20290308T193000
DTEND;TZID=Europe/Lisbon:20290308T203000
DTSTAMP:20260423T085807
CREATED:20250708T173100Z
LAST-MODIFIED:20250708T190902Z
UID:10019863-1867692600-1867696200@www.collectivefitness.pt
SUMMARY:TCF Daily
DESCRIPTION:TCF Daily-Our signature functional fitness class. A comprehensive 60 minutes session incorporating either a strength-building or skill-focused segment\, alongside a heart-pumping metabolic conditioning portion. \nTRY THIS CLASS NOW
URL:https://www.collectivefitness.pt/event/tcf-daily-27-2/2029-03-08/
LOCATION:The Collective Fitness\, R. Prof. Sousa da Câmara 128 Loja C\, Lisboa\, Lisboa\, 1070-217\, Portugal
CATEGORIES:TCF Daily
END:VEVENT
BEGIN:VEVENT
DTSTART;TZID=Europe/Lisbon:20290309T173000
DTEND;TZID=Europe/Lisbon:20290309T183000
DTSTAMP:20260423T085807
CREATED:20250708T173728Z
LAST-MODIFIED:20250717T145115Z
UID:10024581-1867771800-1867775400@www.collectivefitness.pt
SUMMARY:Strengh Club
DESCRIPTION:Develop strength\, power\, and muscular endurance in our 60-minute blend of weightlifting\, powerlifting\, ans strength athletics training.
URL:https://www.collectivefitness.pt/event/strengh-club-2/2029-03-09/
LOCATION:The Collective Fitness\, R. Prof. Sousa da Câmara 128 Loja C\, Lisboa\, Lisboa\, 1070-217\, Portugal
CATEGORIES:Strength Club
END:VEVENT
BEGIN:VEVENT
DTSTART;TZID=Europe/Lisbon:20290309T183000
DTEND;TZID=Europe/Lisbon:20290309T193000
DTSTAMP:20260423T085807
CREATED:20250708T173757Z
LAST-MODIFIED:20250717T145011Z
UID:10025106-1867775400-1867779000@www.collectivefitness.pt
SUMMARY:TCF Daily
DESCRIPTION:TCF Daily-Our signature functional fitness class. A comprehensive 60 minutes session incorporating either a strength-building or skill-focused segment\, alongside a heart-pumping metabolic conditioning portion. \nTRY THIS CLASS NOW
URL:https://www.collectivefitness.pt/event/tcf-daily-32/2029-03-09/
LOCATION:The Collective Fitness\, R. Prof. Sousa da Câmara 128 Loja C\, Lisboa\, Lisboa\, 1070-217\, Portugal
CATEGORIES:TCF Daily
END:VEVENT
BEGIN:VEVENT
DTSTART;TZID=Europe/Lisbon:20290309T193000
DTEND;TZID=Europe/Lisbon:20290309T203000
DTSTAMP:20260423T085807
CREATED:20250708T173821Z
LAST-MODIFIED:20250717T144936Z
UID:10025631-1867779000-1867782600@www.collectivefitness.pt
SUMMARY:TCF Daily
DESCRIPTION:TCF Daily-Our signature functional fitness class. A comprehensive 60 minutes session incorporating either a strength-building or skill-focused segment\, alongside a heart-pumping metabolic conditioning portion. \nTRY THIS CLASS NOW
URL:https://www.collectivefitness.pt/event/tcf-daily-33/2029-03-09/
LOCATION:The Collective Fitness\, R. Prof. Sousa da Câmara 128 Loja C\, Lisboa\, Lisboa\, 1070-217\, Portugal
CATEGORIES:TCF Daily
END:VEVENT
BEGIN:VEVENT
DTSTART;TZID=Europe/Lisbon:20290315T173000
DTEND;TZID=Europe/Lisbon:20290315T183000
DTSTAMP:20260423T085807
CREATED:20250708T140035Z
LAST-MODIFIED:20250708T140035Z
UID:10018556-1868290200-1868293800@www.collectivefitness.pt
SUMMARY:TCF Daily
DESCRIPTION:TCF Daily-Our signature functional fitness class. A comprehensive 60 minutes session incorporating either a strength-building or skill-focused segment\, alongside a heart-pumping metabolic conditioning portion.
URL:https://www.collectivefitness.pt/event/tcf-daily-25/2029-03-15/
LOCATION:The Collective Fitness\, R. Prof. Sousa da Câmara 128 Loja C\, Lisboa\, Lisboa\, 1070-217\, Portugal
CATEGORIES:TCF Daily
END:VEVENT
BEGIN:VEVENT
DTSTART;TZID=Europe/Lisbon:20290315T183000
DTEND;TZID=Europe/Lisbon:20290315T193000
DTSTAMP:20260423T085807
CREATED:20250708T173002Z
LAST-MODIFIED:20250708T203605Z
UID:10019342-1868293800-1868297400@www.collectivefitness.pt
SUMMARY:TCF Daily
DESCRIPTION:TCF Daily-Our signature functional fitness class. A comprehensive 60 minutes session incorporating either a strength-building or skill-focused segment\, alongside a heart-pumping metabolic conditioning portion. \nTRY THIS CLASS NOW
URL:https://www.collectivefitness.pt/event/tcf-daily-26/2029-03-15/
LOCATION:The Collective Fitness\, R. Prof. Sousa da Câmara 128 Loja C\, Lisboa\, Lisboa\, 1070-217\, Portugal
CATEGORIES:TCF Daily
END:VEVENT
BEGIN:VEVENT
DTSTART;TZID=Europe/Lisbon:20290315T193000
DTEND;TZID=Europe/Lisbon:20290315T203000
DTSTAMP:20260423T085807
CREATED:20250708T173100Z
LAST-MODIFIED:20250708T190902Z
UID:10019864-1868297400-1868301000@www.collectivefitness.pt
SUMMARY:TCF Daily
DESCRIPTION:TCF Daily-Our signature functional fitness class. A comprehensive 60 minutes session incorporating either a strength-building or skill-focused segment\, alongside a heart-pumping metabolic conditioning portion. \nTRY THIS CLASS NOW
URL:https://www.collectivefitness.pt/event/tcf-daily-27-2/2029-03-15/
LOCATION:The Collective Fitness\, R. Prof. Sousa da Câmara 128 Loja C\, Lisboa\, Lisboa\, 1070-217\, Portugal
CATEGORIES:TCF Daily
END:VEVENT
BEGIN:VEVENT
DTSTART;TZID=Europe/Lisbon:20290316T173000
DTEND;TZID=Europe/Lisbon:20290316T183000
DTSTAMP:20260423T085807
CREATED:20250708T173728Z
LAST-MODIFIED:20250717T145115Z
UID:10024582-1868376600-1868380200@www.collectivefitness.pt
SUMMARY:Strengh Club
DESCRIPTION:Develop strength\, power\, and muscular endurance in our 60-minute blend of weightlifting\, powerlifting\, ans strength athletics training.
URL:https://www.collectivefitness.pt/event/strengh-club-2/2029-03-16/
LOCATION:The Collective Fitness\, R. Prof. Sousa da Câmara 128 Loja C\, Lisboa\, Lisboa\, 1070-217\, Portugal
CATEGORIES:Strength Club
END:VEVENT
BEGIN:VEVENT
DTSTART;TZID=Europe/Lisbon:20290316T183000
DTEND;TZID=Europe/Lisbon:20290316T193000
DTSTAMP:20260423T085807
CREATED:20250708T173757Z
LAST-MODIFIED:20250717T145011Z
UID:10025107-1868380200-1868383800@www.collectivefitness.pt
SUMMARY:TCF Daily
DESCRIPTION:TCF Daily-Our signature functional fitness class. A comprehensive 60 minutes session incorporating either a strength-building or skill-focused segment\, alongside a heart-pumping metabolic conditioning portion. \nTRY THIS CLASS NOW
URL:https://www.collectivefitness.pt/event/tcf-daily-32/2029-03-16/
LOCATION:The Collective Fitness\, R. Prof. Sousa da Câmara 128 Loja C\, Lisboa\, Lisboa\, 1070-217\, Portugal
CATEGORIES:TCF Daily
END:VEVENT
BEGIN:VEVENT
DTSTART;TZID=Europe/Lisbon:20290316T193000
DTEND;TZID=Europe/Lisbon:20290316T203000
DTSTAMP:20260423T085807
CREATED:20250708T173821Z
LAST-MODIFIED:20250717T144936Z
UID:10025632-1868383800-1868387400@www.collectivefitness.pt
SUMMARY:TCF Daily
DESCRIPTION:TCF Daily-Our signature functional fitness class. A comprehensive 60 minutes session incorporating either a strength-building or skill-focused segment\, alongside a heart-pumping metabolic conditioning portion. \nTRY THIS CLASS NOW
URL:https://www.collectivefitness.pt/event/tcf-daily-33/2029-03-16/
LOCATION:The Collective Fitness\, R. Prof. Sousa da Câmara 128 Loja C\, Lisboa\, Lisboa\, 1070-217\, Portugal
CATEGORIES:TCF Daily
END:VEVENT
BEGIN:VEVENT
DTSTART;TZID=Europe/Lisbon:20290322T173000
DTEND;TZID=Europe/Lisbon:20290322T183000
DTSTAMP:20260423T085807
CREATED:20250708T140035Z
LAST-MODIFIED:20250708T140035Z
UID:10018557-1868895000-1868898600@www.collectivefitness.pt
SUMMARY:TCF Daily
DESCRIPTION:TCF Daily-Our signature functional fitness class. A comprehensive 60 minutes session incorporating either a strength-building or skill-focused segment\, alongside a heart-pumping metabolic conditioning portion.
URL:https://www.collectivefitness.pt/event/tcf-daily-25/2029-03-22/
LOCATION:The Collective Fitness\, R. Prof. Sousa da Câmara 128 Loja C\, Lisboa\, Lisboa\, 1070-217\, Portugal
CATEGORIES:TCF Daily
END:VEVENT
BEGIN:VEVENT
DTSTART;TZID=Europe/Lisbon:20290322T183000
DTEND;TZID=Europe/Lisbon:20290322T193000
DTSTAMP:20260423T085807
CREATED:20250708T173002Z
LAST-MODIFIED:20250708T203605Z
UID:10019343-1868898600-1868902200@www.collectivefitness.pt
SUMMARY:TCF Daily
DESCRIPTION:TCF Daily-Our signature functional fitness class. A comprehensive 60 minutes session incorporating either a strength-building or skill-focused segment\, alongside a heart-pumping metabolic conditioning portion. \nTRY THIS CLASS NOW
URL:https://www.collectivefitness.pt/event/tcf-daily-26/2029-03-22/
LOCATION:The Collective Fitness\, R. Prof. Sousa da Câmara 128 Loja C\, Lisboa\, Lisboa\, 1070-217\, Portugal
CATEGORIES:TCF Daily
END:VEVENT
BEGIN:VEVENT
DTSTART;TZID=Europe/Lisbon:20290322T193000
DTEND;TZID=Europe/Lisbon:20290322T203000
DTSTAMP:20260423T085807
CREATED:20250708T173100Z
LAST-MODIFIED:20250708T190902Z
UID:10019865-1868902200-1868905800@www.collectivefitness.pt
SUMMARY:TCF Daily
DESCRIPTION:TCF Daily-Our signature functional fitness class. A comprehensive 60 minutes session incorporating either a strength-building or skill-focused segment\, alongside a heart-pumping metabolic conditioning portion. \nTRY THIS CLASS NOW
URL:https://www.collectivefitness.pt/event/tcf-daily-27-2/2029-03-22/
LOCATION:The Collective Fitness\, R. Prof. Sousa da Câmara 128 Loja C\, Lisboa\, Lisboa\, 1070-217\, Portugal
CATEGORIES:TCF Daily
END:VEVENT
BEGIN:VEVENT
DTSTART;TZID=Europe/Lisbon:20290323T173000
DTEND;TZID=Europe/Lisbon:20290323T183000
DTSTAMP:20260423T085807
CREATED:20250708T173728Z
LAST-MODIFIED:20250717T145115Z
UID:10024583-1868981400-1868985000@www.collectivefitness.pt
SUMMARY:Strengh Club
DESCRIPTION:Develop strength\, power\, and muscular endurance in our 60-minute blend of weightlifting\, powerlifting\, ans strength athletics training.
URL:https://www.collectivefitness.pt/event/strengh-club-2/2029-03-23/
LOCATION:The Collective Fitness\, R. Prof. Sousa da Câmara 128 Loja C\, Lisboa\, Lisboa\, 1070-217\, Portugal
CATEGORIES:Strength Club
END:VEVENT
BEGIN:VEVENT
DTSTART;TZID=Europe/Lisbon:20290323T183000
DTEND;TZID=Europe/Lisbon:20290323T193000
DTSTAMP:20260423T085807
CREATED:20250708T173757Z
LAST-MODIFIED:20250717T145011Z
UID:10025108-1868985000-1868988600@www.collectivefitness.pt
SUMMARY:TCF Daily
DESCRIPTION:TCF Daily-Our signature functional fitness class. A comprehensive 60 minutes session incorporating either a strength-building or skill-focused segment\, alongside a heart-pumping metabolic conditioning portion. \nTRY THIS CLASS NOW
URL:https://www.collectivefitness.pt/event/tcf-daily-32/2029-03-23/
LOCATION:The Collective Fitness\, R. Prof. Sousa da Câmara 128 Loja C\, Lisboa\, Lisboa\, 1070-217\, Portugal
CATEGORIES:TCF Daily
END:VEVENT
BEGIN:VEVENT
DTSTART;TZID=Europe/Lisbon:20290323T193000
DTEND;TZID=Europe/Lisbon:20290323T203000
DTSTAMP:20260423T085807
CREATED:20250708T173821Z
LAST-MODIFIED:20250717T144936Z
UID:10025633-1868988600-1868992200@www.collectivefitness.pt
SUMMARY:TCF Daily
DESCRIPTION:TCF Daily-Our signature functional fitness class. A comprehensive 60 minutes session incorporating either a strength-building or skill-focused segment\, alongside a heart-pumping metabolic conditioning portion. \nTRY THIS CLASS NOW
URL:https://www.collectivefitness.pt/event/tcf-daily-33/2029-03-23/
LOCATION:The Collective Fitness\, R. Prof. Sousa da Câmara 128 Loja C\, Lisboa\, Lisboa\, 1070-217\, Portugal
CATEGORIES:TCF Daily
END:VEVENT
END:VCALENDAR