BEGIN:VCALENDAR
VERSION:2.0
PRODID:-//The collective fitness - ECPv6.15.16//NONSGML v1.0//EN
CALSCALE:GREGORIAN
METHOD:PUBLISH
X-WR-CALNAME:The collective fitness
X-ORIGINAL-URL:https://www.collectivefitness.pt
X-WR-CALDESC:Events for The collective fitness
REFRESH-INTERVAL;VALUE=DURATION:PT1H
X-Robots-Tag:noindex
X-PUBLISHED-TTL:PT1H
BEGIN:VTIMEZONE
TZID:Europe/Lisbon
BEGIN:DAYLIGHT
TZOFFSETFROM:+0000
TZOFFSETTO:+0100
TZNAME:WEST
DTSTART:20270328T010000
END:DAYLIGHT
BEGIN:STANDARD
TZOFFSETFROM:+0100
TZOFFSETTO:+0000
TZNAME:WET
DTSTART:20271031T010000
END:STANDARD
BEGIN:DAYLIGHT
TZOFFSETFROM:+0000
TZOFFSETTO:+0100
TZNAME:WEST
DTSTART:20280326T010000
END:DAYLIGHT
BEGIN:STANDARD
TZOFFSETFROM:+0100
TZOFFSETTO:+0000
TZNAME:WET
DTSTART:20281029T010000
END:STANDARD
BEGIN:DAYLIGHT
TZOFFSETFROM:+0000
TZOFFSETTO:+0100
TZNAME:WEST
DTSTART:20290325T010000
END:DAYLIGHT
BEGIN:STANDARD
TZOFFSETFROM:+0100
TZOFFSETTO:+0000
TZNAME:WET
DTSTART:20291028T010000
END:STANDARD
END:VTIMEZONE
BEGIN:VEVENT
DTSTART;TZID=Europe/Lisbon:20280824T173000
DTEND;TZID=Europe/Lisbon:20280824T183000
DTSTAMP:20260422T075317
CREATED:20250708T140035Z
LAST-MODIFIED:20250708T140035Z
UID:10018527-1850751000-1850754600@www.collectivefitness.pt
SUMMARY:TCF Daily
DESCRIPTION:TCF Daily-Our signature functional fitness class. A comprehensive 60 minutes session incorporating either a strength-building or skill-focused segment\, alongside a heart-pumping metabolic conditioning portion.
URL:https://www.collectivefitness.pt/event/tcf-daily-25/2028-08-24/
LOCATION:The Collective Fitness\, R. Prof. Sousa da Câmara 128 Loja C\, Lisboa\, Lisboa\, 1070-217\, Portugal
CATEGORIES:TCF Daily
END:VEVENT
BEGIN:VEVENT
DTSTART;TZID=Europe/Lisbon:20280824T183000
DTEND;TZID=Europe/Lisbon:20280824T193000
DTSTAMP:20260422T075317
CREATED:20250708T173002Z
LAST-MODIFIED:20250708T203605Z
UID:10019313-1850754600-1850758200@www.collectivefitness.pt
SUMMARY:TCF Daily
DESCRIPTION:TCF Daily-Our signature functional fitness class. A comprehensive 60 minutes session incorporating either a strength-building or skill-focused segment\, alongside a heart-pumping metabolic conditioning portion. \nTRY THIS CLASS NOW
URL:https://www.collectivefitness.pt/event/tcf-daily-26/2028-08-24/
LOCATION:The Collective Fitness\, R. Prof. Sousa da Câmara 128 Loja C\, Lisboa\, Lisboa\, 1070-217\, Portugal
CATEGORIES:TCF Daily
END:VEVENT
BEGIN:VEVENT
DTSTART;TZID=Europe/Lisbon:20280824T193000
DTEND;TZID=Europe/Lisbon:20280824T203000
DTSTAMP:20260422T075317
CREATED:20250708T173100Z
LAST-MODIFIED:20250708T190902Z
UID:10019835-1850758200-1850761800@www.collectivefitness.pt
SUMMARY:TCF Daily
DESCRIPTION:TCF Daily-Our signature functional fitness class. A comprehensive 60 minutes session incorporating either a strength-building or skill-focused segment\, alongside a heart-pumping metabolic conditioning portion. \nTRY THIS CLASS NOW
URL:https://www.collectivefitness.pt/event/tcf-daily-27-2/2028-08-24/
LOCATION:The Collective Fitness\, R. Prof. Sousa da Câmara 128 Loja C\, Lisboa\, Lisboa\, 1070-217\, Portugal
CATEGORIES:TCF Daily
END:VEVENT
BEGIN:VEVENT
DTSTART;TZID=Europe/Lisbon:20280825T173000
DTEND;TZID=Europe/Lisbon:20280825T183000
DTSTAMP:20260422T075317
CREATED:20250708T173728Z
LAST-MODIFIED:20250717T145115Z
UID:10024553-1850837400-1850841000@www.collectivefitness.pt
SUMMARY:Strengh Club
DESCRIPTION:Develop strength\, power\, and muscular endurance in our 60-minute blend of weightlifting\, powerlifting\, ans strength athletics training.
URL:https://www.collectivefitness.pt/event/strengh-club-2/2028-08-25/
LOCATION:The Collective Fitness\, R. Prof. Sousa da Câmara 128 Loja C\, Lisboa\, Lisboa\, 1070-217\, Portugal
CATEGORIES:Strength Club
END:VEVENT
BEGIN:VEVENT
DTSTART;TZID=Europe/Lisbon:20280825T183000
DTEND;TZID=Europe/Lisbon:20280825T193000
DTSTAMP:20260422T075317
CREATED:20250708T173757Z
LAST-MODIFIED:20250717T145011Z
UID:10025078-1850841000-1850844600@www.collectivefitness.pt
SUMMARY:TCF Daily
DESCRIPTION:TCF Daily-Our signature functional fitness class. A comprehensive 60 minutes session incorporating either a strength-building or skill-focused segment\, alongside a heart-pumping metabolic conditioning portion. \nTRY THIS CLASS NOW
URL:https://www.collectivefitness.pt/event/tcf-daily-32/2028-08-25/
LOCATION:The Collective Fitness\, R. Prof. Sousa da Câmara 128 Loja C\, Lisboa\, Lisboa\, 1070-217\, Portugal
CATEGORIES:TCF Daily
END:VEVENT
BEGIN:VEVENT
DTSTART;TZID=Europe/Lisbon:20280825T193000
DTEND;TZID=Europe/Lisbon:20280825T203000
DTSTAMP:20260422T075317
CREATED:20250708T173821Z
LAST-MODIFIED:20250717T144936Z
UID:10025603-1850844600-1850848200@www.collectivefitness.pt
SUMMARY:TCF Daily
DESCRIPTION:TCF Daily-Our signature functional fitness class. A comprehensive 60 minutes session incorporating either a strength-building or skill-focused segment\, alongside a heart-pumping metabolic conditioning portion. \nTRY THIS CLASS NOW
URL:https://www.collectivefitness.pt/event/tcf-daily-33/2028-08-25/
LOCATION:The Collective Fitness\, R. Prof. Sousa da Câmara 128 Loja C\, Lisboa\, Lisboa\, 1070-217\, Portugal
CATEGORIES:TCF Daily
END:VEVENT
BEGIN:VEVENT
DTSTART;TZID=Europe/Lisbon:20280831T173000
DTEND;TZID=Europe/Lisbon:20280831T183000
DTSTAMP:20260422T075317
CREATED:20250708T140035Z
LAST-MODIFIED:20250708T140035Z
UID:10018528-1851355800-1851359400@www.collectivefitness.pt
SUMMARY:TCF Daily
DESCRIPTION:TCF Daily-Our signature functional fitness class. A comprehensive 60 minutes session incorporating either a strength-building or skill-focused segment\, alongside a heart-pumping metabolic conditioning portion.
URL:https://www.collectivefitness.pt/event/tcf-daily-25/2028-08-31/
LOCATION:The Collective Fitness\, R. Prof. Sousa da Câmara 128 Loja C\, Lisboa\, Lisboa\, 1070-217\, Portugal
CATEGORIES:TCF Daily
END:VEVENT
BEGIN:VEVENT
DTSTART;TZID=Europe/Lisbon:20280831T183000
DTEND;TZID=Europe/Lisbon:20280831T193000
DTSTAMP:20260422T075317
CREATED:20250708T173002Z
LAST-MODIFIED:20250708T203605Z
UID:10019314-1851359400-1851363000@www.collectivefitness.pt
SUMMARY:TCF Daily
DESCRIPTION:TCF Daily-Our signature functional fitness class. A comprehensive 60 minutes session incorporating either a strength-building or skill-focused segment\, alongside a heart-pumping metabolic conditioning portion. \nTRY THIS CLASS NOW
URL:https://www.collectivefitness.pt/event/tcf-daily-26/2028-08-31/
LOCATION:The Collective Fitness\, R. Prof. Sousa da Câmara 128 Loja C\, Lisboa\, Lisboa\, 1070-217\, Portugal
CATEGORIES:TCF Daily
END:VEVENT
BEGIN:VEVENT
DTSTART;TZID=Europe/Lisbon:20280831T193000
DTEND;TZID=Europe/Lisbon:20280831T203000
DTSTAMP:20260422T075317
CREATED:20250708T173100Z
LAST-MODIFIED:20250708T190902Z
UID:10019836-1851363000-1851366600@www.collectivefitness.pt
SUMMARY:TCF Daily
DESCRIPTION:TCF Daily-Our signature functional fitness class. A comprehensive 60 minutes session incorporating either a strength-building or skill-focused segment\, alongside a heart-pumping metabolic conditioning portion. \nTRY THIS CLASS NOW
URL:https://www.collectivefitness.pt/event/tcf-daily-27-2/2028-08-31/
LOCATION:The Collective Fitness\, R. Prof. Sousa da Câmara 128 Loja C\, Lisboa\, Lisboa\, 1070-217\, Portugal
CATEGORIES:TCF Daily
END:VEVENT
BEGIN:VEVENT
DTSTART;TZID=Europe/Lisbon:20280901T173000
DTEND;TZID=Europe/Lisbon:20280901T183000
DTSTAMP:20260422T075317
CREATED:20250708T173728Z
LAST-MODIFIED:20250717T145115Z
UID:10024554-1851442200-1851445800@www.collectivefitness.pt
SUMMARY:Strengh Club
DESCRIPTION:Develop strength\, power\, and muscular endurance in our 60-minute blend of weightlifting\, powerlifting\, ans strength athletics training.
URL:https://www.collectivefitness.pt/event/strengh-club-2/2028-09-01/
LOCATION:The Collective Fitness\, R. Prof. Sousa da Câmara 128 Loja C\, Lisboa\, Lisboa\, 1070-217\, Portugal
CATEGORIES:Strength Club
END:VEVENT
BEGIN:VEVENT
DTSTART;TZID=Europe/Lisbon:20280901T183000
DTEND;TZID=Europe/Lisbon:20280901T193000
DTSTAMP:20260422T075317
CREATED:20250708T173757Z
LAST-MODIFIED:20250717T145011Z
UID:10025079-1851445800-1851449400@www.collectivefitness.pt
SUMMARY:TCF Daily
DESCRIPTION:TCF Daily-Our signature functional fitness class. A comprehensive 60 minutes session incorporating either a strength-building or skill-focused segment\, alongside a heart-pumping metabolic conditioning portion. \nTRY THIS CLASS NOW
URL:https://www.collectivefitness.pt/event/tcf-daily-32/2028-09-01/
LOCATION:The Collective Fitness\, R. Prof. Sousa da Câmara 128 Loja C\, Lisboa\, Lisboa\, 1070-217\, Portugal
CATEGORIES:TCF Daily
END:VEVENT
BEGIN:VEVENT
DTSTART;TZID=Europe/Lisbon:20280901T193000
DTEND;TZID=Europe/Lisbon:20280901T203000
DTSTAMP:20260422T075317
CREATED:20250708T173821Z
LAST-MODIFIED:20250717T144936Z
UID:10025604-1851449400-1851453000@www.collectivefitness.pt
SUMMARY:TCF Daily
DESCRIPTION:TCF Daily-Our signature functional fitness class. A comprehensive 60 minutes session incorporating either a strength-building or skill-focused segment\, alongside a heart-pumping metabolic conditioning portion. \nTRY THIS CLASS NOW
URL:https://www.collectivefitness.pt/event/tcf-daily-33/2028-09-01/
LOCATION:The Collective Fitness\, R. Prof. Sousa da Câmara 128 Loja C\, Lisboa\, Lisboa\, 1070-217\, Portugal
CATEGORIES:TCF Daily
END:VEVENT
BEGIN:VEVENT
DTSTART;TZID=Europe/Lisbon:20280907T173000
DTEND;TZID=Europe/Lisbon:20280907T183000
DTSTAMP:20260422T075317
CREATED:20250708T140035Z
LAST-MODIFIED:20250708T140035Z
UID:10018529-1851960600-1851964200@www.collectivefitness.pt
SUMMARY:TCF Daily
DESCRIPTION:TCF Daily-Our signature functional fitness class. A comprehensive 60 minutes session incorporating either a strength-building or skill-focused segment\, alongside a heart-pumping metabolic conditioning portion.
URL:https://www.collectivefitness.pt/event/tcf-daily-25/2028-09-07/
LOCATION:The Collective Fitness\, R. Prof. Sousa da Câmara 128 Loja C\, Lisboa\, Lisboa\, 1070-217\, Portugal
CATEGORIES:TCF Daily
END:VEVENT
BEGIN:VEVENT
DTSTART;TZID=Europe/Lisbon:20280907T183000
DTEND;TZID=Europe/Lisbon:20280907T193000
DTSTAMP:20260422T075317
CREATED:20250708T173002Z
LAST-MODIFIED:20250708T203605Z
UID:10019315-1851964200-1851967800@www.collectivefitness.pt
SUMMARY:TCF Daily
DESCRIPTION:TCF Daily-Our signature functional fitness class. A comprehensive 60 minutes session incorporating either a strength-building or skill-focused segment\, alongside a heart-pumping metabolic conditioning portion. \nTRY THIS CLASS NOW
URL:https://www.collectivefitness.pt/event/tcf-daily-26/2028-09-07/
LOCATION:The Collective Fitness\, R. Prof. Sousa da Câmara 128 Loja C\, Lisboa\, Lisboa\, 1070-217\, Portugal
CATEGORIES:TCF Daily
END:VEVENT
BEGIN:VEVENT
DTSTART;TZID=Europe/Lisbon:20280907T193000
DTEND;TZID=Europe/Lisbon:20280907T203000
DTSTAMP:20260422T075317
CREATED:20250708T173100Z
LAST-MODIFIED:20250708T190902Z
UID:10019837-1851967800-1851971400@www.collectivefitness.pt
SUMMARY:TCF Daily
DESCRIPTION:TCF Daily-Our signature functional fitness class. A comprehensive 60 minutes session incorporating either a strength-building or skill-focused segment\, alongside a heart-pumping metabolic conditioning portion. \nTRY THIS CLASS NOW
URL:https://www.collectivefitness.pt/event/tcf-daily-27-2/2028-09-07/
LOCATION:The Collective Fitness\, R. Prof. Sousa da Câmara 128 Loja C\, Lisboa\, Lisboa\, 1070-217\, Portugal
CATEGORIES:TCF Daily
END:VEVENT
BEGIN:VEVENT
DTSTART;TZID=Europe/Lisbon:20280908T173000
DTEND;TZID=Europe/Lisbon:20280908T183000
DTSTAMP:20260422T075317
CREATED:20250708T173728Z
LAST-MODIFIED:20250717T145115Z
UID:10024555-1852047000-1852050600@www.collectivefitness.pt
SUMMARY:Strengh Club
DESCRIPTION:Develop strength\, power\, and muscular endurance in our 60-minute blend of weightlifting\, powerlifting\, ans strength athletics training.
URL:https://www.collectivefitness.pt/event/strengh-club-2/2028-09-08/
LOCATION:The Collective Fitness\, R. Prof. Sousa da Câmara 128 Loja C\, Lisboa\, Lisboa\, 1070-217\, Portugal
CATEGORIES:Strength Club
END:VEVENT
BEGIN:VEVENT
DTSTART;TZID=Europe/Lisbon:20280908T183000
DTEND;TZID=Europe/Lisbon:20280908T193000
DTSTAMP:20260422T075317
CREATED:20250708T173757Z
LAST-MODIFIED:20250717T145011Z
UID:10025080-1852050600-1852054200@www.collectivefitness.pt
SUMMARY:TCF Daily
DESCRIPTION:TCF Daily-Our signature functional fitness class. A comprehensive 60 minutes session incorporating either a strength-building or skill-focused segment\, alongside a heart-pumping metabolic conditioning portion. \nTRY THIS CLASS NOW
URL:https://www.collectivefitness.pt/event/tcf-daily-32/2028-09-08/
LOCATION:The Collective Fitness\, R. Prof. Sousa da Câmara 128 Loja C\, Lisboa\, Lisboa\, 1070-217\, Portugal
CATEGORIES:TCF Daily
END:VEVENT
BEGIN:VEVENT
DTSTART;TZID=Europe/Lisbon:20280908T193000
DTEND;TZID=Europe/Lisbon:20280908T203000
DTSTAMP:20260422T075317
CREATED:20250708T173821Z
LAST-MODIFIED:20250717T144936Z
UID:10025605-1852054200-1852057800@www.collectivefitness.pt
SUMMARY:TCF Daily
DESCRIPTION:TCF Daily-Our signature functional fitness class. A comprehensive 60 minutes session incorporating either a strength-building or skill-focused segment\, alongside a heart-pumping metabolic conditioning portion. \nTRY THIS CLASS NOW
URL:https://www.collectivefitness.pt/event/tcf-daily-33/2028-09-08/
LOCATION:The Collective Fitness\, R. Prof. Sousa da Câmara 128 Loja C\, Lisboa\, Lisboa\, 1070-217\, Portugal
CATEGORIES:TCF Daily
END:VEVENT
BEGIN:VEVENT
DTSTART;TZID=Europe/Lisbon:20280914T173000
DTEND;TZID=Europe/Lisbon:20280914T183000
DTSTAMP:20260422T075317
CREATED:20250708T140035Z
LAST-MODIFIED:20250708T140035Z
UID:10018530-1852565400-1852569000@www.collectivefitness.pt
SUMMARY:TCF Daily
DESCRIPTION:TCF Daily-Our signature functional fitness class. A comprehensive 60 minutes session incorporating either a strength-building or skill-focused segment\, alongside a heart-pumping metabolic conditioning portion.
URL:https://www.collectivefitness.pt/event/tcf-daily-25/2028-09-14/
LOCATION:The Collective Fitness\, R. Prof. Sousa da Câmara 128 Loja C\, Lisboa\, Lisboa\, 1070-217\, Portugal
CATEGORIES:TCF Daily
END:VEVENT
BEGIN:VEVENT
DTSTART;TZID=Europe/Lisbon:20280914T183000
DTEND;TZID=Europe/Lisbon:20280914T193000
DTSTAMP:20260422T075317
CREATED:20250708T173002Z
LAST-MODIFIED:20250708T203605Z
UID:10019316-1852569000-1852572600@www.collectivefitness.pt
SUMMARY:TCF Daily
DESCRIPTION:TCF Daily-Our signature functional fitness class. A comprehensive 60 minutes session incorporating either a strength-building or skill-focused segment\, alongside a heart-pumping metabolic conditioning portion. \nTRY THIS CLASS NOW
URL:https://www.collectivefitness.pt/event/tcf-daily-26/2028-09-14/
LOCATION:The Collective Fitness\, R. Prof. Sousa da Câmara 128 Loja C\, Lisboa\, Lisboa\, 1070-217\, Portugal
CATEGORIES:TCF Daily
END:VEVENT
BEGIN:VEVENT
DTSTART;TZID=Europe/Lisbon:20280914T193000
DTEND;TZID=Europe/Lisbon:20280914T203000
DTSTAMP:20260422T075317
CREATED:20250708T173100Z
LAST-MODIFIED:20250708T190902Z
UID:10019838-1852572600-1852576200@www.collectivefitness.pt
SUMMARY:TCF Daily
DESCRIPTION:TCF Daily-Our signature functional fitness class. A comprehensive 60 minutes session incorporating either a strength-building or skill-focused segment\, alongside a heart-pumping metabolic conditioning portion. \nTRY THIS CLASS NOW
URL:https://www.collectivefitness.pt/event/tcf-daily-27-2/2028-09-14/
LOCATION:The Collective Fitness\, R. Prof. Sousa da Câmara 128 Loja C\, Lisboa\, Lisboa\, 1070-217\, Portugal
CATEGORIES:TCF Daily
END:VEVENT
BEGIN:VEVENT
DTSTART;TZID=Europe/Lisbon:20280915T173000
DTEND;TZID=Europe/Lisbon:20280915T183000
DTSTAMP:20260422T075317
CREATED:20250708T173728Z
LAST-MODIFIED:20250717T145115Z
UID:10024556-1852651800-1852655400@www.collectivefitness.pt
SUMMARY:Strengh Club
DESCRIPTION:Develop strength\, power\, and muscular endurance in our 60-minute blend of weightlifting\, powerlifting\, ans strength athletics training.
URL:https://www.collectivefitness.pt/event/strengh-club-2/2028-09-15/
LOCATION:The Collective Fitness\, R. Prof. Sousa da Câmara 128 Loja C\, Lisboa\, Lisboa\, 1070-217\, Portugal
CATEGORIES:Strength Club
END:VEVENT
BEGIN:VEVENT
DTSTART;TZID=Europe/Lisbon:20280915T183000
DTEND;TZID=Europe/Lisbon:20280915T193000
DTSTAMP:20260422T075317
CREATED:20250708T173757Z
LAST-MODIFIED:20250717T145011Z
UID:10025081-1852655400-1852659000@www.collectivefitness.pt
SUMMARY:TCF Daily
DESCRIPTION:TCF Daily-Our signature functional fitness class. A comprehensive 60 minutes session incorporating either a strength-building or skill-focused segment\, alongside a heart-pumping metabolic conditioning portion. \nTRY THIS CLASS NOW
URL:https://www.collectivefitness.pt/event/tcf-daily-32/2028-09-15/
LOCATION:The Collective Fitness\, R. Prof. Sousa da Câmara 128 Loja C\, Lisboa\, Lisboa\, 1070-217\, Portugal
CATEGORIES:TCF Daily
END:VEVENT
BEGIN:VEVENT
DTSTART;TZID=Europe/Lisbon:20280915T193000
DTEND;TZID=Europe/Lisbon:20280915T203000
DTSTAMP:20260422T075317
CREATED:20250708T173821Z
LAST-MODIFIED:20250717T144936Z
UID:10025606-1852659000-1852662600@www.collectivefitness.pt
SUMMARY:TCF Daily
DESCRIPTION:TCF Daily-Our signature functional fitness class. A comprehensive 60 minutes session incorporating either a strength-building or skill-focused segment\, alongside a heart-pumping metabolic conditioning portion. \nTRY THIS CLASS NOW
URL:https://www.collectivefitness.pt/event/tcf-daily-33/2028-09-15/
LOCATION:The Collective Fitness\, R. Prof. Sousa da Câmara 128 Loja C\, Lisboa\, Lisboa\, 1070-217\, Portugal
CATEGORIES:TCF Daily
END:VEVENT
BEGIN:VEVENT
DTSTART;TZID=Europe/Lisbon:20280921T173000
DTEND;TZID=Europe/Lisbon:20280921T183000
DTSTAMP:20260422T075317
CREATED:20250708T140035Z
LAST-MODIFIED:20250708T140035Z
UID:10018531-1853170200-1853173800@www.collectivefitness.pt
SUMMARY:TCF Daily
DESCRIPTION:TCF Daily-Our signature functional fitness class. A comprehensive 60 minutes session incorporating either a strength-building or skill-focused segment\, alongside a heart-pumping metabolic conditioning portion.
URL:https://www.collectivefitness.pt/event/tcf-daily-25/2028-09-21/
LOCATION:The Collective Fitness\, R. Prof. Sousa da Câmara 128 Loja C\, Lisboa\, Lisboa\, 1070-217\, Portugal
CATEGORIES:TCF Daily
END:VEVENT
BEGIN:VEVENT
DTSTART;TZID=Europe/Lisbon:20280921T183000
DTEND;TZID=Europe/Lisbon:20280921T193000
DTSTAMP:20260422T075317
CREATED:20250708T173002Z
LAST-MODIFIED:20250708T203605Z
UID:10019317-1853173800-1853177400@www.collectivefitness.pt
SUMMARY:TCF Daily
DESCRIPTION:TCF Daily-Our signature functional fitness class. A comprehensive 60 minutes session incorporating either a strength-building or skill-focused segment\, alongside a heart-pumping metabolic conditioning portion. \nTRY THIS CLASS NOW
URL:https://www.collectivefitness.pt/event/tcf-daily-26/2028-09-21/
LOCATION:The Collective Fitness\, R. Prof. Sousa da Câmara 128 Loja C\, Lisboa\, Lisboa\, 1070-217\, Portugal
CATEGORIES:TCF Daily
END:VEVENT
BEGIN:VEVENT
DTSTART;TZID=Europe/Lisbon:20280921T193000
DTEND;TZID=Europe/Lisbon:20280921T203000
DTSTAMP:20260422T075317
CREATED:20250708T173100Z
LAST-MODIFIED:20250708T190902Z
UID:10019839-1853177400-1853181000@www.collectivefitness.pt
SUMMARY:TCF Daily
DESCRIPTION:TCF Daily-Our signature functional fitness class. A comprehensive 60 minutes session incorporating either a strength-building or skill-focused segment\, alongside a heart-pumping metabolic conditioning portion. \nTRY THIS CLASS NOW
URL:https://www.collectivefitness.pt/event/tcf-daily-27-2/2028-09-21/
LOCATION:The Collective Fitness\, R. Prof. Sousa da Câmara 128 Loja C\, Lisboa\, Lisboa\, 1070-217\, Portugal
CATEGORIES:TCF Daily
END:VEVENT
BEGIN:VEVENT
DTSTART;TZID=Europe/Lisbon:20280922T173000
DTEND;TZID=Europe/Lisbon:20280922T183000
DTSTAMP:20260422T075317
CREATED:20250708T173728Z
LAST-MODIFIED:20250717T145115Z
UID:10024557-1853256600-1853260200@www.collectivefitness.pt
SUMMARY:Strengh Club
DESCRIPTION:Develop strength\, power\, and muscular endurance in our 60-minute blend of weightlifting\, powerlifting\, ans strength athletics training.
URL:https://www.collectivefitness.pt/event/strengh-club-2/2028-09-22/
LOCATION:The Collective Fitness\, R. Prof. Sousa da Câmara 128 Loja C\, Lisboa\, Lisboa\, 1070-217\, Portugal
CATEGORIES:Strength Club
END:VEVENT
BEGIN:VEVENT
DTSTART;TZID=Europe/Lisbon:20280922T183000
DTEND;TZID=Europe/Lisbon:20280922T193000
DTSTAMP:20260422T075317
CREATED:20250708T173757Z
LAST-MODIFIED:20250717T145011Z
UID:10025082-1853260200-1853263800@www.collectivefitness.pt
SUMMARY:TCF Daily
DESCRIPTION:TCF Daily-Our signature functional fitness class. A comprehensive 60 minutes session incorporating either a strength-building or skill-focused segment\, alongside a heart-pumping metabolic conditioning portion. \nTRY THIS CLASS NOW
URL:https://www.collectivefitness.pt/event/tcf-daily-32/2028-09-22/
LOCATION:The Collective Fitness\, R. Prof. Sousa da Câmara 128 Loja C\, Lisboa\, Lisboa\, 1070-217\, Portugal
CATEGORIES:TCF Daily
END:VEVENT
BEGIN:VEVENT
DTSTART;TZID=Europe/Lisbon:20280922T193000
DTEND;TZID=Europe/Lisbon:20280922T203000
DTSTAMP:20260422T075317
CREATED:20250708T173821Z
LAST-MODIFIED:20250717T144936Z
UID:10025607-1853263800-1853267400@www.collectivefitness.pt
SUMMARY:TCF Daily
DESCRIPTION:TCF Daily-Our signature functional fitness class. A comprehensive 60 minutes session incorporating either a strength-building or skill-focused segment\, alongside a heart-pumping metabolic conditioning portion. \nTRY THIS CLASS NOW
URL:https://www.collectivefitness.pt/event/tcf-daily-33/2028-09-22/
LOCATION:The Collective Fitness\, R. Prof. Sousa da Câmara 128 Loja C\, Lisboa\, Lisboa\, 1070-217\, Portugal
CATEGORIES:TCF Daily
END:VEVENT
END:VCALENDAR