BEGIN:VCALENDAR
VERSION:2.0
PRODID:-//The collective fitness - ECPv6.15.16//NONSGML v1.0//EN
CALSCALE:GREGORIAN
METHOD:PUBLISH
X-ORIGINAL-URL:https://www.collectivefitness.pt
X-WR-CALDESC:Events for The collective fitness
REFRESH-INTERVAL;VALUE=DURATION:PT1H
X-Robots-Tag:noindex
X-PUBLISHED-TTL:PT1H
BEGIN:VTIMEZONE
TZID:Europe/Lisbon
BEGIN:DAYLIGHT
TZOFFSETFROM:+0000
TZOFFSETTO:+0100
TZNAME:WEST
DTSTART:20260329T010000
END:DAYLIGHT
BEGIN:STANDARD
TZOFFSETFROM:+0100
TZOFFSETTO:+0000
TZNAME:WET
DTSTART:20261025T010000
END:STANDARD
BEGIN:DAYLIGHT
TZOFFSETFROM:+0000
TZOFFSETTO:+0100
TZNAME:WEST
DTSTART:20270328T010000
END:DAYLIGHT
BEGIN:STANDARD
TZOFFSETFROM:+0100
TZOFFSETTO:+0000
TZNAME:WET
DTSTART:20271031T010000
END:STANDARD
BEGIN:DAYLIGHT
TZOFFSETFROM:+0000
TZOFFSETTO:+0100
TZNAME:WEST
DTSTART:20280326T010000
END:DAYLIGHT
BEGIN:STANDARD
TZOFFSETFROM:+0100
TZOFFSETTO:+0000
TZNAME:WET
DTSTART:20281029T010000
END:STANDARD
END:VTIMEZONE
BEGIN:VEVENT
DTSTART;TZID=Europe/Lisbon:20271202T173000
DTEND;TZID=Europe/Lisbon:20271202T183000
DTSTAMP:20260420T080201
CREATED:20250708T140035Z
LAST-MODIFIED:20250708T140035Z
UID:10018489-1827768600-1827772200@www.collectivefitness.pt
SUMMARY:TCF Daily
DESCRIPTION:TCF Daily-Our signature functional fitness class. A comprehensive 60 minutes session incorporating either a strength-building or skill-focused segment\, alongside a heart-pumping metabolic conditioning portion.
URL:https://www.collectivefitness.pt/event/tcf-daily-25/2027-12-02/
LOCATION:The Collective Fitness\, R. Prof. Sousa da Câmara 128 Loja C\, Lisboa\, Lisboa\, 1070-217\, Portugal
CATEGORIES:TCF Daily
END:VEVENT
BEGIN:VEVENT
DTSTART;TZID=Europe/Lisbon:20271202T183000
DTEND;TZID=Europe/Lisbon:20271202T193000
DTSTAMP:20260420T080201
CREATED:20250708T173002Z
LAST-MODIFIED:20250708T203605Z
UID:10019275-1827772200-1827775800@www.collectivefitness.pt
SUMMARY:TCF Daily
DESCRIPTION:TCF Daily-Our signature functional fitness class. A comprehensive 60 minutes session incorporating either a strength-building or skill-focused segment\, alongside a heart-pumping metabolic conditioning portion. \nTRY THIS CLASS NOW
URL:https://www.collectivefitness.pt/event/tcf-daily-26/2027-12-02/
LOCATION:The Collective Fitness\, R. Prof. Sousa da Câmara 128 Loja C\, Lisboa\, Lisboa\, 1070-217\, Portugal
CATEGORIES:TCF Daily
END:VEVENT
BEGIN:VEVENT
DTSTART;TZID=Europe/Lisbon:20271202T193000
DTEND;TZID=Europe/Lisbon:20271202T203000
DTSTAMP:20260420T080201
CREATED:20250708T173100Z
LAST-MODIFIED:20250708T190902Z
UID:10019797-1827775800-1827779400@www.collectivefitness.pt
SUMMARY:TCF Daily
DESCRIPTION:TCF Daily-Our signature functional fitness class. A comprehensive 60 minutes session incorporating either a strength-building or skill-focused segment\, alongside a heart-pumping metabolic conditioning portion. \nTRY THIS CLASS NOW
URL:https://www.collectivefitness.pt/event/tcf-daily-27-2/2027-12-02/
LOCATION:The Collective Fitness\, R. Prof. Sousa da Câmara 128 Loja C\, Lisboa\, Lisboa\, 1070-217\, Portugal
CATEGORIES:TCF Daily
END:VEVENT
BEGIN:VEVENT
DTSTART;TZID=Europe/Lisbon:20271203T173000
DTEND;TZID=Europe/Lisbon:20271203T183000
DTSTAMP:20260420T080201
CREATED:20250708T173728Z
LAST-MODIFIED:20250717T145115Z
UID:10024515-1827855000-1827858600@www.collectivefitness.pt
SUMMARY:Strengh Club
DESCRIPTION:Develop strength\, power\, and muscular endurance in our 60-minute blend of weightlifting\, powerlifting\, ans strength athletics training.
URL:https://www.collectivefitness.pt/event/strengh-club-2/2027-12-03/
LOCATION:The Collective Fitness\, R. Prof. Sousa da Câmara 128 Loja C\, Lisboa\, Lisboa\, 1070-217\, Portugal
CATEGORIES:Strength Club
END:VEVENT
BEGIN:VEVENT
DTSTART;TZID=Europe/Lisbon:20271203T183000
DTEND;TZID=Europe/Lisbon:20271203T193000
DTSTAMP:20260420T080201
CREATED:20250708T173757Z
LAST-MODIFIED:20250717T145011Z
UID:10025040-1827858600-1827862200@www.collectivefitness.pt
SUMMARY:TCF Daily
DESCRIPTION:TCF Daily-Our signature functional fitness class. A comprehensive 60 minutes session incorporating either a strength-building or skill-focused segment\, alongside a heart-pumping metabolic conditioning portion. \nTRY THIS CLASS NOW
URL:https://www.collectivefitness.pt/event/tcf-daily-32/2027-12-03/
LOCATION:The Collective Fitness\, R. Prof. Sousa da Câmara 128 Loja C\, Lisboa\, Lisboa\, 1070-217\, Portugal
CATEGORIES:TCF Daily
END:VEVENT
BEGIN:VEVENT
DTSTART;TZID=Europe/Lisbon:20271203T193000
DTEND;TZID=Europe/Lisbon:20271203T203000
DTSTAMP:20260420T080201
CREATED:20250708T173821Z
LAST-MODIFIED:20250717T144936Z
UID:10025565-1827862200-1827865800@www.collectivefitness.pt
SUMMARY:TCF Daily
DESCRIPTION:TCF Daily-Our signature functional fitness class. A comprehensive 60 minutes session incorporating either a strength-building or skill-focused segment\, alongside a heart-pumping metabolic conditioning portion. \nTRY THIS CLASS NOW
URL:https://www.collectivefitness.pt/event/tcf-daily-33/2027-12-03/
LOCATION:The Collective Fitness\, R. Prof. Sousa da Câmara 128 Loja C\, Lisboa\, Lisboa\, 1070-217\, Portugal
CATEGORIES:TCF Daily
END:VEVENT
BEGIN:VEVENT
DTSTART;TZID=Europe/Lisbon:20271209T173000
DTEND;TZID=Europe/Lisbon:20271209T183000
DTSTAMP:20260420T080201
CREATED:20250708T140035Z
LAST-MODIFIED:20250708T140035Z
UID:10018490-1828373400-1828377000@www.collectivefitness.pt
SUMMARY:TCF Daily
DESCRIPTION:TCF Daily-Our signature functional fitness class. A comprehensive 60 minutes session incorporating either a strength-building or skill-focused segment\, alongside a heart-pumping metabolic conditioning portion.
URL:https://www.collectivefitness.pt/event/tcf-daily-25/2027-12-09/
LOCATION:The Collective Fitness\, R. Prof. Sousa da Câmara 128 Loja C\, Lisboa\, Lisboa\, 1070-217\, Portugal
CATEGORIES:TCF Daily
END:VEVENT
BEGIN:VEVENT
DTSTART;TZID=Europe/Lisbon:20271209T183000
DTEND;TZID=Europe/Lisbon:20271209T193000
DTSTAMP:20260420T080201
CREATED:20250708T173002Z
LAST-MODIFIED:20250708T203605Z
UID:10019276-1828377000-1828380600@www.collectivefitness.pt
SUMMARY:TCF Daily
DESCRIPTION:TCF Daily-Our signature functional fitness class. A comprehensive 60 minutes session incorporating either a strength-building or skill-focused segment\, alongside a heart-pumping metabolic conditioning portion. \nTRY THIS CLASS NOW
URL:https://www.collectivefitness.pt/event/tcf-daily-26/2027-12-09/
LOCATION:The Collective Fitness\, R. Prof. Sousa da Câmara 128 Loja C\, Lisboa\, Lisboa\, 1070-217\, Portugal
CATEGORIES:TCF Daily
END:VEVENT
BEGIN:VEVENT
DTSTART;TZID=Europe/Lisbon:20271209T193000
DTEND;TZID=Europe/Lisbon:20271209T203000
DTSTAMP:20260420T080201
CREATED:20250708T173100Z
LAST-MODIFIED:20250708T190902Z
UID:10019798-1828380600-1828384200@www.collectivefitness.pt
SUMMARY:TCF Daily
DESCRIPTION:TCF Daily-Our signature functional fitness class. A comprehensive 60 minutes session incorporating either a strength-building or skill-focused segment\, alongside a heart-pumping metabolic conditioning portion. \nTRY THIS CLASS NOW
URL:https://www.collectivefitness.pt/event/tcf-daily-27-2/2027-12-09/
LOCATION:The Collective Fitness\, R. Prof. Sousa da Câmara 128 Loja C\, Lisboa\, Lisboa\, 1070-217\, Portugal
CATEGORIES:TCF Daily
END:VEVENT
BEGIN:VEVENT
DTSTART;TZID=Europe/Lisbon:20271210T173000
DTEND;TZID=Europe/Lisbon:20271210T183000
DTSTAMP:20260420T080201
CREATED:20250708T173728Z
LAST-MODIFIED:20250717T145115Z
UID:10024516-1828459800-1828463400@www.collectivefitness.pt
SUMMARY:Strengh Club
DESCRIPTION:Develop strength\, power\, and muscular endurance in our 60-minute blend of weightlifting\, powerlifting\, ans strength athletics training.
URL:https://www.collectivefitness.pt/event/strengh-club-2/2027-12-10/
LOCATION:The Collective Fitness\, R. Prof. Sousa da Câmara 128 Loja C\, Lisboa\, Lisboa\, 1070-217\, Portugal
CATEGORIES:Strength Club
END:VEVENT
BEGIN:VEVENT
DTSTART;TZID=Europe/Lisbon:20271210T183000
DTEND;TZID=Europe/Lisbon:20271210T193000
DTSTAMP:20260420T080201
CREATED:20250708T173757Z
LAST-MODIFIED:20250717T145011Z
UID:10025041-1828463400-1828467000@www.collectivefitness.pt
SUMMARY:TCF Daily
DESCRIPTION:TCF Daily-Our signature functional fitness class. A comprehensive 60 minutes session incorporating either a strength-building or skill-focused segment\, alongside a heart-pumping metabolic conditioning portion. \nTRY THIS CLASS NOW
URL:https://www.collectivefitness.pt/event/tcf-daily-32/2027-12-10/
LOCATION:The Collective Fitness\, R. Prof. Sousa da Câmara 128 Loja C\, Lisboa\, Lisboa\, 1070-217\, Portugal
CATEGORIES:TCF Daily
END:VEVENT
BEGIN:VEVENT
DTSTART;TZID=Europe/Lisbon:20271210T193000
DTEND;TZID=Europe/Lisbon:20271210T203000
DTSTAMP:20260420T080201
CREATED:20250708T173821Z
LAST-MODIFIED:20250717T144936Z
UID:10025566-1828467000-1828470600@www.collectivefitness.pt
SUMMARY:TCF Daily
DESCRIPTION:TCF Daily-Our signature functional fitness class. A comprehensive 60 minutes session incorporating either a strength-building or skill-focused segment\, alongside a heart-pumping metabolic conditioning portion. \nTRY THIS CLASS NOW
URL:https://www.collectivefitness.pt/event/tcf-daily-33/2027-12-10/
LOCATION:The Collective Fitness\, R. Prof. Sousa da Câmara 128 Loja C\, Lisboa\, Lisboa\, 1070-217\, Portugal
CATEGORIES:TCF Daily
END:VEVENT
BEGIN:VEVENT
DTSTART;TZID=Europe/Lisbon:20271216T173000
DTEND;TZID=Europe/Lisbon:20271216T183000
DTSTAMP:20260420T080201
CREATED:20250708T140035Z
LAST-MODIFIED:20250708T140035Z
UID:10018491-1828978200-1828981800@www.collectivefitness.pt
SUMMARY:TCF Daily
DESCRIPTION:TCF Daily-Our signature functional fitness class. A comprehensive 60 minutes session incorporating either a strength-building or skill-focused segment\, alongside a heart-pumping metabolic conditioning portion.
URL:https://www.collectivefitness.pt/event/tcf-daily-25/2027-12-16/
LOCATION:The Collective Fitness\, R. Prof. Sousa da Câmara 128 Loja C\, Lisboa\, Lisboa\, 1070-217\, Portugal
CATEGORIES:TCF Daily
END:VEVENT
BEGIN:VEVENT
DTSTART;TZID=Europe/Lisbon:20271216T183000
DTEND;TZID=Europe/Lisbon:20271216T193000
DTSTAMP:20260420T080201
CREATED:20250708T173002Z
LAST-MODIFIED:20250708T203605Z
UID:10019277-1828981800-1828985400@www.collectivefitness.pt
SUMMARY:TCF Daily
DESCRIPTION:TCF Daily-Our signature functional fitness class. A comprehensive 60 minutes session incorporating either a strength-building or skill-focused segment\, alongside a heart-pumping metabolic conditioning portion. \nTRY THIS CLASS NOW
URL:https://www.collectivefitness.pt/event/tcf-daily-26/2027-12-16/
LOCATION:The Collective Fitness\, R. Prof. Sousa da Câmara 128 Loja C\, Lisboa\, Lisboa\, 1070-217\, Portugal
CATEGORIES:TCF Daily
END:VEVENT
BEGIN:VEVENT
DTSTART;TZID=Europe/Lisbon:20271216T193000
DTEND;TZID=Europe/Lisbon:20271216T203000
DTSTAMP:20260420T080201
CREATED:20250708T173100Z
LAST-MODIFIED:20250708T190902Z
UID:10019799-1828985400-1828989000@www.collectivefitness.pt
SUMMARY:TCF Daily
DESCRIPTION:TCF Daily-Our signature functional fitness class. A comprehensive 60 minutes session incorporating either a strength-building or skill-focused segment\, alongside a heart-pumping metabolic conditioning portion. \nTRY THIS CLASS NOW
URL:https://www.collectivefitness.pt/event/tcf-daily-27-2/2027-12-16/
LOCATION:The Collective Fitness\, R. Prof. Sousa da Câmara 128 Loja C\, Lisboa\, Lisboa\, 1070-217\, Portugal
CATEGORIES:TCF Daily
END:VEVENT
BEGIN:VEVENT
DTSTART;TZID=Europe/Lisbon:20271217T173000
DTEND;TZID=Europe/Lisbon:20271217T183000
DTSTAMP:20260420T080201
CREATED:20250708T173728Z
LAST-MODIFIED:20250717T145115Z
UID:10024517-1829064600-1829068200@www.collectivefitness.pt
SUMMARY:Strengh Club
DESCRIPTION:Develop strength\, power\, and muscular endurance in our 60-minute blend of weightlifting\, powerlifting\, ans strength athletics training.
URL:https://www.collectivefitness.pt/event/strengh-club-2/2027-12-17/
LOCATION:The Collective Fitness\, R. Prof. Sousa da Câmara 128 Loja C\, Lisboa\, Lisboa\, 1070-217\, Portugal
CATEGORIES:Strength Club
END:VEVENT
BEGIN:VEVENT
DTSTART;TZID=Europe/Lisbon:20271217T183000
DTEND;TZID=Europe/Lisbon:20271217T193000
DTSTAMP:20260420T080201
CREATED:20250708T173757Z
LAST-MODIFIED:20250717T145011Z
UID:10025042-1829068200-1829071800@www.collectivefitness.pt
SUMMARY:TCF Daily
DESCRIPTION:TCF Daily-Our signature functional fitness class. A comprehensive 60 minutes session incorporating either a strength-building or skill-focused segment\, alongside a heart-pumping metabolic conditioning portion. \nTRY THIS CLASS NOW
URL:https://www.collectivefitness.pt/event/tcf-daily-32/2027-12-17/
LOCATION:The Collective Fitness\, R. Prof. Sousa da Câmara 128 Loja C\, Lisboa\, Lisboa\, 1070-217\, Portugal
CATEGORIES:TCF Daily
END:VEVENT
BEGIN:VEVENT
DTSTART;TZID=Europe/Lisbon:20271217T193000
DTEND;TZID=Europe/Lisbon:20271217T203000
DTSTAMP:20260420T080201
CREATED:20250708T173821Z
LAST-MODIFIED:20250717T144936Z
UID:10025567-1829071800-1829075400@www.collectivefitness.pt
SUMMARY:TCF Daily
DESCRIPTION:TCF Daily-Our signature functional fitness class. A comprehensive 60 minutes session incorporating either a strength-building or skill-focused segment\, alongside a heart-pumping metabolic conditioning portion. \nTRY THIS CLASS NOW
URL:https://www.collectivefitness.pt/event/tcf-daily-33/2027-12-17/
LOCATION:The Collective Fitness\, R. Prof. Sousa da Câmara 128 Loja C\, Lisboa\, Lisboa\, 1070-217\, Portugal
CATEGORIES:TCF Daily
END:VEVENT
BEGIN:VEVENT
DTSTART;TZID=Europe/Lisbon:20271223T173000
DTEND;TZID=Europe/Lisbon:20271223T183000
DTSTAMP:20260420T080201
CREATED:20250708T140035Z
LAST-MODIFIED:20250708T140035Z
UID:10018492-1829583000-1829586600@www.collectivefitness.pt
SUMMARY:TCF Daily
DESCRIPTION:TCF Daily-Our signature functional fitness class. A comprehensive 60 minutes session incorporating either a strength-building or skill-focused segment\, alongside a heart-pumping metabolic conditioning portion.
URL:https://www.collectivefitness.pt/event/tcf-daily-25/2027-12-23/
LOCATION:The Collective Fitness\, R. Prof. Sousa da Câmara 128 Loja C\, Lisboa\, Lisboa\, 1070-217\, Portugal
CATEGORIES:TCF Daily
END:VEVENT
BEGIN:VEVENT
DTSTART;TZID=Europe/Lisbon:20271223T183000
DTEND;TZID=Europe/Lisbon:20271223T193000
DTSTAMP:20260420T080201
CREATED:20250708T173002Z
LAST-MODIFIED:20250708T203605Z
UID:10019278-1829586600-1829590200@www.collectivefitness.pt
SUMMARY:TCF Daily
DESCRIPTION:TCF Daily-Our signature functional fitness class. A comprehensive 60 minutes session incorporating either a strength-building or skill-focused segment\, alongside a heart-pumping metabolic conditioning portion. \nTRY THIS CLASS NOW
URL:https://www.collectivefitness.pt/event/tcf-daily-26/2027-12-23/
LOCATION:The Collective Fitness\, R. Prof. Sousa da Câmara 128 Loja C\, Lisboa\, Lisboa\, 1070-217\, Portugal
CATEGORIES:TCF Daily
END:VEVENT
BEGIN:VEVENT
DTSTART;TZID=Europe/Lisbon:20271223T193000
DTEND;TZID=Europe/Lisbon:20271223T203000
DTSTAMP:20260420T080201
CREATED:20250708T173100Z
LAST-MODIFIED:20250708T190902Z
UID:10019800-1829590200-1829593800@www.collectivefitness.pt
SUMMARY:TCF Daily
DESCRIPTION:TCF Daily-Our signature functional fitness class. A comprehensive 60 minutes session incorporating either a strength-building or skill-focused segment\, alongside a heart-pumping metabolic conditioning portion. \nTRY THIS CLASS NOW
URL:https://www.collectivefitness.pt/event/tcf-daily-27-2/2027-12-23/
LOCATION:The Collective Fitness\, R. Prof. Sousa da Câmara 128 Loja C\, Lisboa\, Lisboa\, 1070-217\, Portugal
CATEGORIES:TCF Daily
END:VEVENT
BEGIN:VEVENT
DTSTART;TZID=Europe/Lisbon:20271224T173000
DTEND;TZID=Europe/Lisbon:20271224T183000
DTSTAMP:20260420T080201
CREATED:20250708T173728Z
LAST-MODIFIED:20250717T145115Z
UID:10024518-1829669400-1829673000@www.collectivefitness.pt
SUMMARY:Strengh Club
DESCRIPTION:Develop strength\, power\, and muscular endurance in our 60-minute blend of weightlifting\, powerlifting\, ans strength athletics training.
URL:https://www.collectivefitness.pt/event/strengh-club-2/2027-12-24/
LOCATION:The Collective Fitness\, R. Prof. Sousa da Câmara 128 Loja C\, Lisboa\, Lisboa\, 1070-217\, Portugal
CATEGORIES:Strength Club
END:VEVENT
BEGIN:VEVENT
DTSTART;TZID=Europe/Lisbon:20271224T183000
DTEND;TZID=Europe/Lisbon:20271224T193000
DTSTAMP:20260420T080201
CREATED:20250708T173757Z
LAST-MODIFIED:20250717T145011Z
UID:10025043-1829673000-1829676600@www.collectivefitness.pt
SUMMARY:TCF Daily
DESCRIPTION:TCF Daily-Our signature functional fitness class. A comprehensive 60 minutes session incorporating either a strength-building or skill-focused segment\, alongside a heart-pumping metabolic conditioning portion. \nTRY THIS CLASS NOW
URL:https://www.collectivefitness.pt/event/tcf-daily-32/2027-12-24/
LOCATION:The Collective Fitness\, R. Prof. Sousa da Câmara 128 Loja C\, Lisboa\, Lisboa\, 1070-217\, Portugal
CATEGORIES:TCF Daily
END:VEVENT
BEGIN:VEVENT
DTSTART;TZID=Europe/Lisbon:20271224T193000
DTEND;TZID=Europe/Lisbon:20271224T203000
DTSTAMP:20260420T080201
CREATED:20250708T173821Z
LAST-MODIFIED:20250717T144936Z
UID:10025568-1829676600-1829680200@www.collectivefitness.pt
SUMMARY:TCF Daily
DESCRIPTION:TCF Daily-Our signature functional fitness class. A comprehensive 60 minutes session incorporating either a strength-building or skill-focused segment\, alongside a heart-pumping metabolic conditioning portion. \nTRY THIS CLASS NOW
URL:https://www.collectivefitness.pt/event/tcf-daily-33/2027-12-24/
LOCATION:The Collective Fitness\, R. Prof. Sousa da Câmara 128 Loja C\, Lisboa\, Lisboa\, 1070-217\, Portugal
CATEGORIES:TCF Daily
END:VEVENT
BEGIN:VEVENT
DTSTART;TZID=Europe/Lisbon:20271230T173000
DTEND;TZID=Europe/Lisbon:20271230T183000
DTSTAMP:20260420T080201
CREATED:20250708T140035Z
LAST-MODIFIED:20250708T140035Z
UID:10018493-1830187800-1830191400@www.collectivefitness.pt
SUMMARY:TCF Daily
DESCRIPTION:TCF Daily-Our signature functional fitness class. A comprehensive 60 minutes session incorporating either a strength-building or skill-focused segment\, alongside a heart-pumping metabolic conditioning portion.
URL:https://www.collectivefitness.pt/event/tcf-daily-25/2027-12-30/
LOCATION:The Collective Fitness\, R. Prof. Sousa da Câmara 128 Loja C\, Lisboa\, Lisboa\, 1070-217\, Portugal
CATEGORIES:TCF Daily
END:VEVENT
BEGIN:VEVENT
DTSTART;TZID=Europe/Lisbon:20271230T183000
DTEND;TZID=Europe/Lisbon:20271230T193000
DTSTAMP:20260420T080201
CREATED:20250708T173002Z
LAST-MODIFIED:20250708T203605Z
UID:10019279-1830191400-1830195000@www.collectivefitness.pt
SUMMARY:TCF Daily
DESCRIPTION:TCF Daily-Our signature functional fitness class. A comprehensive 60 minutes session incorporating either a strength-building or skill-focused segment\, alongside a heart-pumping metabolic conditioning portion. \nTRY THIS CLASS NOW
URL:https://www.collectivefitness.pt/event/tcf-daily-26/2027-12-30/
LOCATION:The Collective Fitness\, R. Prof. Sousa da Câmara 128 Loja C\, Lisboa\, Lisboa\, 1070-217\, Portugal
CATEGORIES:TCF Daily
END:VEVENT
BEGIN:VEVENT
DTSTART;TZID=Europe/Lisbon:20271230T193000
DTEND;TZID=Europe/Lisbon:20271230T203000
DTSTAMP:20260420T080201
CREATED:20250708T173100Z
LAST-MODIFIED:20250708T190902Z
UID:10019801-1830195000-1830198600@www.collectivefitness.pt
SUMMARY:TCF Daily
DESCRIPTION:TCF Daily-Our signature functional fitness class. A comprehensive 60 minutes session incorporating either a strength-building or skill-focused segment\, alongside a heart-pumping metabolic conditioning portion. \nTRY THIS CLASS NOW
URL:https://www.collectivefitness.pt/event/tcf-daily-27-2/2027-12-30/
LOCATION:The Collective Fitness\, R. Prof. Sousa da Câmara 128 Loja C\, Lisboa\, Lisboa\, 1070-217\, Portugal
CATEGORIES:TCF Daily
END:VEVENT
BEGIN:VEVENT
DTSTART;TZID=Europe/Lisbon:20271231T173000
DTEND;TZID=Europe/Lisbon:20271231T183000
DTSTAMP:20260420T080201
CREATED:20250708T173728Z
LAST-MODIFIED:20250717T145115Z
UID:10024519-1830274200-1830277800@www.collectivefitness.pt
SUMMARY:Strengh Club
DESCRIPTION:Develop strength\, power\, and muscular endurance in our 60-minute blend of weightlifting\, powerlifting\, ans strength athletics training.
URL:https://www.collectivefitness.pt/event/strengh-club-2/2027-12-31/
LOCATION:The Collective Fitness\, R. Prof. Sousa da Câmara 128 Loja C\, Lisboa\, Lisboa\, 1070-217\, Portugal
CATEGORIES:Strength Club
END:VEVENT
BEGIN:VEVENT
DTSTART;TZID=Europe/Lisbon:20271231T183000
DTEND;TZID=Europe/Lisbon:20271231T193000
DTSTAMP:20260420T080201
CREATED:20250708T173757Z
LAST-MODIFIED:20250717T145011Z
UID:10025044-1830277800-1830281400@www.collectivefitness.pt
SUMMARY:TCF Daily
DESCRIPTION:TCF Daily-Our signature functional fitness class. A comprehensive 60 minutes session incorporating either a strength-building or skill-focused segment\, alongside a heart-pumping metabolic conditioning portion. \nTRY THIS CLASS NOW
URL:https://www.collectivefitness.pt/event/tcf-daily-32/2027-12-31/
LOCATION:The Collective Fitness\, R. Prof. Sousa da Câmara 128 Loja C\, Lisboa\, Lisboa\, 1070-217\, Portugal
CATEGORIES:TCF Daily
END:VEVENT
BEGIN:VEVENT
DTSTART;TZID=Europe/Lisbon:20271231T193000
DTEND;TZID=Europe/Lisbon:20271231T203000
DTSTAMP:20260420T080201
CREATED:20250708T173821Z
LAST-MODIFIED:20250717T144936Z
UID:10025569-1830281400-1830285000@www.collectivefitness.pt
SUMMARY:TCF Daily
DESCRIPTION:TCF Daily-Our signature functional fitness class. A comprehensive 60 minutes session incorporating either a strength-building or skill-focused segment\, alongside a heart-pumping metabolic conditioning portion. \nTRY THIS CLASS NOW
URL:https://www.collectivefitness.pt/event/tcf-daily-33/2027-12-31/
LOCATION:The Collective Fitness\, R. Prof. Sousa da Câmara 128 Loja C\, Lisboa\, Lisboa\, 1070-217\, Portugal
CATEGORIES:TCF Daily
END:VEVENT
END:VCALENDAR