BEGIN:VCALENDAR
VERSION:2.0
PRODID:-//The collective fitness - ECPv6.15.16//NONSGML v1.0//EN
CALSCALE:GREGORIAN
METHOD:PUBLISH
X-ORIGINAL-URL:https://www.collectivefitness.pt
X-WR-CALDESC:Events for The collective fitness
REFRESH-INTERVAL;VALUE=DURATION:PT1H
X-Robots-Tag:noindex
X-PUBLISHED-TTL:PT1H
BEGIN:VTIMEZONE
TZID:Europe/Lisbon
BEGIN:DAYLIGHT
TZOFFSETFROM:+0000
TZOFFSETTO:+0100
TZNAME:WEST
DTSTART:20240331T010000
END:DAYLIGHT
BEGIN:STANDARD
TZOFFSETFROM:+0100
TZOFFSETTO:+0000
TZNAME:WET
DTSTART:20241027T010000
END:STANDARD
BEGIN:DAYLIGHT
TZOFFSETFROM:+0000
TZOFFSETTO:+0100
TZNAME:WEST
DTSTART:20250330T010000
END:DAYLIGHT
BEGIN:STANDARD
TZOFFSETFROM:+0100
TZOFFSETTO:+0000
TZNAME:WET
DTSTART:20251026T010000
END:STANDARD
BEGIN:DAYLIGHT
TZOFFSETFROM:+0000
TZOFFSETTO:+0100
TZNAME:WEST
DTSTART:20260329T010000
END:DAYLIGHT
BEGIN:STANDARD
TZOFFSETFROM:+0100
TZOFFSETTO:+0000
TZNAME:WET
DTSTART:20261025T010000
END:STANDARD
END:VTIMEZONE
BEGIN:VEVENT
DTSTART;TZID=Europe/Lisbon:20250818T123000
DTEND;TZID=Europe/Lisbon:20250818T133000
DTSTAMP:20260422T200624
CREATED:20250708T093227Z
LAST-MODIFIED:20250708T094017Z
UID:10003686-1755520200-1755523800@www.collectivefitness.pt
SUMMARY:TCF Daily
DESCRIPTION:TCF Daily-Our signature functional fitness class. A comprehensive 60 minutes session incorporating either a strength-building or skill-focused segment\, alongside a heart-pumping metabolic conditioning portion.
URL:https://www.collectivefitness.pt/event/tcf-daily-3/2025-08-18/
LOCATION:The Collective Fitness\, R. Prof. Sousa da Câmara 128 Loja C\, Lisboa\, Lisboa\, 1070-217\, Portugal
CATEGORIES:TCF Daily
END:VEVENT
BEGIN:VEVENT
DTSTART;TZID=Europe/Lisbon:20250818T083000
DTEND;TZID=Europe/Lisbon:20250818T093000
DTSTAMP:20260422T200624
CREATED:20250701T171946Z
LAST-MODIFIED:20260306T201946Z
UID:10028912-1755505800-1755509400@www.collectivefitness.pt
SUMMARY:TCF Daily
DESCRIPTION:TCF Daily-Our signature functional fitness class. A comprehensive 60 minutes session incorporating either a strength-building or skill-focused segment\, alongside a heart-pumping metabolic conditioning portion. \nTRY THIS CLASS NOW
URL:https://www.collectivefitness.pt/event/tcf-daily-37/2025-08-18/
CATEGORIES:TCF Daily
END:VEVENT
BEGIN:VEVENT
DTSTART;TZID=Europe/Lisbon:20250818T073000
DTEND;TZID=Europe/Lisbon:20250818T083000
DTSTAMP:20260422T200624
CREATED:20250701T171813Z
LAST-MODIFIED:20250708T210224Z
UID:10000272-1755502200-1755505800@www.collectivefitness.pt
SUMMARY:TCF Daily
DESCRIPTION:TCF Daily-Our signature functional fitness class. A comprehensive 60 minutes session incorporating either a strength-building or skill-focused segment\, alongside a heart-pumping metabolic conditioning portion. \nTRY THIS CLASS NOW
URL:https://www.collectivefitness.pt/event/tcf-daily-2/2025-08-18/
CATEGORIES:TCF Daily
END:VEVENT
BEGIN:VEVENT
DTSTART;TZID=Europe/Lisbon:20250818T063000
DTEND;TZID=Europe/Lisbon:20250818T073000
DTSTAMP:20260422T200624
CREATED:20250701T171036Z
LAST-MODIFIED:20250708T210254Z
UID:10000010-1755498600-1755502200@www.collectivefitness.pt
SUMMARY:TCF Daily
DESCRIPTION:TCF Daily-Our signature functional fitness class. A comprehensive 60 minutes session incorporating either a strength-building or skill-focused segment\, alongside a heart-pumping metabolic conditioning portion. \nTRY THIS CLASS NOW
URL:https://www.collectivefitness.pt/event/tcf-daily/2025-08-18/
LOCATION:The Collective Fitness\, R. Prof. Sousa da Câmara 128 Loja C\, Lisboa\, Lisboa\, 1070-217\, Portugal
CATEGORIES:TCF Daily
END:VEVENT
BEGIN:VEVENT
DTSTART;TZID=Europe/Lisbon:20250816T110000
DTEND;TZID=Europe/Lisbon:20250816T123000
DTSTAMP:20260422T200624
CREATED:20250708T181526Z
LAST-MODIFIED:20250708T202816Z
UID:10027017-1755342000-1755347400@www.collectivefitness.pt
SUMMARY:TCF Daily
DESCRIPTION:TCF Daily-Our signature functional fitness class. A comprehensive 60 minutes session incorporating either a strength-building or skill-focused segment\, alongside a heart-pumping metabolic conditioning portion. \nTRY THIS CLASS NOW
URL:https://www.collectivefitness.pt/event/tcf-daily-36/2025-08-16/
LOCATION:The Collective Fitness\, R. Prof. Sousa da Câmara 128 Loja C\, Lisboa\, Lisboa\, 1070-217\, Portugal
CATEGORIES:TCF Daily
END:VEVENT
BEGIN:VEVENT
DTSTART;TZID=Europe/Lisbon:20250816T093000
DTEND;TZID=Europe/Lisbon:20250816T110000
DTSTAMP:20260422T200624
CREATED:20250708T181452Z
LAST-MODIFIED:20250708T202955Z
UID:10026493-1755336600-1755342000@www.collectivefitness.pt
SUMMARY:TCF Daily
DESCRIPTION:TCF Daily-Our signature functional fitness class. A comprehensive 60 minutes session incorporating either a strength-building or skill-focused segment\, alongside a heart-pumping metabolic conditioning portion. \nTRY THIS CLASS NOW
URL:https://www.collectivefitness.pt/event/tcf-daily-35/2025-08-16/
LOCATION:The Collective Fitness\, R. Prof. Sousa da Câmara 128 Loja C\, Lisboa\, Lisboa\, 1070-217\, Portugal
CATEGORIES:TCF Daily
END:VEVENT
BEGIN:VEVENT
DTSTART;TZID=Europe/Lisbon:20250816T080000
DTEND;TZID=Europe/Lisbon:20250816T093000
DTSTAMP:20260422T200624
CREATED:20250708T173914Z
LAST-MODIFIED:20250708T203130Z
UID:10025969-1755331200-1755336600@www.collectivefitness.pt
SUMMARY:TCF Daily
DESCRIPTION:TCF Daily-Our signature functional fitness class. A comprehensive 60 minutes session incorporating either a strength-building or skill-focused segment\, alongside a heart-pumping metabolic conditioning portion. \nTRY THIS CLASS NOW
URL:https://www.collectivefitness.pt/event/tcf-daily-34/2025-08-16/
LOCATION:The Collective Fitness\, R. Prof. Sousa da Câmara 128 Loja C\, Lisboa\, Lisboa\, 1070-217\, Portugal
CATEGORIES:TCF Daily
END:VEVENT
BEGIN:VEVENT
DTSTART;TZID=Europe/Lisbon:20250815T133000
DTEND;TZID=Europe/Lisbon:20250815T143000
DTSTAMP:20260422T200624
CREATED:20250708T173541Z
LAST-MODIFIED:20250708T203338Z
UID:10023084-1755264600-1755268200@www.collectivefitness.pt
SUMMARY:TCF Daily
DESCRIPTION:TCF Daily-Our signature functional fitness class. A comprehensive 60 minutes session incorporating either a strength-building or skill-focused segment\, alongside a heart-pumping metabolic conditioning portion. \nTRY THIS CLASS NOW
URL:https://www.collectivefitness.pt/event/tcf-daily-31/2025-08-15/
LOCATION:The Collective Fitness\, R. Prof. Sousa da Câmara 128 Loja C\, Lisboa\, Lisboa\, 1070-217\, Portugal
CATEGORIES:TCF Daily
END:VEVENT
BEGIN:VEVENT
DTSTART;TZID=Europe/Lisbon:20250815T123000
DTEND;TZID=Europe/Lisbon:20250815T133000
DTSTAMP:20260422T200624
CREATED:20250708T173516Z
LAST-MODIFIED:20250708T203407Z
UID:10022560-1755261000-1755264600@www.collectivefitness.pt
SUMMARY:TCF Daily
DESCRIPTION:TCF Daily-Our signature functional fitness class. A comprehensive 60 minutes session incorporating either a strength-building or skill-focused segment\, alongside a heart-pumping metabolic conditioning portion. \nTRY THIS CLASS NOW
URL:https://www.collectivefitness.pt/event/tcf-daily-30/2025-08-15/
LOCATION:The Collective Fitness\, R. Prof. Sousa da Câmara 128 Loja C\, Lisboa\, Lisboa\, 1070-217\, Portugal
CATEGORIES:TCF Daily
END:VEVENT
BEGIN:VEVENT
DTSTART;TZID=Europe/Lisbon:20250815T073000
DTEND;TZID=Europe/Lisbon:20250815T083000
DTSTAMP:20260422T200624
CREATED:20250708T173214Z
LAST-MODIFIED:20250708T203448Z
UID:10020725-1755243000-1755246600@www.collectivefitness.pt
SUMMARY:TCF Daily
DESCRIPTION:TCF Daily-Our signature functional fitness class. A comprehensive 60 minutes session incorporating either a strength-building or skill-focused segment\, alongside a heart-pumping metabolic conditioning portion. \nTRY THIS CLASS NOW
URL:https://www.collectivefitness.pt/event/tcf-daily-29/2025-08-15/
CATEGORIES:TCF Daily
END:VEVENT
BEGIN:VEVENT
DTSTART;TZID=Europe/Lisbon:20250815T063000
DTEND;TZID=Europe/Lisbon:20250815T073000
DTSTAMP:20260422T200624
CREATED:20250708T173145Z
LAST-MODIFIED:20250708T203525Z
UID:10020201-1755239400-1755243000@www.collectivefitness.pt
SUMMARY:TCF Daily
DESCRIPTION:TCF Daily-Our signature functional fitness class. A comprehensive 60 minutes session incorporating either a strength-building or skill-focused segment\, alongside a heart-pumping metabolic conditioning portion. \nTRY THIS CLASS NOW
URL:https://www.collectivefitness.pt/event/tcf-daily-28/2025-08-15/
LOCATION:The Collective Fitness\, R. Prof. Sousa da Câmara 128 Loja C\, Lisboa\, Lisboa\, 1070-217\, Portugal
CATEGORIES:TCF Daily
END:VEVENT
BEGIN:VEVENT
DTSTART;TZID=Europe/Lisbon:20250814T083000
DTEND;TZID=Europe/Lisbon:20250814T093000
DTSTAMP:20260422T200624
CREATED:20250708T173337Z
LAST-MODIFIED:20260306T202900Z
UID:10032160-1755160200-1755163800@www.collectivefitness.pt
SUMMARY:TCF Daily
DESCRIPTION:TCF Daily-Our signature functional fitness class. A comprehensive 60 minutes session incorporating either a strength-building or skill-focused segment\, alongside a heart-pumping metabolic conditioning portion. \nTRY THIS CLASS NOW
URL:https://www.collectivefitness.pt/event/tcf-daily-39/2025-08-14/
LOCATION:The Collective Fitness\, R. Prof. Sousa da Câmara 128 Loja C\, Lisboa\, Lisboa\, 1070-217\, Portugal
CATEGORIES:TCF Daily
END:VEVENT
BEGIN:VEVENT
DTSTART;TZID=Europe/Lisbon:20250813T133000
DTEND;TZID=Europe/Lisbon:20250813T143000
DTSTAMP:20260422T200624
CREATED:20250708T135025Z
LAST-MODIFIED:20250708T205206Z
UID:10012605-1755091800-1755095400@www.collectivefitness.pt
SUMMARY:TCF Daily
DESCRIPTION:TCF Daily-Our signature functional fitness class. A comprehensive 60 minutes session incorporating either a strength-building or skill-focused segment\, alongside a heart-pumping metabolic conditioning portion. \nTRY THIS CLASS NOW
URL:https://www.collectivefitness.pt/event/tcf-daily-17/2025-08-13/
LOCATION:The Collective Fitness\, R. Prof. Sousa da Câmara 128 Loja C\, Lisboa\, Lisboa\, 1070-217\, Portugal
CATEGORIES:TCF Daily
END:VEVENT
BEGIN:VEVENT
DTSTART;TZID=Europe/Lisbon:20250813T123000
DTEND;TZID=Europe/Lisbon:20250813T133000
DTSTAMP:20260422T200624
CREATED:20250708T134923Z
LAST-MODIFIED:20250708T205247Z
UID:10012081-1755088200-1755091800@www.collectivefitness.pt
SUMMARY:TCF Daily
DESCRIPTION:TCF Daily-Our signature functional fitness class. A comprehensive 60 minutes session incorporating either a strength-building or skill-focused segment\, alongside a heart-pumping metabolic conditioning portion. \nTRY THIS CLASS NOW
URL:https://www.collectivefitness.pt/event/tcf-daily-16/2025-08-13/
LOCATION:The Collective Fitness\, R. Prof. Sousa da Câmara 128 Loja C\, Lisboa\, Lisboa\, 1070-217\, Portugal
CATEGORIES:TCF Daily
END:VEVENT
BEGIN:VEVENT
DTSTART;TZID=Europe/Lisbon:20250813T073000
DTEND;TZID=Europe/Lisbon:20250813T083000
DTSTAMP:20260422T200624
CREATED:20250708T133818Z
LAST-MODIFIED:20250708T205328Z
UID:10010507-1755070200-1755073800@www.collectivefitness.pt
SUMMARY:TCF Daily
DESCRIPTION:TCF Daily-Our signature functional fitness class. A comprehensive 60 minutes session incorporating either a strength-building or skill-focused segment\, alongside a heart-pumping metabolic conditioning portion. \nTRY THIS CLASS NOW
URL:https://www.collectivefitness.pt/event/tcf-daily-15/2025-08-13/
CATEGORIES:TCF Daily
END:VEVENT
BEGIN:VEVENT
DTSTART;TZID=Europe/Lisbon:20250813T063000
DTEND;TZID=Europe/Lisbon:20250813T073000
DTSTAMP:20260422T200624
CREATED:20250708T133620Z
LAST-MODIFIED:20250708T205406Z
UID:10009983-1755066600-1755070200@www.collectivefitness.pt
SUMMARY:TCF Daily
DESCRIPTION:TCF Daily-Our signature functional fitness class. A comprehensive 60 minutes session incorporating either a strength-building or skill-focused segment\, alongside a heart-pumping metabolic conditioning portion. \nTRY THIS CLASS NOW
URL:https://www.collectivefitness.pt/event/tcf-daily-14/2025-08-13/
LOCATION:The Collective Fitness\, R. Prof. Sousa da Câmara 128 Loja C\, Lisboa\, Lisboa\, 1070-217\, Portugal
CATEGORIES:TCF Daily
END:VEVENT
BEGIN:VEVENT
DTSTART;TZID=Europe/Lisbon:20250812T193000
DTEND;TZID=Europe/Lisbon:20250812T203000
DTSTAMP:20260422T200624
CREATED:20250708T133330Z
LAST-MODIFIED:20250708T205448Z
UID:10009459-1755027000-1755030600@www.collectivefitness.pt
SUMMARY:TCF Daily
DESCRIPTION:TCF Daily-Our signature functional fitness class. A comprehensive 60 minutes session incorporating either a strength-building or skill-focused segment\, alongside a heart-pumping metabolic conditioning portion. \nTRY THIS CLASS NOW
URL:https://www.collectivefitness.pt/event/tcf-daily-13/2025-08-12/
LOCATION:The Collective Fitness\, R. Prof. Sousa da Câmara 128 Loja C\, Lisboa\, Lisboa\, 1070-217\, Portugal
CATEGORIES:TCF Daily
END:VEVENT
BEGIN:VEVENT
DTSTART;TZID=Europe/Lisbon:20250812T183000
DTEND;TZID=Europe/Lisbon:20250812T193000
DTSTAMP:20260422T200624
CREATED:20250708T133235Z
LAST-MODIFIED:20250708T205527Z
UID:10008934-1755023400-1755027000@www.collectivefitness.pt
SUMMARY:TCF Daily
DESCRIPTION:TCF Daily-Our signature functional fitness class. A comprehensive 60 minutes session incorporating either a strength-building or skill-focused segment\, alongside a heart-pumping metabolic conditioning portion. \nTRY THIS CLASS NOW
URL:https://www.collectivefitness.pt/event/tcf-daily-12/2025-08-12/
LOCATION:The Collective Fitness\, R. Prof. Sousa da Câmara 128 Loja C\, Lisboa\, Lisboa\, 1070-217\, Portugal
CATEGORIES:TCF Daily
END:VEVENT
BEGIN:VEVENT
DTSTART;TZID=Europe/Lisbon:20250812T173000
DTEND;TZID=Europe/Lisbon:20250812T183000
DTSTAMP:20260422T200624
CREATED:20250708T133147Z
LAST-MODIFIED:20250708T205608Z
UID:10008409-1755019800-1755023400@www.collectivefitness.pt
SUMMARY:TCF Daily
DESCRIPTION:TCF Daily-Our signature functional fitness class. A comprehensive 60 minutes session incorporating either a strength-building or skill-focused segment\, alongside a heart-pumping metabolic conditioning portion. \nTRY THIS CLASS NOW
URL:https://www.collectivefitness.pt/event/tcf-daily-11/2025-08-12/
LOCATION:The Collective Fitness\, R. Prof. Sousa da Câmara 128 Loja C\, Lisboa\, Lisboa\, 1070-217\, Portugal
CATEGORIES:TCF Daily
END:VEVENT
BEGIN:VEVENT
DTSTART;TZID=Europe/Lisbon:20250811T193000
DTEND;TZID=Europe/Lisbon:20250811T203000
DTSTAMP:20260422T200624
CREATED:20250708T093912Z
LAST-MODIFIED:20250708T205933Z
UID:10003422-1754940600-1754944200@www.collectivefitness.pt
SUMMARY:TCF Daily
DESCRIPTION:TCF Daily-Our signature functional fitness class. A comprehensive 60 minutes session incorporating either a strength-building or skill-focused segment\, alongside a heart-pumping metabolic conditioning portion. \nTRY THIS CLASS NOW
URL:https://www.collectivefitness.pt/event/tcf-daily-6/2025-08-11/
LOCATION:The Collective Fitness\, R. Prof. Sousa da Câmara 128 Loja C\, Lisboa\, Lisboa\, 1070-217\, Portugal
CATEGORIES:TCF Daily
END:VEVENT
BEGIN:VEVENT
DTSTART;TZID=Europe/Lisbon:20250811T183000
DTEND;TZID=Europe/Lisbon:20250811T193000
DTSTAMP:20260422T200624
CREATED:20250708T093818Z
LAST-MODIFIED:20250708T210011Z
UID:10002896-1754937000-1754940600@www.collectivefitness.pt
SUMMARY:TCF Daily
DESCRIPTION:TCF Daily-Our signature functional fitness class. A comprehensive 60 minutes session incorporating either a strength-building or skill-focused segment\, alongside a heart-pumping metabolic conditioning portion. \nTRY THIS CLASS NOW
URL:https://www.collectivefitness.pt/event/tcf-daily-5/2025-08-11/
LOCATION:The Collective Fitness\, R. Prof. Sousa da Câmara 128 Loja C\, Lisboa\, Lisboa\, 1070-217\, Portugal
CATEGORIES:TCF Daily
END:VEVENT
BEGIN:VEVENT
DTSTART;TZID=Europe/Lisbon:20250811T173000
DTEND;TZID=Europe/Lisbon:20250811T183000
DTSTAMP:20260422T200624
CREATED:20250708T093646Z
LAST-MODIFIED:20250708T094656Z
UID:10004734-1754933400-1754937000@www.collectivefitness.pt
SUMMARY:Strengh Club
DESCRIPTION:Develop strength\, power\, and muscular endurance in our 60-minute blend of weightlifting\, powerlifting\, ans strength athletics training.
URL:https://www.collectivefitness.pt/event/strengh-club/2025-08-11/
LOCATION:The Collective Fitness\, R. Prof. Sousa da Câmara 128 Loja C\, Lisboa\, Lisboa\, 1070-217\, Portugal
CATEGORIES:Strength Club
END:VEVENT
BEGIN:VEVENT
DTSTART;TZID=Europe/Lisbon:20250811T133000
DTEND;TZID=Europe/Lisbon:20250811T143000
DTSTAMP:20260422T200624
CREATED:20250708T093347Z
LAST-MODIFIED:20250708T210049Z
UID:10001584-1754919000-1754922600@www.collectivefitness.pt
SUMMARY:TCF Daily
DESCRIPTION:TCF Daily-Our signature functional fitness class. A comprehensive 60 minutes session incorporating either a strength-building or skill-focused segment\, alongside a heart-pumping metabolic conditioning portion. \nTRY THIS CLASS NOW
URL:https://www.collectivefitness.pt/event/tcf-daily-4/2025-08-11/
LOCATION:The Collective Fitness\, R. Prof. Sousa da Câmara 128 Loja C\, Lisboa\, Lisboa\, 1070-217\, Portugal
CATEGORIES:TCF Daily
END:VEVENT
BEGIN:VEVENT
DTSTART;TZID=Europe/Lisbon:20250811T123000
DTEND;TZID=Europe/Lisbon:20250811T133000
DTSTAMP:20260422T200624
CREATED:20250708T093227Z
LAST-MODIFIED:20250708T094017Z
UID:10003685-1754915400-1754919000@www.collectivefitness.pt
SUMMARY:TCF Daily
DESCRIPTION:TCF Daily-Our signature functional fitness class. A comprehensive 60 minutes session incorporating either a strength-building or skill-focused segment\, alongside a heart-pumping metabolic conditioning portion.
URL:https://www.collectivefitness.pt/event/tcf-daily-3/2025-08-11/
LOCATION:The Collective Fitness\, R. Prof. Sousa da Câmara 128 Loja C\, Lisboa\, Lisboa\, 1070-217\, Portugal
CATEGORIES:TCF Daily
END:VEVENT
BEGIN:VEVENT
DTSTART;TZID=Europe/Lisbon:20250811T083000
DTEND;TZID=Europe/Lisbon:20250811T093000
DTSTAMP:20260422T200624
CREATED:20250701T171946Z
LAST-MODIFIED:20260306T201946Z
UID:10028909-1754901000-1754904600@www.collectivefitness.pt
SUMMARY:TCF Daily
DESCRIPTION:TCF Daily-Our signature functional fitness class. A comprehensive 60 minutes session incorporating either a strength-building or skill-focused segment\, alongside a heart-pumping metabolic conditioning portion. \nTRY THIS CLASS NOW
URL:https://www.collectivefitness.pt/event/tcf-daily-37/2025-08-11/
CATEGORIES:TCF Daily
END:VEVENT
BEGIN:VEVENT
DTSTART;TZID=Europe/Lisbon:20250811T073000
DTEND;TZID=Europe/Lisbon:20250811T083000
DTSTAMP:20260422T200624
CREATED:20250701T171813Z
LAST-MODIFIED:20250708T210224Z
UID:10000271-1754897400-1754901000@www.collectivefitness.pt
SUMMARY:TCF Daily
DESCRIPTION:TCF Daily-Our signature functional fitness class. A comprehensive 60 minutes session incorporating either a strength-building or skill-focused segment\, alongside a heart-pumping metabolic conditioning portion. \nTRY THIS CLASS NOW
URL:https://www.collectivefitness.pt/event/tcf-daily-2/2025-08-11/
CATEGORIES:TCF Daily
END:VEVENT
BEGIN:VEVENT
DTSTART;TZID=Europe/Lisbon:20250811T063000
DTEND;TZID=Europe/Lisbon:20250811T073000
DTSTAMP:20260422T200624
CREATED:20250701T171036Z
LAST-MODIFIED:20250708T210254Z
UID:10000009-1754893800-1754897400@www.collectivefitness.pt
SUMMARY:TCF Daily
DESCRIPTION:TCF Daily-Our signature functional fitness class. A comprehensive 60 minutes session incorporating either a strength-building or skill-focused segment\, alongside a heart-pumping metabolic conditioning portion. \nTRY THIS CLASS NOW
URL:https://www.collectivefitness.pt/event/tcf-daily/2025-08-11/
LOCATION:The Collective Fitness\, R. Prof. Sousa da Câmara 128 Loja C\, Lisboa\, Lisboa\, 1070-217\, Portugal
CATEGORIES:TCF Daily
END:VEVENT
BEGIN:VEVENT
DTSTART;TZID=Europe/Lisbon:20250809T110000
DTEND;TZID=Europe/Lisbon:20250809T123000
DTSTAMP:20260422T200624
CREATED:20250708T181526Z
LAST-MODIFIED:20250708T202816Z
UID:10027016-1754737200-1754742600@www.collectivefitness.pt
SUMMARY:TCF Daily
DESCRIPTION:TCF Daily-Our signature functional fitness class. A comprehensive 60 minutes session incorporating either a strength-building or skill-focused segment\, alongside a heart-pumping metabolic conditioning portion. \nTRY THIS CLASS NOW
URL:https://www.collectivefitness.pt/event/tcf-daily-36/2025-08-09/
LOCATION:The Collective Fitness\, R. Prof. Sousa da Câmara 128 Loja C\, Lisboa\, Lisboa\, 1070-217\, Portugal
CATEGORIES:TCF Daily
END:VEVENT
BEGIN:VEVENT
DTSTART;TZID=Europe/Lisbon:20250809T093000
DTEND;TZID=Europe/Lisbon:20250809T110000
DTSTAMP:20260422T200624
CREATED:20250708T181452Z
LAST-MODIFIED:20250708T202955Z
UID:10026492-1754731800-1754737200@www.collectivefitness.pt
SUMMARY:TCF Daily
DESCRIPTION:TCF Daily-Our signature functional fitness class. A comprehensive 60 minutes session incorporating either a strength-building or skill-focused segment\, alongside a heart-pumping metabolic conditioning portion. \nTRY THIS CLASS NOW
URL:https://www.collectivefitness.pt/event/tcf-daily-35/2025-08-09/
LOCATION:The Collective Fitness\, R. Prof. Sousa da Câmara 128 Loja C\, Lisboa\, Lisboa\, 1070-217\, Portugal
CATEGORIES:TCF Daily
END:VEVENT
BEGIN:VEVENT
DTSTART;TZID=Europe/Lisbon:20250809T080000
DTEND;TZID=Europe/Lisbon:20250809T093000
DTSTAMP:20260422T200624
CREATED:20250708T173914Z
LAST-MODIFIED:20250708T203130Z
UID:10025968-1754726400-1754731800@www.collectivefitness.pt
SUMMARY:TCF Daily
DESCRIPTION:TCF Daily-Our signature functional fitness class. A comprehensive 60 minutes session incorporating either a strength-building or skill-focused segment\, alongside a heart-pumping metabolic conditioning portion. \nTRY THIS CLASS NOW
URL:https://www.collectivefitness.pt/event/tcf-daily-34/2025-08-09/
LOCATION:The Collective Fitness\, R. Prof. Sousa da Câmara 128 Loja C\, Lisboa\, Lisboa\, 1070-217\, Portugal
CATEGORIES:TCF Daily
END:VEVENT
END:VCALENDAR