BEGIN:VCALENDAR
VERSION:2.0
PRODID:-//The collective fitness - ECPv6.15.16//NONSGML v1.0//EN
CALSCALE:GREGORIAN
METHOD:PUBLISH
X-ORIGINAL-URL:https://www.collectivefitness.pt
X-WR-CALDESC:Events for The collective fitness
REFRESH-INTERVAL;VALUE=DURATION:PT1H
X-Robots-Tag:noindex
X-PUBLISHED-TTL:PT1H
BEGIN:VTIMEZONE
TZID:Europe/Lisbon
BEGIN:DAYLIGHT
TZOFFSETFROM:+0000
TZOFFSETTO:+0100
TZNAME:WEST
DTSTART:20270328T010000
END:DAYLIGHT
BEGIN:STANDARD
TZOFFSETFROM:+0100
TZOFFSETTO:+0000
TZNAME:WET
DTSTART:20271031T010000
END:STANDARD
BEGIN:DAYLIGHT
TZOFFSETFROM:+0000
TZOFFSETTO:+0100
TZNAME:WEST
DTSTART:20280326T010000
END:DAYLIGHT
BEGIN:STANDARD
TZOFFSETFROM:+0100
TZOFFSETTO:+0000
TZNAME:WET
DTSTART:20281029T010000
END:STANDARD
BEGIN:DAYLIGHT
TZOFFSETFROM:+0000
TZOFFSETTO:+0100
TZNAME:WEST
DTSTART:20290325T010000
END:DAYLIGHT
BEGIN:STANDARD
TZOFFSETFROM:+0100
TZOFFSETTO:+0000
TZNAME:WET
DTSTART:20291028T010000
END:STANDARD
END:VTIMEZONE
BEGIN:VEVENT
DTSTART;TZID=Europe/Lisbon:20280912T063000
DTEND;TZID=Europe/Lisbon:20280912T073000
DTSTAMP:20260426T010602
CREATED:20250708T131905Z
LAST-MODIFIED:20250708T205847Z
UID:10005421-1852353000-1852356600@www.collectivefitness.pt
SUMMARY:TCF Daily
DESCRIPTION:TCF Daily-Our signature functional fitness class. A comprehensive 60 minutes session incorporating either a strength-building or skill-focused segment\, alongside a heart-pumping metabolic conditioning portion. \nTRY THIS CLASS NOW
URL:https://www.collectivefitness.pt/event/tcf-daily-7/2028-09-12/
LOCATION:The Collective Fitness\, R. Prof. Sousa da Câmara 128 Loja C\, Lisboa\, Lisboa\, 1070-217\, Portugal
CATEGORIES:TCF Daily
END:VEVENT
BEGIN:VEVENT
DTSTART;TZID=Europe/Lisbon:20280912T073000
DTEND;TZID=Europe/Lisbon:20280912T083000
DTSTAMP:20260426T010602
CREATED:20250708T132054Z
LAST-MODIFIED:20250708T205813Z
UID:10005946-1852356600-1852360200@www.collectivefitness.pt
SUMMARY:TCF Daily
DESCRIPTION:TCF Daily-Our signature functional fitness class. A comprehensive 60 minutes session incorporating either a strength-building or skill-focused segment\, alongside a heart-pumping metabolic conditioning portion. \nTRY THIS CLASS NOW
URL:https://www.collectivefitness.pt/event/tcf-daily-8/2028-09-12/
CATEGORIES:TCF Daily
END:VEVENT
BEGIN:VEVENT
DTSTART;TZID=Europe/Lisbon:20280912T123000
DTEND;TZID=Europe/Lisbon:20280912T133000
DTSTAMP:20260426T010602
CREATED:20250708T132833Z
LAST-MODIFIED:20250708T205738Z
UID:10006995-1852374600-1852378200@www.collectivefitness.pt
SUMMARY:TCF Daily
DESCRIPTION:TCF Daily-Our signature functional fitness class. A comprehensive 60 minutes session incorporating either a strength-building or skill-focused segment\, alongside a heart-pumping metabolic conditioning portion. \nTRY THIS CLASS NOW
URL:https://www.collectivefitness.pt/event/tcf-daily-9-2/2028-09-12/
LOCATION:The Collective Fitness\, R. Prof. Sousa da Câmara 128 Loja C\, Lisboa\, Lisboa\, 1070-217\, Portugal
CATEGORIES:TCF Daily
END:VEVENT
BEGIN:VEVENT
DTSTART;TZID=Europe/Lisbon:20280912T133000
DTEND;TZID=Europe/Lisbon:20280912T143000
DTSTAMP:20260426T010602
CREATED:20250708T132933Z
LAST-MODIFIED:20250708T205658Z
UID:10007520-1852378200-1852381800@www.collectivefitness.pt
SUMMARY:TCF Daily
DESCRIPTION:TCF Daily-Our signature functional fitness class. A comprehensive 60 minutes session incorporating either a strength-building or skill-focused segment\, alongside a heart-pumping metabolic conditioning portion. \nTRY THIS CLASS NOW
URL:https://www.collectivefitness.pt/event/tcf-daily-10/2028-09-12/
LOCATION:The Collective Fitness\, R. Prof. Sousa da Câmara 128 Loja C\, Lisboa\, Lisboa\, 1070-217\, Portugal
CATEGORIES:TCF Daily
END:VEVENT
BEGIN:VEVENT
DTSTART;TZID=Europe/Lisbon:20280913T173000
DTEND;TZID=Europe/Lisbon:20280913T183000
DTSTAMP:20260426T010602
CREATED:20250708T135130Z
LAST-MODIFIED:20250708T205125Z
UID:10013814-1852479000-1852482600@www.collectivefitness.pt
SUMMARY:TCF Daily
DESCRIPTION:TCF Daily-Our signature functional fitness class. A comprehensive 60 minutes session incorporating either a strength-building or skill-focused segment\, alongside a heart-pumping metabolic conditioning portion. \nTRY THIS CLASS NOW
URL:https://www.collectivefitness.pt/event/tcf-daily-18/2028-09-13/
LOCATION:The Collective Fitness\, R. Prof. Sousa da Câmara 128 Loja C\, Lisboa\, Lisboa\, 1070-217\, Portugal
CATEGORIES:TCF Daily
END:VEVENT
BEGIN:VEVENT
DTSTART;TZID=Europe/Lisbon:20280913T183000
DTEND;TZID=Europe/Lisbon:20280913T193000
DTSTAMP:20260426T010602
CREATED:20250708T135206Z
LAST-MODIFIED:20250708T205045Z
UID:10014338-1852482600-1852486200@www.collectivefitness.pt
SUMMARY:TCF Daily
DESCRIPTION:TCF Daily-Our signature functional fitness class. A comprehensive 60 minutes session incorporating either a strength-building or skill-focused segment\, alongside a heart-pumping metabolic conditioning portion. \nTRY THIS CLASS NOW
URL:https://www.collectivefitness.pt/event/tcf-daily-19/2028-09-13/
LOCATION:The Collective Fitness\, R. Prof. Sousa da Câmara 128 Loja C\, Lisboa\, Lisboa\, 1070-217\, Portugal
CATEGORIES:TCF Daily
END:VEVENT
BEGIN:VEVENT
DTSTART;TZID=Europe/Lisbon:20280913T193000
DTEND;TZID=Europe/Lisbon:20280913T203000
DTSTAMP:20260426T010602
CREATED:20250708T135231Z
LAST-MODIFIED:20250708T205010Z
UID:10014862-1852486200-1852489800@www.collectivefitness.pt
SUMMARY:TCF Daily
DESCRIPTION:TCF Daily-Our signature functional fitness class. A comprehensive 60 minutes session incorporating either a strength-building or skill-focused segment\, alongside a heart-pumping metabolic conditioning portion. \nTRY THIS CLASS NOW
URL:https://www.collectivefitness.pt/event/tcf-daily-20/2028-09-13/
LOCATION:The Collective Fitness\, R. Prof. Sousa da Câmara 128 Loja C\, Lisboa\, Lisboa\, 1070-217\, Portugal
CATEGORIES:TCF Daily
END:VEVENT
BEGIN:VEVENT
DTSTART;TZID=Europe/Lisbon:20280914T063000
DTEND;TZID=Europe/Lisbon:20280914T073000
DTSTAMP:20260426T010602
CREATED:20250708T135356Z
LAST-MODIFIED:20250708T204848Z
UID:10015386-1852525800-1852529400@www.collectivefitness.pt
SUMMARY:TCF Daily
DESCRIPTION:TCF Daily-Our signature functional fitness class. A comprehensive 60 minutes session incorporating either a strength-building or skill-focused segment\, alongside a heart-pumping metabolic conditioning portion. \nTRY THIS CLASS NOW
URL:https://www.collectivefitness.pt/event/tcf-daily-21/2028-09-14/
LOCATION:The Collective Fitness\, R. Prof. Sousa da Câmara 128 Loja C\, Lisboa\, Lisboa\, 1070-217\, Portugal
CATEGORIES:TCF Daily
END:VEVENT
BEGIN:VEVENT
DTSTART;TZID=Europe/Lisbon:20280914T073000
DTEND;TZID=Europe/Lisbon:20280914T083000
DTSTAMP:20260426T010602
CREATED:20250708T135439Z
LAST-MODIFIED:20250708T204811Z
UID:10015910-1852529400-1852533000@www.collectivefitness.pt
SUMMARY:TCF Daily
DESCRIPTION:TCF Daily-Our signature functional fitness class. A comprehensive 60 minutes session incorporating either a strength-building or skill-focused segment\, alongside a heart-pumping metabolic conditioning portion. \nTRY THIS CLASS NOW
URL:https://www.collectivefitness.pt/event/tcf-daily-22/2028-09-14/
CATEGORIES:TCF Daily
END:VEVENT
BEGIN:VEVENT
DTSTART;TZID=Europe/Lisbon:20280914T083000
DTEND;TZID=Europe/Lisbon:20280914T093000
DTSTAMP:20260426T010602
CREATED:20250708T135555Z
LAST-MODIFIED:20260306T202632Z
UID:10032024-1852533000-1852536600@www.collectivefitness.pt
SUMMARY:TCF Daily
DESCRIPTION:TCF Daily-Our signature functional fitness class. A comprehensive 60 minutes session incorporating either a strength-building or skill-focused segment\, alongside a heart-pumping metabolic conditioning portion. \nTRY THIS CLASS NOW
URL:https://www.collectivefitness.pt/event/tcf-daily-38/2028-09-14/
LOCATION:The Collective Fitness\, R. Prof. Sousa da Câmara 128 Loja C\, Lisboa\, Lisboa\, 1070-217\, Portugal
CATEGORIES:TCF Daily
END:VEVENT
BEGIN:VEVENT
DTSTART;TZID=Europe/Lisbon:20280914T123000
DTEND;TZID=Europe/Lisbon:20280914T133000
DTSTAMP:20260426T010602
CREATED:20250708T135701Z
LAST-MODIFIED:20250708T203910Z
UID:10016958-1852547400-1852551000@www.collectivefitness.pt
SUMMARY:TCF Daily
DESCRIPTION:TCF Daily-Our signature functional fitness class. A comprehensive 60 minutes session incorporating either a strength-building or skill-focused segment\, alongside a heart-pumping metabolic conditioning portion. \nTRY THIS CLASS NOW
URL:https://www.collectivefitness.pt/event/tcf-daily-23/2028-09-14/
LOCATION:The Collective Fitness\, R. Prof. Sousa da Câmara 128 Loja C\, Lisboa\, Lisboa\, 1070-217\, Portugal
CATEGORIES:TCF Daily
END:VEVENT
BEGIN:VEVENT
DTSTART;TZID=Europe/Lisbon:20280914T133000
DTEND;TZID=Europe/Lisbon:20280914T143000
DTSTAMP:20260426T010602
CREATED:20250708T135817Z
LAST-MODIFIED:20250708T203831Z
UID:10017482-1852551000-1852554600@www.collectivefitness.pt
SUMMARY:TCF Daily
DESCRIPTION:TCF Daily-Our signature functional fitness class. A comprehensive 60 minutes session incorporating either a strength-building or skill-focused segment\, alongside a heart-pumping metabolic conditioning portion. \nTRY THIS CLASS NOW
URL:https://www.collectivefitness.pt/event/tcf-daily-24/2028-09-14/
LOCATION:The Collective Fitness\, R. Prof. Sousa da Câmara 128 Loja C\, Lisboa\, Lisboa\, 1070-217\, Portugal
CATEGORIES:TCF Daily
END:VEVENT
BEGIN:VEVENT
DTSTART;TZID=Europe/Lisbon:20280919T063000
DTEND;TZID=Europe/Lisbon:20280919T073000
DTSTAMP:20260426T010602
CREATED:20250708T131905Z
LAST-MODIFIED:20250708T205847Z
UID:10005422-1852957800-1852961400@www.collectivefitness.pt
SUMMARY:TCF Daily
DESCRIPTION:TCF Daily-Our signature functional fitness class. A comprehensive 60 minutes session incorporating either a strength-building or skill-focused segment\, alongside a heart-pumping metabolic conditioning portion. \nTRY THIS CLASS NOW
URL:https://www.collectivefitness.pt/event/tcf-daily-7/2028-09-19/
LOCATION:The Collective Fitness\, R. Prof. Sousa da Câmara 128 Loja C\, Lisboa\, Lisboa\, 1070-217\, Portugal
CATEGORIES:TCF Daily
END:VEVENT
BEGIN:VEVENT
DTSTART;TZID=Europe/Lisbon:20280919T073000
DTEND;TZID=Europe/Lisbon:20280919T083000
DTSTAMP:20260426T010602
CREATED:20250708T132054Z
LAST-MODIFIED:20250708T205813Z
UID:10005947-1852961400-1852965000@www.collectivefitness.pt
SUMMARY:TCF Daily
DESCRIPTION:TCF Daily-Our signature functional fitness class. A comprehensive 60 minutes session incorporating either a strength-building or skill-focused segment\, alongside a heart-pumping metabolic conditioning portion. \nTRY THIS CLASS NOW
URL:https://www.collectivefitness.pt/event/tcf-daily-8/2028-09-19/
CATEGORIES:TCF Daily
END:VEVENT
BEGIN:VEVENT
DTSTART;TZID=Europe/Lisbon:20280919T123000
DTEND;TZID=Europe/Lisbon:20280919T133000
DTSTAMP:20260426T010602
CREATED:20250708T132833Z
LAST-MODIFIED:20250708T205738Z
UID:10006996-1852979400-1852983000@www.collectivefitness.pt
SUMMARY:TCF Daily
DESCRIPTION:TCF Daily-Our signature functional fitness class. A comprehensive 60 minutes session incorporating either a strength-building or skill-focused segment\, alongside a heart-pumping metabolic conditioning portion. \nTRY THIS CLASS NOW
URL:https://www.collectivefitness.pt/event/tcf-daily-9-2/2028-09-19/
LOCATION:The Collective Fitness\, R. Prof. Sousa da Câmara 128 Loja C\, Lisboa\, Lisboa\, 1070-217\, Portugal
CATEGORIES:TCF Daily
END:VEVENT
BEGIN:VEVENT
DTSTART;TZID=Europe/Lisbon:20280919T133000
DTEND;TZID=Europe/Lisbon:20280919T143000
DTSTAMP:20260426T010602
CREATED:20250708T132933Z
LAST-MODIFIED:20250708T205658Z
UID:10007521-1852983000-1852986600@www.collectivefitness.pt
SUMMARY:TCF Daily
DESCRIPTION:TCF Daily-Our signature functional fitness class. A comprehensive 60 minutes session incorporating either a strength-building or skill-focused segment\, alongside a heart-pumping metabolic conditioning portion. \nTRY THIS CLASS NOW
URL:https://www.collectivefitness.pt/event/tcf-daily-10/2028-09-19/
LOCATION:The Collective Fitness\, R. Prof. Sousa da Câmara 128 Loja C\, Lisboa\, Lisboa\, 1070-217\, Portugal
CATEGORIES:TCF Daily
END:VEVENT
BEGIN:VEVENT
DTSTART;TZID=Europe/Lisbon:20280920T173000
DTEND;TZID=Europe/Lisbon:20280920T183000
DTSTAMP:20260426T010602
CREATED:20250708T135130Z
LAST-MODIFIED:20250708T205125Z
UID:10013815-1853083800-1853087400@www.collectivefitness.pt
SUMMARY:TCF Daily
DESCRIPTION:TCF Daily-Our signature functional fitness class. A comprehensive 60 minutes session incorporating either a strength-building or skill-focused segment\, alongside a heart-pumping metabolic conditioning portion. \nTRY THIS CLASS NOW
URL:https://www.collectivefitness.pt/event/tcf-daily-18/2028-09-20/
LOCATION:The Collective Fitness\, R. Prof. Sousa da Câmara 128 Loja C\, Lisboa\, Lisboa\, 1070-217\, Portugal
CATEGORIES:TCF Daily
END:VEVENT
BEGIN:VEVENT
DTSTART;TZID=Europe/Lisbon:20280920T183000
DTEND;TZID=Europe/Lisbon:20280920T193000
DTSTAMP:20260426T010602
CREATED:20250708T135206Z
LAST-MODIFIED:20250708T205045Z
UID:10014339-1853087400-1853091000@www.collectivefitness.pt
SUMMARY:TCF Daily
DESCRIPTION:TCF Daily-Our signature functional fitness class. A comprehensive 60 minutes session incorporating either a strength-building or skill-focused segment\, alongside a heart-pumping metabolic conditioning portion. \nTRY THIS CLASS NOW
URL:https://www.collectivefitness.pt/event/tcf-daily-19/2028-09-20/
LOCATION:The Collective Fitness\, R. Prof. Sousa da Câmara 128 Loja C\, Lisboa\, Lisboa\, 1070-217\, Portugal
CATEGORIES:TCF Daily
END:VEVENT
BEGIN:VEVENT
DTSTART;TZID=Europe/Lisbon:20280920T193000
DTEND;TZID=Europe/Lisbon:20280920T203000
DTSTAMP:20260426T010602
CREATED:20250708T135231Z
LAST-MODIFIED:20250708T205010Z
UID:10014863-1853091000-1853094600@www.collectivefitness.pt
SUMMARY:TCF Daily
DESCRIPTION:TCF Daily-Our signature functional fitness class. A comprehensive 60 minutes session incorporating either a strength-building or skill-focused segment\, alongside a heart-pumping metabolic conditioning portion. \nTRY THIS CLASS NOW
URL:https://www.collectivefitness.pt/event/tcf-daily-20/2028-09-20/
LOCATION:The Collective Fitness\, R. Prof. Sousa da Câmara 128 Loja C\, Lisboa\, Lisboa\, 1070-217\, Portugal
CATEGORIES:TCF Daily
END:VEVENT
BEGIN:VEVENT
DTSTART;TZID=Europe/Lisbon:20280921T063000
DTEND;TZID=Europe/Lisbon:20280921T073000
DTSTAMP:20260426T010602
CREATED:20250708T135356Z
LAST-MODIFIED:20250708T204848Z
UID:10015387-1853130600-1853134200@www.collectivefitness.pt
SUMMARY:TCF Daily
DESCRIPTION:TCF Daily-Our signature functional fitness class. A comprehensive 60 minutes session incorporating either a strength-building or skill-focused segment\, alongside a heart-pumping metabolic conditioning portion. \nTRY THIS CLASS NOW
URL:https://www.collectivefitness.pt/event/tcf-daily-21/2028-09-21/
LOCATION:The Collective Fitness\, R. Prof. Sousa da Câmara 128 Loja C\, Lisboa\, Lisboa\, 1070-217\, Portugal
CATEGORIES:TCF Daily
END:VEVENT
BEGIN:VEVENT
DTSTART;TZID=Europe/Lisbon:20280921T073000
DTEND;TZID=Europe/Lisbon:20280921T083000
DTSTAMP:20260426T010602
CREATED:20250708T135439Z
LAST-MODIFIED:20250708T204811Z
UID:10015911-1853134200-1853137800@www.collectivefitness.pt
SUMMARY:TCF Daily
DESCRIPTION:TCF Daily-Our signature functional fitness class. A comprehensive 60 minutes session incorporating either a strength-building or skill-focused segment\, alongside a heart-pumping metabolic conditioning portion. \nTRY THIS CLASS NOW
URL:https://www.collectivefitness.pt/event/tcf-daily-22/2028-09-21/
CATEGORIES:TCF Daily
END:VEVENT
BEGIN:VEVENT
DTSTART;TZID=Europe/Lisbon:20280921T083000
DTEND;TZID=Europe/Lisbon:20280921T093000
DTSTAMP:20260426T010602
CREATED:20250708T135555Z
LAST-MODIFIED:20260306T202632Z
UID:10032025-1853137800-1853141400@www.collectivefitness.pt
SUMMARY:TCF Daily
DESCRIPTION:TCF Daily-Our signature functional fitness class. A comprehensive 60 minutes session incorporating either a strength-building or skill-focused segment\, alongside a heart-pumping metabolic conditioning portion. \nTRY THIS CLASS NOW
URL:https://www.collectivefitness.pt/event/tcf-daily-38/2028-09-21/
LOCATION:The Collective Fitness\, R. Prof. Sousa da Câmara 128 Loja C\, Lisboa\, Lisboa\, 1070-217\, Portugal
CATEGORIES:TCF Daily
END:VEVENT
BEGIN:VEVENT
DTSTART;TZID=Europe/Lisbon:20280921T123000
DTEND;TZID=Europe/Lisbon:20280921T133000
DTSTAMP:20260426T010602
CREATED:20250708T135701Z
LAST-MODIFIED:20250708T203910Z
UID:10016959-1853152200-1853155800@www.collectivefitness.pt
SUMMARY:TCF Daily
DESCRIPTION:TCF Daily-Our signature functional fitness class. A comprehensive 60 minutes session incorporating either a strength-building or skill-focused segment\, alongside a heart-pumping metabolic conditioning portion. \nTRY THIS CLASS NOW
URL:https://www.collectivefitness.pt/event/tcf-daily-23/2028-09-21/
LOCATION:The Collective Fitness\, R. Prof. Sousa da Câmara 128 Loja C\, Lisboa\, Lisboa\, 1070-217\, Portugal
CATEGORIES:TCF Daily
END:VEVENT
BEGIN:VEVENT
DTSTART;TZID=Europe/Lisbon:20280921T133000
DTEND;TZID=Europe/Lisbon:20280921T143000
DTSTAMP:20260426T010602
CREATED:20250708T135817Z
LAST-MODIFIED:20250708T203831Z
UID:10017483-1853155800-1853159400@www.collectivefitness.pt
SUMMARY:TCF Daily
DESCRIPTION:TCF Daily-Our signature functional fitness class. A comprehensive 60 minutes session incorporating either a strength-building or skill-focused segment\, alongside a heart-pumping metabolic conditioning portion. \nTRY THIS CLASS NOW
URL:https://www.collectivefitness.pt/event/tcf-daily-24/2028-09-21/
LOCATION:The Collective Fitness\, R. Prof. Sousa da Câmara 128 Loja C\, Lisboa\, Lisboa\, 1070-217\, Portugal
CATEGORIES:TCF Daily
END:VEVENT
BEGIN:VEVENT
DTSTART;TZID=Europe/Lisbon:20280926T063000
DTEND;TZID=Europe/Lisbon:20280926T073000
DTSTAMP:20260426T010602
CREATED:20250708T131905Z
LAST-MODIFIED:20250708T205847Z
UID:10005423-1853562600-1853566200@www.collectivefitness.pt
SUMMARY:TCF Daily
DESCRIPTION:TCF Daily-Our signature functional fitness class. A comprehensive 60 minutes session incorporating either a strength-building or skill-focused segment\, alongside a heart-pumping metabolic conditioning portion. \nTRY THIS CLASS NOW
URL:https://www.collectivefitness.pt/event/tcf-daily-7/2028-09-26/
LOCATION:The Collective Fitness\, R. Prof. Sousa da Câmara 128 Loja C\, Lisboa\, Lisboa\, 1070-217\, Portugal
CATEGORIES:TCF Daily
END:VEVENT
BEGIN:VEVENT
DTSTART;TZID=Europe/Lisbon:20280926T073000
DTEND;TZID=Europe/Lisbon:20280926T083000
DTSTAMP:20260426T010602
CREATED:20250708T132054Z
LAST-MODIFIED:20250708T205813Z
UID:10005948-1853566200-1853569800@www.collectivefitness.pt
SUMMARY:TCF Daily
DESCRIPTION:TCF Daily-Our signature functional fitness class. A comprehensive 60 minutes session incorporating either a strength-building or skill-focused segment\, alongside a heart-pumping metabolic conditioning portion. \nTRY THIS CLASS NOW
URL:https://www.collectivefitness.pt/event/tcf-daily-8/2028-09-26/
CATEGORIES:TCF Daily
END:VEVENT
BEGIN:VEVENT
DTSTART;TZID=Europe/Lisbon:20280926T123000
DTEND;TZID=Europe/Lisbon:20280926T133000
DTSTAMP:20260426T010602
CREATED:20250708T132833Z
LAST-MODIFIED:20250708T205738Z
UID:10006997-1853584200-1853587800@www.collectivefitness.pt
SUMMARY:TCF Daily
DESCRIPTION:TCF Daily-Our signature functional fitness class. A comprehensive 60 minutes session incorporating either a strength-building or skill-focused segment\, alongside a heart-pumping metabolic conditioning portion. \nTRY THIS CLASS NOW
URL:https://www.collectivefitness.pt/event/tcf-daily-9-2/2028-09-26/
LOCATION:The Collective Fitness\, R. Prof. Sousa da Câmara 128 Loja C\, Lisboa\, Lisboa\, 1070-217\, Portugal
CATEGORIES:TCF Daily
END:VEVENT
BEGIN:VEVENT
DTSTART;TZID=Europe/Lisbon:20280926T133000
DTEND;TZID=Europe/Lisbon:20280926T143000
DTSTAMP:20260426T010602
CREATED:20250708T132933Z
LAST-MODIFIED:20250708T205658Z
UID:10007522-1853587800-1853591400@www.collectivefitness.pt
SUMMARY:TCF Daily
DESCRIPTION:TCF Daily-Our signature functional fitness class. A comprehensive 60 minutes session incorporating either a strength-building or skill-focused segment\, alongside a heart-pumping metabolic conditioning portion. \nTRY THIS CLASS NOW
URL:https://www.collectivefitness.pt/event/tcf-daily-10/2028-09-26/
LOCATION:The Collective Fitness\, R. Prof. Sousa da Câmara 128 Loja C\, Lisboa\, Lisboa\, 1070-217\, Portugal
CATEGORIES:TCF Daily
END:VEVENT
BEGIN:VEVENT
DTSTART;TZID=Europe/Lisbon:20280927T173000
DTEND;TZID=Europe/Lisbon:20280927T183000
DTSTAMP:20260426T010602
CREATED:20250708T135130Z
LAST-MODIFIED:20250708T205125Z
UID:10013816-1853688600-1853692200@www.collectivefitness.pt
SUMMARY:TCF Daily
DESCRIPTION:TCF Daily-Our signature functional fitness class. A comprehensive 60 minutes session incorporating either a strength-building or skill-focused segment\, alongside a heart-pumping metabolic conditioning portion. \nTRY THIS CLASS NOW
URL:https://www.collectivefitness.pt/event/tcf-daily-18/2028-09-27/
LOCATION:The Collective Fitness\, R. Prof. Sousa da Câmara 128 Loja C\, Lisboa\, Lisboa\, 1070-217\, Portugal
CATEGORIES:TCF Daily
END:VEVENT
BEGIN:VEVENT
DTSTART;TZID=Europe/Lisbon:20280927T183000
DTEND;TZID=Europe/Lisbon:20280927T193000
DTSTAMP:20260426T010602
CREATED:20250708T135206Z
LAST-MODIFIED:20250708T205045Z
UID:10014340-1853692200-1853695800@www.collectivefitness.pt
SUMMARY:TCF Daily
DESCRIPTION:TCF Daily-Our signature functional fitness class. A comprehensive 60 minutes session incorporating either a strength-building or skill-focused segment\, alongside a heart-pumping metabolic conditioning portion. \nTRY THIS CLASS NOW
URL:https://www.collectivefitness.pt/event/tcf-daily-19/2028-09-27/
LOCATION:The Collective Fitness\, R. Prof. Sousa da Câmara 128 Loja C\, Lisboa\, Lisboa\, 1070-217\, Portugal
CATEGORIES:TCF Daily
END:VEVENT
END:VCALENDAR