BEGIN:VCALENDAR
VERSION:2.0
PRODID:-//The collective fitness - ECPv6.15.16//NONSGML v1.0//EN
CALSCALE:GREGORIAN
METHOD:PUBLISH
X-WR-CALNAME:The collective fitness
X-ORIGINAL-URL:https://www.collectivefitness.pt
X-WR-CALDESC:Events for The collective fitness
REFRESH-INTERVAL;VALUE=DURATION:PT1H
X-Robots-Tag:noindex
X-PUBLISHED-TTL:PT1H
BEGIN:VTIMEZONE
TZID:Europe/Lisbon
BEGIN:DAYLIGHT
TZOFFSETFROM:+0000
TZOFFSETTO:+0100
TZNAME:WEST
DTSTART:20280326T010000
END:DAYLIGHT
BEGIN:STANDARD
TZOFFSETFROM:+0100
TZOFFSETTO:+0000
TZNAME:WET
DTSTART:20281029T010000
END:STANDARD
BEGIN:DAYLIGHT
TZOFFSETFROM:+0000
TZOFFSETTO:+0100
TZNAME:WEST
DTSTART:20290325T010000
END:DAYLIGHT
BEGIN:STANDARD
TZOFFSETFROM:+0100
TZOFFSETTO:+0000
TZNAME:WET
DTSTART:20291028T010000
END:STANDARD
BEGIN:DAYLIGHT
TZOFFSETFROM:+0000
TZOFFSETTO:+0100
TZNAME:WEST
DTSTART:20300331T010000
END:DAYLIGHT
BEGIN:STANDARD
TZOFFSETFROM:+0100
TZOFFSETTO:+0000
TZNAME:WET
DTSTART:20301027T010000
END:STANDARD
END:VTIMEZONE
BEGIN:VEVENT
DTSTART;TZID=Europe/Lisbon:20291002T063000
DTEND;TZID=Europe/Lisbon:20291002T073000
DTSTAMP:20260420T105452
CREATED:20250708T131905Z
LAST-MODIFIED:20250708T205847Z
UID:10005476-1885617000-1885620600@www.collectivefitness.pt
SUMMARY:TCF Daily
DESCRIPTION:TCF Daily-Our signature functional fitness class. A comprehensive 60 minutes session incorporating either a strength-building or skill-focused segment\, alongside a heart-pumping metabolic conditioning portion. \nTRY THIS CLASS NOW
URL:https://www.collectivefitness.pt/event/tcf-daily-7/2029-10-02/
LOCATION:The Collective Fitness\, R. Prof. Sousa da Câmara 128 Loja C\, Lisboa\, Lisboa\, 1070-217\, Portugal
CATEGORIES:TCF Daily
END:VEVENT
BEGIN:VEVENT
DTSTART;TZID=Europe/Lisbon:20291002T073000
DTEND;TZID=Europe/Lisbon:20291002T083000
DTSTAMP:20260420T105452
CREATED:20250708T132054Z
LAST-MODIFIED:20250708T205813Z
UID:10006001-1885620600-1885624200@www.collectivefitness.pt
SUMMARY:TCF Daily
DESCRIPTION:TCF Daily-Our signature functional fitness class. A comprehensive 60 minutes session incorporating either a strength-building or skill-focused segment\, alongside a heart-pumping metabolic conditioning portion. \nTRY THIS CLASS NOW
URL:https://www.collectivefitness.pt/event/tcf-daily-8/2029-10-02/
LOCATION:Lisboa
CATEGORIES:TCF Daily
END:VEVENT
BEGIN:VEVENT
DTSTART;TZID=Europe/Lisbon:20291002T084500
DTEND;TZID=Europe/Lisbon:20291002T123000
DTSTAMP:20260420T105452
CREATED:20250708T132212Z
LAST-MODIFIED:20250708T211822Z
UID:10006526-1885625100-1885638600@www.collectivefitness.pt
SUMMARY:Open Gym
DESCRIPTION:TRY IT NOW
URL:https://www.collectivefitness.pt/event/open-gym/2029-10-02/
LOCATION:The Collective Fitness\, R. Prof. Sousa da Câmara 128 Loja C\, Lisboa\, Lisboa\, 1070-217\, Portugal
CATEGORIES:Open Gym
END:VEVENT
BEGIN:VEVENT
DTSTART;TZID=Europe/Lisbon:20291002T123000
DTEND;TZID=Europe/Lisbon:20291002T133000
DTSTAMP:20260420T105452
CREATED:20250708T132833Z
LAST-MODIFIED:20250708T205738Z
UID:10007050-1885638600-1885642200@www.collectivefitness.pt
SUMMARY:TCF Daily
DESCRIPTION:TCF Daily-Our signature functional fitness class. A comprehensive 60 minutes session incorporating either a strength-building or skill-focused segment\, alongside a heart-pumping metabolic conditioning portion. \nTRY THIS CLASS NOW
URL:https://www.collectivefitness.pt/event/tcf-daily-9-2/2029-10-02/
LOCATION:The Collective Fitness\, R. Prof. Sousa da Câmara 128 Loja C\, Lisboa\, Lisboa\, 1070-217\, Portugal
CATEGORIES:TCF Daily
END:VEVENT
BEGIN:VEVENT
DTSTART;TZID=Europe/Lisbon:20291002T133000
DTEND;TZID=Europe/Lisbon:20291002T143000
DTSTAMP:20260420T105452
CREATED:20250708T132933Z
LAST-MODIFIED:20250708T205658Z
UID:10007575-1885642200-1885645800@www.collectivefitness.pt
SUMMARY:TCF Daily
DESCRIPTION:TCF Daily-Our signature functional fitness class. A comprehensive 60 minutes session incorporating either a strength-building or skill-focused segment\, alongside a heart-pumping metabolic conditioning portion. \nTRY THIS CLASS NOW
URL:https://www.collectivefitness.pt/event/tcf-daily-10/2029-10-02/
LOCATION:The Collective Fitness\, R. Prof. Sousa da Câmara 128 Loja C\, Lisboa\, Lisboa\, 1070-217\, Portugal
CATEGORIES:TCF Daily
END:VEVENT
BEGIN:VEVENT
DTSTART;TZID=Europe/Lisbon:20291002T143000
DTEND;TZID=Europe/Lisbon:20291002T173000
DTSTAMP:20260420T105452
CREATED:20250708T133029Z
LAST-MODIFIED:20250708T211747Z
UID:10008100-1885645800-1885656600@www.collectivefitness.pt
SUMMARY:Open Gym
DESCRIPTION:TRY IT NOW
URL:https://www.collectivefitness.pt/event/open-gym-4/2029-10-02/
LOCATION:The Collective Fitness\, R. Prof. Sousa da Câmara 128 Loja C\, Lisboa\, Lisboa\, 1070-217\, Portugal
CATEGORIES:Open Gym
END:VEVENT
BEGIN:VEVENT
DTSTART;TZID=Europe/Lisbon:20291002T173000
DTEND;TZID=Europe/Lisbon:20291002T183000
DTSTAMP:20260420T105452
CREATED:20250708T133147Z
LAST-MODIFIED:20250708T205608Z
UID:10008625-1885656600-1885660200@www.collectivefitness.pt
SUMMARY:TCF Daily
DESCRIPTION:TCF Daily-Our signature functional fitness class. A comprehensive 60 minutes session incorporating either a strength-building or skill-focused segment\, alongside a heart-pumping metabolic conditioning portion. \nTRY THIS CLASS NOW
URL:https://www.collectivefitness.pt/event/tcf-daily-11/2029-10-02/
LOCATION:The Collective Fitness\, R. Prof. Sousa da Câmara 128 Loja C\, Lisboa\, Lisboa\, 1070-217\, Portugal
CATEGORIES:TCF Daily
END:VEVENT
BEGIN:VEVENT
DTSTART;TZID=Europe/Lisbon:20291002T183000
DTEND;TZID=Europe/Lisbon:20291002T193000
DTSTAMP:20260420T105452
CREATED:20250708T133235Z
LAST-MODIFIED:20250708T205527Z
UID:10009150-1885660200-1885663800@www.collectivefitness.pt
SUMMARY:TCF Daily
DESCRIPTION:TCF Daily-Our signature functional fitness class. A comprehensive 60 minutes session incorporating either a strength-building or skill-focused segment\, alongside a heart-pumping metabolic conditioning portion. \nTRY THIS CLASS NOW
URL:https://www.collectivefitness.pt/event/tcf-daily-12/2029-10-02/
LOCATION:The Collective Fitness\, R. Prof. Sousa da Câmara 128 Loja C\, Lisboa\, Lisboa\, 1070-217\, Portugal
CATEGORIES:TCF Daily
END:VEVENT
BEGIN:VEVENT
DTSTART;TZID=Europe/Lisbon:20291002T193000
DTEND;TZID=Europe/Lisbon:20291002T203000
DTSTAMP:20260420T105452
CREATED:20250708T133330Z
LAST-MODIFIED:20250708T205448Z
UID:10009675-1885663800-1885667400@www.collectivefitness.pt
SUMMARY:TCF Daily
DESCRIPTION:TCF Daily-Our signature functional fitness class. A comprehensive 60 minutes session incorporating either a strength-building or skill-focused segment\, alongside a heart-pumping metabolic conditioning portion. \nTRY THIS CLASS NOW
URL:https://www.collectivefitness.pt/event/tcf-daily-13/2029-10-02/
LOCATION:The Collective Fitness\, R. Prof. Sousa da Câmara 128 Loja C\, Lisboa\, Lisboa\, 1070-217\, Portugal
CATEGORIES:TCF Daily
END:VEVENT
BEGIN:VEVENT
DTSTART;TZID=Europe/Lisbon:20291009T063000
DTEND;TZID=Europe/Lisbon:20291009T073000
DTSTAMP:20260420T105452
CREATED:20250708T131905Z
LAST-MODIFIED:20250708T205847Z
UID:10005477-1886221800-1886225400@www.collectivefitness.pt
SUMMARY:TCF Daily
DESCRIPTION:TCF Daily-Our signature functional fitness class. A comprehensive 60 minutes session incorporating either a strength-building or skill-focused segment\, alongside a heart-pumping metabolic conditioning portion. \nTRY THIS CLASS NOW
URL:https://www.collectivefitness.pt/event/tcf-daily-7/2029-10-09/
LOCATION:The Collective Fitness\, R. Prof. Sousa da Câmara 128 Loja C\, Lisboa\, Lisboa\, 1070-217\, Portugal
CATEGORIES:TCF Daily
END:VEVENT
BEGIN:VEVENT
DTSTART;TZID=Europe/Lisbon:20291009T073000
DTEND;TZID=Europe/Lisbon:20291009T083000
DTSTAMP:20260420T105452
CREATED:20250708T132054Z
LAST-MODIFIED:20250708T205813Z
UID:10006002-1886225400-1886229000@www.collectivefitness.pt
SUMMARY:TCF Daily
DESCRIPTION:TCF Daily-Our signature functional fitness class. A comprehensive 60 minutes session incorporating either a strength-building or skill-focused segment\, alongside a heart-pumping metabolic conditioning portion. \nTRY THIS CLASS NOW
URL:https://www.collectivefitness.pt/event/tcf-daily-8/2029-10-09/
LOCATION:Lisboa
CATEGORIES:TCF Daily
END:VEVENT
BEGIN:VEVENT
DTSTART;TZID=Europe/Lisbon:20291009T084500
DTEND;TZID=Europe/Lisbon:20291009T123000
DTSTAMP:20260420T105452
CREATED:20250708T132212Z
LAST-MODIFIED:20250708T211822Z
UID:10006527-1886229900-1886243400@www.collectivefitness.pt
SUMMARY:Open Gym
DESCRIPTION:TRY IT NOW
URL:https://www.collectivefitness.pt/event/open-gym/2029-10-09/
LOCATION:The Collective Fitness\, R. Prof. Sousa da Câmara 128 Loja C\, Lisboa\, Lisboa\, 1070-217\, Portugal
CATEGORIES:Open Gym
END:VEVENT
BEGIN:VEVENT
DTSTART;TZID=Europe/Lisbon:20291009T123000
DTEND;TZID=Europe/Lisbon:20291009T133000
DTSTAMP:20260420T105452
CREATED:20250708T132833Z
LAST-MODIFIED:20250708T205738Z
UID:10007051-1886243400-1886247000@www.collectivefitness.pt
SUMMARY:TCF Daily
DESCRIPTION:TCF Daily-Our signature functional fitness class. A comprehensive 60 minutes session incorporating either a strength-building or skill-focused segment\, alongside a heart-pumping metabolic conditioning portion. \nTRY THIS CLASS NOW
URL:https://www.collectivefitness.pt/event/tcf-daily-9-2/2029-10-09/
LOCATION:The Collective Fitness\, R. Prof. Sousa da Câmara 128 Loja C\, Lisboa\, Lisboa\, 1070-217\, Portugal
CATEGORIES:TCF Daily
END:VEVENT
BEGIN:VEVENT
DTSTART;TZID=Europe/Lisbon:20291009T133000
DTEND;TZID=Europe/Lisbon:20291009T143000
DTSTAMP:20260420T105452
CREATED:20250708T132933Z
LAST-MODIFIED:20250708T205658Z
UID:10007576-1886247000-1886250600@www.collectivefitness.pt
SUMMARY:TCF Daily
DESCRIPTION:TCF Daily-Our signature functional fitness class. A comprehensive 60 minutes session incorporating either a strength-building or skill-focused segment\, alongside a heart-pumping metabolic conditioning portion. \nTRY THIS CLASS NOW
URL:https://www.collectivefitness.pt/event/tcf-daily-10/2029-10-09/
LOCATION:The Collective Fitness\, R. Prof. Sousa da Câmara 128 Loja C\, Lisboa\, Lisboa\, 1070-217\, Portugal
CATEGORIES:TCF Daily
END:VEVENT
BEGIN:VEVENT
DTSTART;TZID=Europe/Lisbon:20291009T143000
DTEND;TZID=Europe/Lisbon:20291009T173000
DTSTAMP:20260420T105452
CREATED:20250708T133029Z
LAST-MODIFIED:20250708T211747Z
UID:10008101-1886250600-1886261400@www.collectivefitness.pt
SUMMARY:Open Gym
DESCRIPTION:TRY IT NOW
URL:https://www.collectivefitness.pt/event/open-gym-4/2029-10-09/
LOCATION:The Collective Fitness\, R. Prof. Sousa da Câmara 128 Loja C\, Lisboa\, Lisboa\, 1070-217\, Portugal
CATEGORIES:Open Gym
END:VEVENT
BEGIN:VEVENT
DTSTART;TZID=Europe/Lisbon:20291009T173000
DTEND;TZID=Europe/Lisbon:20291009T183000
DTSTAMP:20260420T105452
CREATED:20250708T133147Z
LAST-MODIFIED:20250708T205608Z
UID:10008626-1886261400-1886265000@www.collectivefitness.pt
SUMMARY:TCF Daily
DESCRIPTION:TCF Daily-Our signature functional fitness class. A comprehensive 60 minutes session incorporating either a strength-building or skill-focused segment\, alongside a heart-pumping metabolic conditioning portion. \nTRY THIS CLASS NOW
URL:https://www.collectivefitness.pt/event/tcf-daily-11/2029-10-09/
LOCATION:The Collective Fitness\, R. Prof. Sousa da Câmara 128 Loja C\, Lisboa\, Lisboa\, 1070-217\, Portugal
CATEGORIES:TCF Daily
END:VEVENT
BEGIN:VEVENT
DTSTART;TZID=Europe/Lisbon:20291009T183000
DTEND;TZID=Europe/Lisbon:20291009T193000
DTSTAMP:20260420T105452
CREATED:20250708T133235Z
LAST-MODIFIED:20250708T205527Z
UID:10009151-1886265000-1886268600@www.collectivefitness.pt
SUMMARY:TCF Daily
DESCRIPTION:TCF Daily-Our signature functional fitness class. A comprehensive 60 minutes session incorporating either a strength-building or skill-focused segment\, alongside a heart-pumping metabolic conditioning portion. \nTRY THIS CLASS NOW
URL:https://www.collectivefitness.pt/event/tcf-daily-12/2029-10-09/
LOCATION:The Collective Fitness\, R. Prof. Sousa da Câmara 128 Loja C\, Lisboa\, Lisboa\, 1070-217\, Portugal
CATEGORIES:TCF Daily
END:VEVENT
BEGIN:VEVENT
DTSTART;TZID=Europe/Lisbon:20291009T193000
DTEND;TZID=Europe/Lisbon:20291009T203000
DTSTAMP:20260420T105452
CREATED:20250708T133330Z
LAST-MODIFIED:20250708T205448Z
UID:10009676-1886268600-1886272200@www.collectivefitness.pt
SUMMARY:TCF Daily
DESCRIPTION:TCF Daily-Our signature functional fitness class. A comprehensive 60 minutes session incorporating either a strength-building or skill-focused segment\, alongside a heart-pumping metabolic conditioning portion. \nTRY THIS CLASS NOW
URL:https://www.collectivefitness.pt/event/tcf-daily-13/2029-10-09/
LOCATION:The Collective Fitness\, R. Prof. Sousa da Câmara 128 Loja C\, Lisboa\, Lisboa\, 1070-217\, Portugal
CATEGORIES:TCF Daily
END:VEVENT
BEGIN:VEVENT
DTSTART;TZID=Europe/Lisbon:20291016T063000
DTEND;TZID=Europe/Lisbon:20291016T073000
DTSTAMP:20260420T105452
CREATED:20250708T131905Z
LAST-MODIFIED:20250708T205847Z
UID:10005478-1886826600-1886830200@www.collectivefitness.pt
SUMMARY:TCF Daily
DESCRIPTION:TCF Daily-Our signature functional fitness class. A comprehensive 60 minutes session incorporating either a strength-building or skill-focused segment\, alongside a heart-pumping metabolic conditioning portion. \nTRY THIS CLASS NOW
URL:https://www.collectivefitness.pt/event/tcf-daily-7/2029-10-16/
LOCATION:The Collective Fitness\, R. Prof. Sousa da Câmara 128 Loja C\, Lisboa\, Lisboa\, 1070-217\, Portugal
CATEGORIES:TCF Daily
END:VEVENT
BEGIN:VEVENT
DTSTART;TZID=Europe/Lisbon:20291016T073000
DTEND;TZID=Europe/Lisbon:20291016T083000
DTSTAMP:20260420T105452
CREATED:20250708T132054Z
LAST-MODIFIED:20250708T205813Z
UID:10006003-1886830200-1886833800@www.collectivefitness.pt
SUMMARY:TCF Daily
DESCRIPTION:TCF Daily-Our signature functional fitness class. A comprehensive 60 minutes session incorporating either a strength-building or skill-focused segment\, alongside a heart-pumping metabolic conditioning portion. \nTRY THIS CLASS NOW
URL:https://www.collectivefitness.pt/event/tcf-daily-8/2029-10-16/
LOCATION:Lisboa
CATEGORIES:TCF Daily
END:VEVENT
BEGIN:VEVENT
DTSTART;TZID=Europe/Lisbon:20291016T084500
DTEND;TZID=Europe/Lisbon:20291016T123000
DTSTAMP:20260420T105452
CREATED:20250708T132212Z
LAST-MODIFIED:20250708T211822Z
UID:10006528-1886834700-1886848200@www.collectivefitness.pt
SUMMARY:Open Gym
DESCRIPTION:TRY IT NOW
URL:https://www.collectivefitness.pt/event/open-gym/2029-10-16/
LOCATION:The Collective Fitness\, R. Prof. Sousa da Câmara 128 Loja C\, Lisboa\, Lisboa\, 1070-217\, Portugal
CATEGORIES:Open Gym
END:VEVENT
BEGIN:VEVENT
DTSTART;TZID=Europe/Lisbon:20291016T123000
DTEND;TZID=Europe/Lisbon:20291016T133000
DTSTAMP:20260420T105452
CREATED:20250708T132833Z
LAST-MODIFIED:20250708T205738Z
UID:10007052-1886848200-1886851800@www.collectivefitness.pt
SUMMARY:TCF Daily
DESCRIPTION:TCF Daily-Our signature functional fitness class. A comprehensive 60 minutes session incorporating either a strength-building or skill-focused segment\, alongside a heart-pumping metabolic conditioning portion. \nTRY THIS CLASS NOW
URL:https://www.collectivefitness.pt/event/tcf-daily-9-2/2029-10-16/
LOCATION:The Collective Fitness\, R. Prof. Sousa da Câmara 128 Loja C\, Lisboa\, Lisboa\, 1070-217\, Portugal
CATEGORIES:TCF Daily
END:VEVENT
BEGIN:VEVENT
DTSTART;TZID=Europe/Lisbon:20291016T133000
DTEND;TZID=Europe/Lisbon:20291016T143000
DTSTAMP:20260420T105452
CREATED:20250708T132933Z
LAST-MODIFIED:20250708T205658Z
UID:10007577-1886851800-1886855400@www.collectivefitness.pt
SUMMARY:TCF Daily
DESCRIPTION:TCF Daily-Our signature functional fitness class. A comprehensive 60 minutes session incorporating either a strength-building or skill-focused segment\, alongside a heart-pumping metabolic conditioning portion. \nTRY THIS CLASS NOW
URL:https://www.collectivefitness.pt/event/tcf-daily-10/2029-10-16/
LOCATION:The Collective Fitness\, R. Prof. Sousa da Câmara 128 Loja C\, Lisboa\, Lisboa\, 1070-217\, Portugal
CATEGORIES:TCF Daily
END:VEVENT
BEGIN:VEVENT
DTSTART;TZID=Europe/Lisbon:20291016T143000
DTEND;TZID=Europe/Lisbon:20291016T173000
DTSTAMP:20260420T105452
CREATED:20250708T133029Z
LAST-MODIFIED:20250708T211747Z
UID:10008102-1886855400-1886866200@www.collectivefitness.pt
SUMMARY:Open Gym
DESCRIPTION:TRY IT NOW
URL:https://www.collectivefitness.pt/event/open-gym-4/2029-10-16/
LOCATION:The Collective Fitness\, R. Prof. Sousa da Câmara 128 Loja C\, Lisboa\, Lisboa\, 1070-217\, Portugal
CATEGORIES:Open Gym
END:VEVENT
BEGIN:VEVENT
DTSTART;TZID=Europe/Lisbon:20291016T173000
DTEND;TZID=Europe/Lisbon:20291016T183000
DTSTAMP:20260420T105452
CREATED:20250708T133147Z
LAST-MODIFIED:20250708T205608Z
UID:10008627-1886866200-1886869800@www.collectivefitness.pt
SUMMARY:TCF Daily
DESCRIPTION:TCF Daily-Our signature functional fitness class. A comprehensive 60 minutes session incorporating either a strength-building or skill-focused segment\, alongside a heart-pumping metabolic conditioning portion. \nTRY THIS CLASS NOW
URL:https://www.collectivefitness.pt/event/tcf-daily-11/2029-10-16/
LOCATION:The Collective Fitness\, R. Prof. Sousa da Câmara 128 Loja C\, Lisboa\, Lisboa\, 1070-217\, Portugal
CATEGORIES:TCF Daily
END:VEVENT
BEGIN:VEVENT
DTSTART;TZID=Europe/Lisbon:20291016T183000
DTEND;TZID=Europe/Lisbon:20291016T193000
DTSTAMP:20260420T105452
CREATED:20250708T133235Z
LAST-MODIFIED:20250708T205527Z
UID:10009152-1886869800-1886873400@www.collectivefitness.pt
SUMMARY:TCF Daily
DESCRIPTION:TCF Daily-Our signature functional fitness class. A comprehensive 60 minutes session incorporating either a strength-building or skill-focused segment\, alongside a heart-pumping metabolic conditioning portion. \nTRY THIS CLASS NOW
URL:https://www.collectivefitness.pt/event/tcf-daily-12/2029-10-16/
LOCATION:The Collective Fitness\, R. Prof. Sousa da Câmara 128 Loja C\, Lisboa\, Lisboa\, 1070-217\, Portugal
CATEGORIES:TCF Daily
END:VEVENT
BEGIN:VEVENT
DTSTART;TZID=Europe/Lisbon:20291016T193000
DTEND;TZID=Europe/Lisbon:20291016T203000
DTSTAMP:20260420T105452
CREATED:20250708T133330Z
LAST-MODIFIED:20250708T205448Z
UID:10009677-1886873400-1886877000@www.collectivefitness.pt
SUMMARY:TCF Daily
DESCRIPTION:TCF Daily-Our signature functional fitness class. A comprehensive 60 minutes session incorporating either a strength-building or skill-focused segment\, alongside a heart-pumping metabolic conditioning portion. \nTRY THIS CLASS NOW
URL:https://www.collectivefitness.pt/event/tcf-daily-13/2029-10-16/
LOCATION:The Collective Fitness\, R. Prof. Sousa da Câmara 128 Loja C\, Lisboa\, Lisboa\, 1070-217\, Portugal
CATEGORIES:TCF Daily
END:VEVENT
BEGIN:VEVENT
DTSTART;TZID=Europe/Lisbon:20291023T063000
DTEND;TZID=Europe/Lisbon:20291023T073000
DTSTAMP:20260420T105452
CREATED:20250708T131905Z
LAST-MODIFIED:20250708T205847Z
UID:10005479-1887431400-1887435000@www.collectivefitness.pt
SUMMARY:TCF Daily
DESCRIPTION:TCF Daily-Our signature functional fitness class. A comprehensive 60 minutes session incorporating either a strength-building or skill-focused segment\, alongside a heart-pumping metabolic conditioning portion. \nTRY THIS CLASS NOW
URL:https://www.collectivefitness.pt/event/tcf-daily-7/2029-10-23/
LOCATION:The Collective Fitness\, R. Prof. Sousa da Câmara 128 Loja C\, Lisboa\, Lisboa\, 1070-217\, Portugal
CATEGORIES:TCF Daily
END:VEVENT
BEGIN:VEVENT
DTSTART;TZID=Europe/Lisbon:20291023T073000
DTEND;TZID=Europe/Lisbon:20291023T083000
DTSTAMP:20260420T105452
CREATED:20250708T132054Z
LAST-MODIFIED:20250708T205813Z
UID:10006004-1887435000-1887438600@www.collectivefitness.pt
SUMMARY:TCF Daily
DESCRIPTION:TCF Daily-Our signature functional fitness class. A comprehensive 60 minutes session incorporating either a strength-building or skill-focused segment\, alongside a heart-pumping metabolic conditioning portion. \nTRY THIS CLASS NOW
URL:https://www.collectivefitness.pt/event/tcf-daily-8/2029-10-23/
LOCATION:Lisboa
CATEGORIES:TCF Daily
END:VEVENT
BEGIN:VEVENT
DTSTART;TZID=Europe/Lisbon:20291023T084500
DTEND;TZID=Europe/Lisbon:20291023T123000
DTSTAMP:20260420T105452
CREATED:20250708T132212Z
LAST-MODIFIED:20250708T211822Z
UID:10006529-1887439500-1887453000@www.collectivefitness.pt
SUMMARY:Open Gym
DESCRIPTION:TRY IT NOW
URL:https://www.collectivefitness.pt/event/open-gym/2029-10-23/
LOCATION:The Collective Fitness\, R. Prof. Sousa da Câmara 128 Loja C\, Lisboa\, Lisboa\, 1070-217\, Portugal
CATEGORIES:Open Gym
END:VEVENT
END:VCALENDAR