BEGIN:VCALENDAR
VERSION:2.0
PRODID:-//The collective fitness - ECPv6.15.16//NONSGML v1.0//EN
CALSCALE:GREGORIAN
METHOD:PUBLISH
X-WR-CALNAME:The collective fitness
X-ORIGINAL-URL:https://www.collectivefitness.pt
X-WR-CALDESC:Events for The collective fitness
REFRESH-INTERVAL;VALUE=DURATION:PT1H
X-Robots-Tag:noindex
X-PUBLISHED-TTL:PT1H
BEGIN:VTIMEZONE
TZID:Europe/Lisbon
BEGIN:DAYLIGHT
TZOFFSETFROM:+0000
TZOFFSETTO:+0100
TZNAME:WEST
DTSTART:20270328T010000
END:DAYLIGHT
BEGIN:STANDARD
TZOFFSETFROM:+0100
TZOFFSETTO:+0000
TZNAME:WET
DTSTART:20271031T010000
END:STANDARD
BEGIN:DAYLIGHT
TZOFFSETFROM:+0000
TZOFFSETTO:+0100
TZNAME:WEST
DTSTART:20280326T010000
END:DAYLIGHT
BEGIN:STANDARD
TZOFFSETFROM:+0100
TZOFFSETTO:+0000
TZNAME:WET
DTSTART:20281029T010000
END:STANDARD
BEGIN:DAYLIGHT
TZOFFSETFROM:+0000
TZOFFSETTO:+0100
TZNAME:WEST
DTSTART:20290325T010000
END:DAYLIGHT
BEGIN:STANDARD
TZOFFSETFROM:+0100
TZOFFSETTO:+0000
TZNAME:WET
DTSTART:20291028T010000
END:STANDARD
END:VTIMEZONE
BEGIN:VEVENT
DTSTART;TZID=Europe/Lisbon:20281207T063000
DTEND;TZID=Europe/Lisbon:20281207T073000
DTSTAMP:20260420T231747
CREATED:20250708T135356Z
LAST-MODIFIED:20250708T204848Z
UID:10015398-1859783400-1859787000@www.collectivefitness.pt
SUMMARY:TCF Daily
DESCRIPTION:TCF Daily-Our signature functional fitness class. A comprehensive 60 minutes session incorporating either a strength-building or skill-focused segment\, alongside a heart-pumping metabolic conditioning portion. \nTRY THIS CLASS NOW
URL:https://www.collectivefitness.pt/event/tcf-daily-21/2028-12-07/
LOCATION:The Collective Fitness\, R. Prof. Sousa da Câmara 128 Loja C\, Lisboa\, Lisboa\, 1070-217\, Portugal
CATEGORIES:TCF Daily
END:VEVENT
BEGIN:VEVENT
DTSTART;TZID=Europe/Lisbon:20281207T073000
DTEND;TZID=Europe/Lisbon:20281207T083000
DTSTAMP:20260420T231747
CREATED:20250708T135439Z
LAST-MODIFIED:20250708T204811Z
UID:10015922-1859787000-1859790600@www.collectivefitness.pt
SUMMARY:TCF Daily
DESCRIPTION:TCF Daily-Our signature functional fitness class. A comprehensive 60 minutes session incorporating either a strength-building or skill-focused segment\, alongside a heart-pumping metabolic conditioning portion. \nTRY THIS CLASS NOW
URL:https://www.collectivefitness.pt/event/tcf-daily-22/2028-12-07/
LOCATION:Lisboa
CATEGORIES:TCF Daily
END:VEVENT
BEGIN:VEVENT
DTSTART;TZID=Europe/Lisbon:20281207T083000
DTEND;TZID=Europe/Lisbon:20281207T093000
DTSTAMP:20260420T231747
CREATED:20250708T135555Z
LAST-MODIFIED:20260306T202632Z
UID:10032036-1859790600-1859794200@www.collectivefitness.pt
SUMMARY:TCF Daily
DESCRIPTION:TCF Daily-Our signature functional fitness class. A comprehensive 60 minutes session incorporating either a strength-building or skill-focused segment\, alongside a heart-pumping metabolic conditioning portion. \nTRY THIS CLASS NOW
URL:https://www.collectivefitness.pt/event/tcf-daily-38/2028-12-07/
LOCATION:The Collective Fitness\, R. Prof. Sousa da Câmara 128 Loja C\, Lisboa\, Lisboa\, 1070-217\, Portugal
CATEGORIES:TCF Daily
END:VEVENT
BEGIN:VEVENT
DTSTART;TZID=Europe/Lisbon:20281207T093000
DTEND;TZID=Europe/Lisbon:20281207T123000
DTSTAMP:20260420T231747
CREATED:20250708T135609Z
LAST-MODIFIED:20260306T201047Z
UID:10030554-1859794200-1859805000@www.collectivefitness.pt
SUMMARY:Open Gym
DESCRIPTION:TRY IT NOW
URL:https://www.collectivefitness.pt/event/open-gym-7/2028-12-07/
LOCATION:The Collective Fitness\, R. Prof. Sousa da Câmara 128 Loja C\, Lisboa\, Lisboa\, 1070-217\, Portugal
CATEGORIES:Open Gym
END:VEVENT
BEGIN:VEVENT
DTSTART;TZID=Europe/Lisbon:20281207T123000
DTEND;TZID=Europe/Lisbon:20281207T133000
DTSTAMP:20260420T231747
CREATED:20250708T135701Z
LAST-MODIFIED:20250708T203910Z
UID:10016970-1859805000-1859808600@www.collectivefitness.pt
SUMMARY:TCF Daily
DESCRIPTION:TCF Daily-Our signature functional fitness class. A comprehensive 60 minutes session incorporating either a strength-building or skill-focused segment\, alongside a heart-pumping metabolic conditioning portion. \nTRY THIS CLASS NOW
URL:https://www.collectivefitness.pt/event/tcf-daily-23/2028-12-07/
LOCATION:The Collective Fitness\, R. Prof. Sousa da Câmara 128 Loja C\, Lisboa\, Lisboa\, 1070-217\, Portugal
CATEGORIES:TCF Daily
END:VEVENT
BEGIN:VEVENT
DTSTART;TZID=Europe/Lisbon:20281207T133000
DTEND;TZID=Europe/Lisbon:20281207T143000
DTSTAMP:20260420T231747
CREATED:20250708T135817Z
LAST-MODIFIED:20250708T203831Z
UID:10017494-1859808600-1859812200@www.collectivefitness.pt
SUMMARY:TCF Daily
DESCRIPTION:TCF Daily-Our signature functional fitness class. A comprehensive 60 minutes session incorporating either a strength-building or skill-focused segment\, alongside a heart-pumping metabolic conditioning portion. \nTRY THIS CLASS NOW
URL:https://www.collectivefitness.pt/event/tcf-daily-24/2028-12-07/
LOCATION:The Collective Fitness\, R. Prof. Sousa da Câmara 128 Loja C\, Lisboa\, Lisboa\, 1070-217\, Portugal
CATEGORIES:TCF Daily
END:VEVENT
BEGIN:VEVENT
DTSTART;TZID=Europe/Lisbon:20281207T143000
DTEND;TZID=Europe/Lisbon:20281207T173000
DTSTAMP:20260420T231747
CREATED:20250708T135857Z
LAST-MODIFIED:20250708T211359Z
UID:10018018-1859812200-1859823000@www.collectivefitness.pt
SUMMARY:Open Gym
DESCRIPTION:TRY IT NOW
URL:https://www.collectivefitness.pt/event/open-gym-8/2028-12-07/
LOCATION:The Collective Fitness\, R. Prof. Sousa da Câmara 128 Loja C\, Lisboa\, Lisboa\, 1070-217\, Portugal
CATEGORIES:Open Gym
END:VEVENT
BEGIN:VEVENT
DTSTART;TZID=Europe/Lisbon:20281207T173000
DTEND;TZID=Europe/Lisbon:20281207T183000
DTSTAMP:20260420T231747
CREATED:20250708T140035Z
LAST-MODIFIED:20250708T140035Z
UID:10018542-1859823000-1859826600@www.collectivefitness.pt
SUMMARY:TCF Daily
DESCRIPTION:TCF Daily-Our signature functional fitness class. A comprehensive 60 minutes session incorporating either a strength-building or skill-focused segment\, alongside a heart-pumping metabolic conditioning portion.
URL:https://www.collectivefitness.pt/event/tcf-daily-25/2028-12-07/
LOCATION:The Collective Fitness\, R. Prof. Sousa da Câmara 128 Loja C\, Lisboa\, Lisboa\, 1070-217\, Portugal
CATEGORIES:TCF Daily
END:VEVENT
BEGIN:VEVENT
DTSTART;TZID=Europe/Lisbon:20281207T183000
DTEND;TZID=Europe/Lisbon:20281207T193000
DTSTAMP:20260420T231747
CREATED:20250708T173002Z
LAST-MODIFIED:20250708T203605Z
UID:10019328-1859826600-1859830200@www.collectivefitness.pt
SUMMARY:TCF Daily
DESCRIPTION:TCF Daily-Our signature functional fitness class. A comprehensive 60 minutes session incorporating either a strength-building or skill-focused segment\, alongside a heart-pumping metabolic conditioning portion. \nTRY THIS CLASS NOW
URL:https://www.collectivefitness.pt/event/tcf-daily-26/2028-12-07/
LOCATION:The Collective Fitness\, R. Prof. Sousa da Câmara 128 Loja C\, Lisboa\, Lisboa\, 1070-217\, Portugal
CATEGORIES:TCF Daily
END:VEVENT
BEGIN:VEVENT
DTSTART;TZID=Europe/Lisbon:20281207T193000
DTEND;TZID=Europe/Lisbon:20281207T203000
DTSTAMP:20260420T231747
CREATED:20250708T173100Z
LAST-MODIFIED:20250708T190902Z
UID:10019850-1859830200-1859833800@www.collectivefitness.pt
SUMMARY:TCF Daily
DESCRIPTION:TCF Daily-Our signature functional fitness class. A comprehensive 60 minutes session incorporating either a strength-building or skill-focused segment\, alongside a heart-pumping metabolic conditioning portion. \nTRY THIS CLASS NOW
URL:https://www.collectivefitness.pt/event/tcf-daily-27-2/2028-12-07/
LOCATION:The Collective Fitness\, R. Prof. Sousa da Câmara 128 Loja C\, Lisboa\, Lisboa\, 1070-217\, Portugal
CATEGORIES:TCF Daily
END:VEVENT
BEGIN:VEVENT
DTSTART;TZID=Europe/Lisbon:20281214T063000
DTEND;TZID=Europe/Lisbon:20281214T073000
DTSTAMP:20260420T231747
CREATED:20250708T135356Z
LAST-MODIFIED:20250708T204848Z
UID:10015399-1860388200-1860391800@www.collectivefitness.pt
SUMMARY:TCF Daily
DESCRIPTION:TCF Daily-Our signature functional fitness class. A comprehensive 60 minutes session incorporating either a strength-building or skill-focused segment\, alongside a heart-pumping metabolic conditioning portion. \nTRY THIS CLASS NOW
URL:https://www.collectivefitness.pt/event/tcf-daily-21/2028-12-14/
LOCATION:The Collective Fitness\, R. Prof. Sousa da Câmara 128 Loja C\, Lisboa\, Lisboa\, 1070-217\, Portugal
CATEGORIES:TCF Daily
END:VEVENT
BEGIN:VEVENT
DTSTART;TZID=Europe/Lisbon:20281214T073000
DTEND;TZID=Europe/Lisbon:20281214T083000
DTSTAMP:20260420T231747
CREATED:20250708T135439Z
LAST-MODIFIED:20250708T204811Z
UID:10015923-1860391800-1860395400@www.collectivefitness.pt
SUMMARY:TCF Daily
DESCRIPTION:TCF Daily-Our signature functional fitness class. A comprehensive 60 minutes session incorporating either a strength-building or skill-focused segment\, alongside a heart-pumping metabolic conditioning portion. \nTRY THIS CLASS NOW
URL:https://www.collectivefitness.pt/event/tcf-daily-22/2028-12-14/
LOCATION:Lisboa
CATEGORIES:TCF Daily
END:VEVENT
BEGIN:VEVENT
DTSTART;TZID=Europe/Lisbon:20281214T083000
DTEND;TZID=Europe/Lisbon:20281214T093000
DTSTAMP:20260420T231747
CREATED:20250708T135555Z
LAST-MODIFIED:20260306T202632Z
UID:10032037-1860395400-1860399000@www.collectivefitness.pt
SUMMARY:TCF Daily
DESCRIPTION:TCF Daily-Our signature functional fitness class. A comprehensive 60 minutes session incorporating either a strength-building or skill-focused segment\, alongside a heart-pumping metabolic conditioning portion. \nTRY THIS CLASS NOW
URL:https://www.collectivefitness.pt/event/tcf-daily-38/2028-12-14/
LOCATION:The Collective Fitness\, R. Prof. Sousa da Câmara 128 Loja C\, Lisboa\, Lisboa\, 1070-217\, Portugal
CATEGORIES:TCF Daily
END:VEVENT
BEGIN:VEVENT
DTSTART;TZID=Europe/Lisbon:20281214T093000
DTEND;TZID=Europe/Lisbon:20281214T123000
DTSTAMP:20260420T231747
CREATED:20250708T135609Z
LAST-MODIFIED:20260306T201047Z
UID:10030555-1860399000-1860409800@www.collectivefitness.pt
SUMMARY:Open Gym
DESCRIPTION:TRY IT NOW
URL:https://www.collectivefitness.pt/event/open-gym-7/2028-12-14/
LOCATION:The Collective Fitness\, R. Prof. Sousa da Câmara 128 Loja C\, Lisboa\, Lisboa\, 1070-217\, Portugal
CATEGORIES:Open Gym
END:VEVENT
BEGIN:VEVENT
DTSTART;TZID=Europe/Lisbon:20281214T123000
DTEND;TZID=Europe/Lisbon:20281214T133000
DTSTAMP:20260420T231747
CREATED:20250708T135701Z
LAST-MODIFIED:20250708T203910Z
UID:10016971-1860409800-1860413400@www.collectivefitness.pt
SUMMARY:TCF Daily
DESCRIPTION:TCF Daily-Our signature functional fitness class. A comprehensive 60 minutes session incorporating either a strength-building or skill-focused segment\, alongside a heart-pumping metabolic conditioning portion. \nTRY THIS CLASS NOW
URL:https://www.collectivefitness.pt/event/tcf-daily-23/2028-12-14/
LOCATION:The Collective Fitness\, R. Prof. Sousa da Câmara 128 Loja C\, Lisboa\, Lisboa\, 1070-217\, Portugal
CATEGORIES:TCF Daily
END:VEVENT
BEGIN:VEVENT
DTSTART;TZID=Europe/Lisbon:20281214T133000
DTEND;TZID=Europe/Lisbon:20281214T143000
DTSTAMP:20260420T231747
CREATED:20250708T135817Z
LAST-MODIFIED:20250708T203831Z
UID:10017495-1860413400-1860417000@www.collectivefitness.pt
SUMMARY:TCF Daily
DESCRIPTION:TCF Daily-Our signature functional fitness class. A comprehensive 60 minutes session incorporating either a strength-building or skill-focused segment\, alongside a heart-pumping metabolic conditioning portion. \nTRY THIS CLASS NOW
URL:https://www.collectivefitness.pt/event/tcf-daily-24/2028-12-14/
LOCATION:The Collective Fitness\, R. Prof. Sousa da Câmara 128 Loja C\, Lisboa\, Lisboa\, 1070-217\, Portugal
CATEGORIES:TCF Daily
END:VEVENT
BEGIN:VEVENT
DTSTART;TZID=Europe/Lisbon:20281214T143000
DTEND;TZID=Europe/Lisbon:20281214T173000
DTSTAMP:20260420T231747
CREATED:20250708T135857Z
LAST-MODIFIED:20250708T211359Z
UID:10018019-1860417000-1860427800@www.collectivefitness.pt
SUMMARY:Open Gym
DESCRIPTION:TRY IT NOW
URL:https://www.collectivefitness.pt/event/open-gym-8/2028-12-14/
LOCATION:The Collective Fitness\, R. Prof. Sousa da Câmara 128 Loja C\, Lisboa\, Lisboa\, 1070-217\, Portugal
CATEGORIES:Open Gym
END:VEVENT
BEGIN:VEVENT
DTSTART;TZID=Europe/Lisbon:20281214T173000
DTEND;TZID=Europe/Lisbon:20281214T183000
DTSTAMP:20260420T231747
CREATED:20250708T140035Z
LAST-MODIFIED:20250708T140035Z
UID:10018543-1860427800-1860431400@www.collectivefitness.pt
SUMMARY:TCF Daily
DESCRIPTION:TCF Daily-Our signature functional fitness class. A comprehensive 60 minutes session incorporating either a strength-building or skill-focused segment\, alongside a heart-pumping metabolic conditioning portion.
URL:https://www.collectivefitness.pt/event/tcf-daily-25/2028-12-14/
LOCATION:The Collective Fitness\, R. Prof. Sousa da Câmara 128 Loja C\, Lisboa\, Lisboa\, 1070-217\, Portugal
CATEGORIES:TCF Daily
END:VEVENT
BEGIN:VEVENT
DTSTART;TZID=Europe/Lisbon:20281214T183000
DTEND;TZID=Europe/Lisbon:20281214T193000
DTSTAMP:20260420T231747
CREATED:20250708T173002Z
LAST-MODIFIED:20250708T203605Z
UID:10019329-1860431400-1860435000@www.collectivefitness.pt
SUMMARY:TCF Daily
DESCRIPTION:TCF Daily-Our signature functional fitness class. A comprehensive 60 minutes session incorporating either a strength-building or skill-focused segment\, alongside a heart-pumping metabolic conditioning portion. \nTRY THIS CLASS NOW
URL:https://www.collectivefitness.pt/event/tcf-daily-26/2028-12-14/
LOCATION:The Collective Fitness\, R. Prof. Sousa da Câmara 128 Loja C\, Lisboa\, Lisboa\, 1070-217\, Portugal
CATEGORIES:TCF Daily
END:VEVENT
BEGIN:VEVENT
DTSTART;TZID=Europe/Lisbon:20281214T193000
DTEND;TZID=Europe/Lisbon:20281214T203000
DTSTAMP:20260420T231747
CREATED:20250708T173100Z
LAST-MODIFIED:20250708T190902Z
UID:10019851-1860435000-1860438600@www.collectivefitness.pt
SUMMARY:TCF Daily
DESCRIPTION:TCF Daily-Our signature functional fitness class. A comprehensive 60 minutes session incorporating either a strength-building or skill-focused segment\, alongside a heart-pumping metabolic conditioning portion. \nTRY THIS CLASS NOW
URL:https://www.collectivefitness.pt/event/tcf-daily-27-2/2028-12-14/
LOCATION:The Collective Fitness\, R. Prof. Sousa da Câmara 128 Loja C\, Lisboa\, Lisboa\, 1070-217\, Portugal
CATEGORIES:TCF Daily
END:VEVENT
BEGIN:VEVENT
DTSTART;TZID=Europe/Lisbon:20281221T063000
DTEND;TZID=Europe/Lisbon:20281221T073000
DTSTAMP:20260420T231747
CREATED:20250708T135356Z
LAST-MODIFIED:20250708T204848Z
UID:10015400-1860993000-1860996600@www.collectivefitness.pt
SUMMARY:TCF Daily
DESCRIPTION:TCF Daily-Our signature functional fitness class. A comprehensive 60 minutes session incorporating either a strength-building or skill-focused segment\, alongside a heart-pumping metabolic conditioning portion. \nTRY THIS CLASS NOW
URL:https://www.collectivefitness.pt/event/tcf-daily-21/2028-12-21/
LOCATION:The Collective Fitness\, R. Prof. Sousa da Câmara 128 Loja C\, Lisboa\, Lisboa\, 1070-217\, Portugal
CATEGORIES:TCF Daily
END:VEVENT
BEGIN:VEVENT
DTSTART;TZID=Europe/Lisbon:20281221T073000
DTEND;TZID=Europe/Lisbon:20281221T083000
DTSTAMP:20260420T231747
CREATED:20250708T135439Z
LAST-MODIFIED:20250708T204811Z
UID:10015924-1860996600-1861000200@www.collectivefitness.pt
SUMMARY:TCF Daily
DESCRIPTION:TCF Daily-Our signature functional fitness class. A comprehensive 60 minutes session incorporating either a strength-building or skill-focused segment\, alongside a heart-pumping metabolic conditioning portion. \nTRY THIS CLASS NOW
URL:https://www.collectivefitness.pt/event/tcf-daily-22/2028-12-21/
LOCATION:Lisboa
CATEGORIES:TCF Daily
END:VEVENT
BEGIN:VEVENT
DTSTART;TZID=Europe/Lisbon:20281221T083000
DTEND;TZID=Europe/Lisbon:20281221T093000
DTSTAMP:20260420T231747
CREATED:20250708T135555Z
LAST-MODIFIED:20260306T202632Z
UID:10032038-1861000200-1861003800@www.collectivefitness.pt
SUMMARY:TCF Daily
DESCRIPTION:TCF Daily-Our signature functional fitness class. A comprehensive 60 minutes session incorporating either a strength-building or skill-focused segment\, alongside a heart-pumping metabolic conditioning portion. \nTRY THIS CLASS NOW
URL:https://www.collectivefitness.pt/event/tcf-daily-38/2028-12-21/
LOCATION:The Collective Fitness\, R. Prof. Sousa da Câmara 128 Loja C\, Lisboa\, Lisboa\, 1070-217\, Portugal
CATEGORIES:TCF Daily
END:VEVENT
BEGIN:VEVENT
DTSTART;TZID=Europe/Lisbon:20281221T093000
DTEND;TZID=Europe/Lisbon:20281221T123000
DTSTAMP:20260420T231747
CREATED:20250708T135609Z
LAST-MODIFIED:20260306T201047Z
UID:10030556-1861003800-1861014600@www.collectivefitness.pt
SUMMARY:Open Gym
DESCRIPTION:TRY IT NOW
URL:https://www.collectivefitness.pt/event/open-gym-7/2028-12-21/
LOCATION:The Collective Fitness\, R. Prof. Sousa da Câmara 128 Loja C\, Lisboa\, Lisboa\, 1070-217\, Portugal
CATEGORIES:Open Gym
END:VEVENT
BEGIN:VEVENT
DTSTART;TZID=Europe/Lisbon:20281221T123000
DTEND;TZID=Europe/Lisbon:20281221T133000
DTSTAMP:20260420T231747
CREATED:20250708T135701Z
LAST-MODIFIED:20250708T203910Z
UID:10016972-1861014600-1861018200@www.collectivefitness.pt
SUMMARY:TCF Daily
DESCRIPTION:TCF Daily-Our signature functional fitness class. A comprehensive 60 minutes session incorporating either a strength-building or skill-focused segment\, alongside a heart-pumping metabolic conditioning portion. \nTRY THIS CLASS NOW
URL:https://www.collectivefitness.pt/event/tcf-daily-23/2028-12-21/
LOCATION:The Collective Fitness\, R. Prof. Sousa da Câmara 128 Loja C\, Lisboa\, Lisboa\, 1070-217\, Portugal
CATEGORIES:TCF Daily
END:VEVENT
BEGIN:VEVENT
DTSTART;TZID=Europe/Lisbon:20281221T133000
DTEND;TZID=Europe/Lisbon:20281221T143000
DTSTAMP:20260420T231747
CREATED:20250708T135817Z
LAST-MODIFIED:20250708T203831Z
UID:10017496-1861018200-1861021800@www.collectivefitness.pt
SUMMARY:TCF Daily
DESCRIPTION:TCF Daily-Our signature functional fitness class. A comprehensive 60 minutes session incorporating either a strength-building or skill-focused segment\, alongside a heart-pumping metabolic conditioning portion. \nTRY THIS CLASS NOW
URL:https://www.collectivefitness.pt/event/tcf-daily-24/2028-12-21/
LOCATION:The Collective Fitness\, R. Prof. Sousa da Câmara 128 Loja C\, Lisboa\, Lisboa\, 1070-217\, Portugal
CATEGORIES:TCF Daily
END:VEVENT
BEGIN:VEVENT
DTSTART;TZID=Europe/Lisbon:20281221T143000
DTEND;TZID=Europe/Lisbon:20281221T173000
DTSTAMP:20260420T231747
CREATED:20250708T135857Z
LAST-MODIFIED:20250708T211359Z
UID:10018020-1861021800-1861032600@www.collectivefitness.pt
SUMMARY:Open Gym
DESCRIPTION:TRY IT NOW
URL:https://www.collectivefitness.pt/event/open-gym-8/2028-12-21/
LOCATION:The Collective Fitness\, R. Prof. Sousa da Câmara 128 Loja C\, Lisboa\, Lisboa\, 1070-217\, Portugal
CATEGORIES:Open Gym
END:VEVENT
BEGIN:VEVENT
DTSTART;TZID=Europe/Lisbon:20281221T173000
DTEND;TZID=Europe/Lisbon:20281221T183000
DTSTAMP:20260420T231747
CREATED:20250708T140035Z
LAST-MODIFIED:20250708T140035Z
UID:10018544-1861032600-1861036200@www.collectivefitness.pt
SUMMARY:TCF Daily
DESCRIPTION:TCF Daily-Our signature functional fitness class. A comprehensive 60 minutes session incorporating either a strength-building or skill-focused segment\, alongside a heart-pumping metabolic conditioning portion.
URL:https://www.collectivefitness.pt/event/tcf-daily-25/2028-12-21/
LOCATION:The Collective Fitness\, R. Prof. Sousa da Câmara 128 Loja C\, Lisboa\, Lisboa\, 1070-217\, Portugal
CATEGORIES:TCF Daily
END:VEVENT
BEGIN:VEVENT
DTSTART;TZID=Europe/Lisbon:20281221T183000
DTEND;TZID=Europe/Lisbon:20281221T193000
DTSTAMP:20260420T231747
CREATED:20250708T173002Z
LAST-MODIFIED:20250708T203605Z
UID:10019330-1861036200-1861039800@www.collectivefitness.pt
SUMMARY:TCF Daily
DESCRIPTION:TCF Daily-Our signature functional fitness class. A comprehensive 60 minutes session incorporating either a strength-building or skill-focused segment\, alongside a heart-pumping metabolic conditioning portion. \nTRY THIS CLASS NOW
URL:https://www.collectivefitness.pt/event/tcf-daily-26/2028-12-21/
LOCATION:The Collective Fitness\, R. Prof. Sousa da Câmara 128 Loja C\, Lisboa\, Lisboa\, 1070-217\, Portugal
CATEGORIES:TCF Daily
END:VEVENT
BEGIN:VEVENT
DTSTART;TZID=Europe/Lisbon:20281221T193000
DTEND;TZID=Europe/Lisbon:20281221T203000
DTSTAMP:20260420T231747
CREATED:20250708T173100Z
LAST-MODIFIED:20250708T190902Z
UID:10019852-1861039800-1861043400@www.collectivefitness.pt
SUMMARY:TCF Daily
DESCRIPTION:TCF Daily-Our signature functional fitness class. A comprehensive 60 minutes session incorporating either a strength-building or skill-focused segment\, alongside a heart-pumping metabolic conditioning portion. \nTRY THIS CLASS NOW
URL:https://www.collectivefitness.pt/event/tcf-daily-27-2/2028-12-21/
LOCATION:The Collective Fitness\, R. Prof. Sousa da Câmara 128 Loja C\, Lisboa\, Lisboa\, 1070-217\, Portugal
CATEGORIES:TCF Daily
END:VEVENT
END:VCALENDAR