BEGIN:VCALENDAR
VERSION:2.0
PRODID:-//The collective fitness - ECPv6.15.16//NONSGML v1.0//EN
CALSCALE:GREGORIAN
METHOD:PUBLISH
X-ORIGINAL-URL:https://www.collectivefitness.pt
X-WR-CALDESC:Events for The collective fitness
REFRESH-INTERVAL;VALUE=DURATION:PT1H
X-Robots-Tag:noindex
X-PUBLISHED-TTL:PT1H
BEGIN:VTIMEZONE
TZID:Europe/Lisbon
BEGIN:DAYLIGHT
TZOFFSETFROM:+0000
TZOFFSETTO:+0100
TZNAME:WEST
DTSTART:20290325T010000
END:DAYLIGHT
BEGIN:STANDARD
TZOFFSETFROM:+0100
TZOFFSETTO:+0000
TZNAME:WET
DTSTART:20291028T010000
END:STANDARD
BEGIN:DAYLIGHT
TZOFFSETFROM:+0000
TZOFFSETTO:+0100
TZNAME:WEST
DTSTART:20300331T010000
END:DAYLIGHT
BEGIN:STANDARD
TZOFFSETFROM:+0100
TZOFFSETTO:+0000
TZNAME:WET
DTSTART:20301027T010000
END:STANDARD
BEGIN:DAYLIGHT
TZOFFSETFROM:+0000
TZOFFSETTO:+0100
TZNAME:WEST
DTSTART:20310330T010000
END:DAYLIGHT
BEGIN:STANDARD
TZOFFSETFROM:+0100
TZOFFSETTO:+0000
TZNAME:WET
DTSTART:20311026T010000
END:STANDARD
END:VTIMEZONE
BEGIN:VEVENT
DTSTART;TZID=Europe/Lisbon:20300504T080000
DTEND;TZID=Europe/Lisbon:20300504T093000
DTSTAMP:20260422T231342
CREATED:20250708T173914Z
LAST-MODIFIED:20250708T203130Z
UID:10026215-1904112000-1904117400@www.collectivefitness.pt
SUMMARY:TCF Daily
DESCRIPTION:TCF Daily-Our signature functional fitness class. A comprehensive 60 minutes session incorporating either a strength-building or skill-focused segment\, alongside a heart-pumping metabolic conditioning portion. \nTRY THIS CLASS NOW
URL:https://www.collectivefitness.pt/event/tcf-daily-34/2030-05-04/
LOCATION:The Collective Fitness\, R. Prof. Sousa da Câmara 128 Loja C\, Lisboa\, Lisboa\, 1070-217\, Portugal
CATEGORIES:TCF Daily
END:VEVENT
BEGIN:VEVENT
DTSTART;TZID=Europe/Lisbon:20300504T093000
DTEND;TZID=Europe/Lisbon:20300504T110000
DTSTAMP:20260422T231342
CREATED:20250708T181452Z
LAST-MODIFIED:20250708T202955Z
UID:10026739-1904117400-1904122800@www.collectivefitness.pt
SUMMARY:TCF Daily
DESCRIPTION:TCF Daily-Our signature functional fitness class. A comprehensive 60 minutes session incorporating either a strength-building or skill-focused segment\, alongside a heart-pumping metabolic conditioning portion. \nTRY THIS CLASS NOW
URL:https://www.collectivefitness.pt/event/tcf-daily-35/2030-05-04/
LOCATION:The Collective Fitness\, R. Prof. Sousa da Câmara 128 Loja C\, Lisboa\, Lisboa\, 1070-217\, Portugal
CATEGORIES:TCF Daily
END:VEVENT
BEGIN:VEVENT
DTSTART;TZID=Europe/Lisbon:20300504T110000
DTEND;TZID=Europe/Lisbon:20300504T123000
DTSTAMP:20260422T231342
CREATED:20250708T181526Z
LAST-MODIFIED:20250708T202816Z
UID:10027263-1904122800-1904128200@www.collectivefitness.pt
SUMMARY:TCF Daily
DESCRIPTION:TCF Daily-Our signature functional fitness class. A comprehensive 60 minutes session incorporating either a strength-building or skill-focused segment\, alongside a heart-pumping metabolic conditioning portion. \nTRY THIS CLASS NOW
URL:https://www.collectivefitness.pt/event/tcf-daily-36/2030-05-04/
LOCATION:The Collective Fitness\, R. Prof. Sousa da Câmara 128 Loja C\, Lisboa\, Lisboa\, 1070-217\, Portugal
CATEGORIES:TCF Daily
END:VEVENT
BEGIN:VEVENT
DTSTART;TZID=Europe/Lisbon:20300504T123000
DTEND;TZID=Europe/Lisbon:20300504T143000
DTSTAMP:20260422T231342
CREATED:20250708T181609Z
LAST-MODIFIED:20250708T210709Z
UID:10027788-1904128200-1904135400@www.collectivefitness.pt
SUMMARY:Open Gym
DESCRIPTION:TRY IT NOW
URL:https://www.collectivefitness.pt/event/open-gym-11/2030-05-04/
LOCATION:The Collective Fitness\, R. Prof. Sousa da Câmara 128 Loja C\, Lisboa\, Lisboa\, 1070-217\, Portugal
CATEGORIES:Open Gym
END:VEVENT
BEGIN:VEVENT
DTSTART;TZID=Europe/Lisbon:20300511T080000
DTEND;TZID=Europe/Lisbon:20300511T093000
DTSTAMP:20260422T231342
CREATED:20250708T173914Z
LAST-MODIFIED:20250708T203130Z
UID:10026216-1904716800-1904722200@www.collectivefitness.pt
SUMMARY:TCF Daily
DESCRIPTION:TCF Daily-Our signature functional fitness class. A comprehensive 60 minutes session incorporating either a strength-building or skill-focused segment\, alongside a heart-pumping metabolic conditioning portion. \nTRY THIS CLASS NOW
URL:https://www.collectivefitness.pt/event/tcf-daily-34/2030-05-11/
LOCATION:The Collective Fitness\, R. Prof. Sousa da Câmara 128 Loja C\, Lisboa\, Lisboa\, 1070-217\, Portugal
CATEGORIES:TCF Daily
END:VEVENT
BEGIN:VEVENT
DTSTART;TZID=Europe/Lisbon:20300511T093000
DTEND;TZID=Europe/Lisbon:20300511T110000
DTSTAMP:20260422T231342
CREATED:20250708T181452Z
LAST-MODIFIED:20250708T202955Z
UID:10026740-1904722200-1904727600@www.collectivefitness.pt
SUMMARY:TCF Daily
DESCRIPTION:TCF Daily-Our signature functional fitness class. A comprehensive 60 minutes session incorporating either a strength-building or skill-focused segment\, alongside a heart-pumping metabolic conditioning portion. \nTRY THIS CLASS NOW
URL:https://www.collectivefitness.pt/event/tcf-daily-35/2030-05-11/
LOCATION:The Collective Fitness\, R. Prof. Sousa da Câmara 128 Loja C\, Lisboa\, Lisboa\, 1070-217\, Portugal
CATEGORIES:TCF Daily
END:VEVENT
BEGIN:VEVENT
DTSTART;TZID=Europe/Lisbon:20300511T110000
DTEND;TZID=Europe/Lisbon:20300511T123000
DTSTAMP:20260422T231342
CREATED:20250708T181526Z
LAST-MODIFIED:20250708T202816Z
UID:10027264-1904727600-1904733000@www.collectivefitness.pt
SUMMARY:TCF Daily
DESCRIPTION:TCF Daily-Our signature functional fitness class. A comprehensive 60 minutes session incorporating either a strength-building or skill-focused segment\, alongside a heart-pumping metabolic conditioning portion. \nTRY THIS CLASS NOW
URL:https://www.collectivefitness.pt/event/tcf-daily-36/2030-05-11/
LOCATION:The Collective Fitness\, R. Prof. Sousa da Câmara 128 Loja C\, Lisboa\, Lisboa\, 1070-217\, Portugal
CATEGORIES:TCF Daily
END:VEVENT
BEGIN:VEVENT
DTSTART;TZID=Europe/Lisbon:20300511T123000
DTEND;TZID=Europe/Lisbon:20300511T143000
DTSTAMP:20260422T231342
CREATED:20250708T181609Z
LAST-MODIFIED:20250708T210709Z
UID:10027789-1904733000-1904740200@www.collectivefitness.pt
SUMMARY:Open Gym
DESCRIPTION:TRY IT NOW
URL:https://www.collectivefitness.pt/event/open-gym-11/2030-05-11/
LOCATION:The Collective Fitness\, R. Prof. Sousa da Câmara 128 Loja C\, Lisboa\, Lisboa\, 1070-217\, Portugal
CATEGORIES:Open Gym
END:VEVENT
BEGIN:VEVENT
DTSTART;TZID=Europe/Lisbon:20300518T080000
DTEND;TZID=Europe/Lisbon:20300518T093000
DTSTAMP:20260422T231342
CREATED:20250708T173914Z
LAST-MODIFIED:20250708T203130Z
UID:10026217-1905321600-1905327000@www.collectivefitness.pt
SUMMARY:TCF Daily
DESCRIPTION:TCF Daily-Our signature functional fitness class. A comprehensive 60 minutes session incorporating either a strength-building or skill-focused segment\, alongside a heart-pumping metabolic conditioning portion. \nTRY THIS CLASS NOW
URL:https://www.collectivefitness.pt/event/tcf-daily-34/2030-05-18/
LOCATION:The Collective Fitness\, R. Prof. Sousa da Câmara 128 Loja C\, Lisboa\, Lisboa\, 1070-217\, Portugal
CATEGORIES:TCF Daily
END:VEVENT
BEGIN:VEVENT
DTSTART;TZID=Europe/Lisbon:20300518T093000
DTEND;TZID=Europe/Lisbon:20300518T110000
DTSTAMP:20260422T231342
CREATED:20250708T181452Z
LAST-MODIFIED:20250708T202955Z
UID:10026741-1905327000-1905332400@www.collectivefitness.pt
SUMMARY:TCF Daily
DESCRIPTION:TCF Daily-Our signature functional fitness class. A comprehensive 60 minutes session incorporating either a strength-building or skill-focused segment\, alongside a heart-pumping metabolic conditioning portion. \nTRY THIS CLASS NOW
URL:https://www.collectivefitness.pt/event/tcf-daily-35/2030-05-18/
LOCATION:The Collective Fitness\, R. Prof. Sousa da Câmara 128 Loja C\, Lisboa\, Lisboa\, 1070-217\, Portugal
CATEGORIES:TCF Daily
END:VEVENT
BEGIN:VEVENT
DTSTART;TZID=Europe/Lisbon:20300518T110000
DTEND;TZID=Europe/Lisbon:20300518T123000
DTSTAMP:20260422T231342
CREATED:20250708T181526Z
LAST-MODIFIED:20250708T202816Z
UID:10027265-1905332400-1905337800@www.collectivefitness.pt
SUMMARY:TCF Daily
DESCRIPTION:TCF Daily-Our signature functional fitness class. A comprehensive 60 minutes session incorporating either a strength-building or skill-focused segment\, alongside a heart-pumping metabolic conditioning portion. \nTRY THIS CLASS NOW
URL:https://www.collectivefitness.pt/event/tcf-daily-36/2030-05-18/
LOCATION:The Collective Fitness\, R. Prof. Sousa da Câmara 128 Loja C\, Lisboa\, Lisboa\, 1070-217\, Portugal
CATEGORIES:TCF Daily
END:VEVENT
BEGIN:VEVENT
DTSTART;TZID=Europe/Lisbon:20300518T123000
DTEND;TZID=Europe/Lisbon:20300518T143000
DTSTAMP:20260422T231342
CREATED:20250708T181609Z
LAST-MODIFIED:20250708T210709Z
UID:10027790-1905337800-1905345000@www.collectivefitness.pt
SUMMARY:Open Gym
DESCRIPTION:TRY IT NOW
URL:https://www.collectivefitness.pt/event/open-gym-11/2030-05-18/
LOCATION:The Collective Fitness\, R. Prof. Sousa da Câmara 128 Loja C\, Lisboa\, Lisboa\, 1070-217\, Portugal
CATEGORIES:Open Gym
END:VEVENT
BEGIN:VEVENT
DTSTART;TZID=Europe/Lisbon:20300525T080000
DTEND;TZID=Europe/Lisbon:20300525T093000
DTSTAMP:20260422T231342
CREATED:20250708T173914Z
LAST-MODIFIED:20250708T203130Z
UID:10026218-1905926400-1905931800@www.collectivefitness.pt
SUMMARY:TCF Daily
DESCRIPTION:TCF Daily-Our signature functional fitness class. A comprehensive 60 minutes session incorporating either a strength-building or skill-focused segment\, alongside a heart-pumping metabolic conditioning portion. \nTRY THIS CLASS NOW
URL:https://www.collectivefitness.pt/event/tcf-daily-34/2030-05-25/
LOCATION:The Collective Fitness\, R. Prof. Sousa da Câmara 128 Loja C\, Lisboa\, Lisboa\, 1070-217\, Portugal
CATEGORIES:TCF Daily
END:VEVENT
BEGIN:VEVENT
DTSTART;TZID=Europe/Lisbon:20300525T093000
DTEND;TZID=Europe/Lisbon:20300525T110000
DTSTAMP:20260422T231342
CREATED:20250708T181452Z
LAST-MODIFIED:20250708T202955Z
UID:10026742-1905931800-1905937200@www.collectivefitness.pt
SUMMARY:TCF Daily
DESCRIPTION:TCF Daily-Our signature functional fitness class. A comprehensive 60 minutes session incorporating either a strength-building or skill-focused segment\, alongside a heart-pumping metabolic conditioning portion. \nTRY THIS CLASS NOW
URL:https://www.collectivefitness.pt/event/tcf-daily-35/2030-05-25/
LOCATION:The Collective Fitness\, R. Prof. Sousa da Câmara 128 Loja C\, Lisboa\, Lisboa\, 1070-217\, Portugal
CATEGORIES:TCF Daily
END:VEVENT
BEGIN:VEVENT
DTSTART;TZID=Europe/Lisbon:20300525T110000
DTEND;TZID=Europe/Lisbon:20300525T123000
DTSTAMP:20260422T231342
CREATED:20250708T181526Z
LAST-MODIFIED:20250708T202816Z
UID:10027266-1905937200-1905942600@www.collectivefitness.pt
SUMMARY:TCF Daily
DESCRIPTION:TCF Daily-Our signature functional fitness class. A comprehensive 60 minutes session incorporating either a strength-building or skill-focused segment\, alongside a heart-pumping metabolic conditioning portion. \nTRY THIS CLASS NOW
URL:https://www.collectivefitness.pt/event/tcf-daily-36/2030-05-25/
LOCATION:The Collective Fitness\, R. Prof. Sousa da Câmara 128 Loja C\, Lisboa\, Lisboa\, 1070-217\, Portugal
CATEGORIES:TCF Daily
END:VEVENT
BEGIN:VEVENT
DTSTART;TZID=Europe/Lisbon:20300525T123000
DTEND;TZID=Europe/Lisbon:20300525T143000
DTSTAMP:20260422T231342
CREATED:20250708T181609Z
LAST-MODIFIED:20250708T210709Z
UID:10027791-1905942600-1905949800@www.collectivefitness.pt
SUMMARY:Open Gym
DESCRIPTION:TRY IT NOW
URL:https://www.collectivefitness.pt/event/open-gym-11/2030-05-25/
LOCATION:The Collective Fitness\, R. Prof. Sousa da Câmara 128 Loja C\, Lisboa\, Lisboa\, 1070-217\, Portugal
CATEGORIES:Open Gym
END:VEVENT
END:VCALENDAR