BEGIN:VCALENDAR
VERSION:2.0
PRODID:-//The collective fitness - ECPv6.15.16//NONSGML v1.0//EN
CALSCALE:GREGORIAN
METHOD:PUBLISH
X-ORIGINAL-URL:https://www.collectivefitness.pt
X-WR-CALDESC:Events for The collective fitness
REFRESH-INTERVAL;VALUE=DURATION:PT1H
X-Robots-Tag:noindex
X-PUBLISHED-TTL:PT1H
BEGIN:VTIMEZONE
TZID:Europe/Lisbon
BEGIN:DAYLIGHT
TZOFFSETFROM:+0000
TZOFFSETTO:+0100
TZNAME:WEST
DTSTART:20280326T010000
END:DAYLIGHT
BEGIN:STANDARD
TZOFFSETFROM:+0100
TZOFFSETTO:+0000
TZNAME:WET
DTSTART:20281029T010000
END:STANDARD
BEGIN:DAYLIGHT
TZOFFSETFROM:+0000
TZOFFSETTO:+0100
TZNAME:WEST
DTSTART:20290325T010000
END:DAYLIGHT
BEGIN:STANDARD
TZOFFSETFROM:+0100
TZOFFSETTO:+0000
TZNAME:WET
DTSTART:20291028T010000
END:STANDARD
BEGIN:DAYLIGHT
TZOFFSETFROM:+0000
TZOFFSETTO:+0100
TZNAME:WEST
DTSTART:20300331T010000
END:DAYLIGHT
BEGIN:STANDARD
TZOFFSETFROM:+0100
TZOFFSETTO:+0000
TZNAME:WET
DTSTART:20301027T010000
END:STANDARD
END:VTIMEZONE
BEGIN:VEVENT
DTSTART;TZID=Europe/Lisbon:20290820T063000
DTEND;TZID=Europe/Lisbon:20290820T073000
DTSTAMP:20260421T195000
CREATED:20250701T171036Z
LAST-MODIFIED:20250708T210254Z
UID:10000219-1881901800-1881905400@www.collectivefitness.pt
SUMMARY:TCF Daily
DESCRIPTION:TCF Daily-Our signature functional fitness class. A comprehensive 60 minutes session incorporating either a strength-building or skill-focused segment\, alongside a heart-pumping metabolic conditioning portion. \nTRY THIS CLASS NOW
URL:https://www.collectivefitness.pt/event/tcf-daily/2029-08-20/
LOCATION:The Collective Fitness\, R. Prof. Sousa da Câmara 128 Loja C\, Lisboa\, Lisboa\, 1070-217\, Portugal
CATEGORIES:TCF Daily
END:VEVENT
BEGIN:VEVENT
DTSTART;TZID=Europe/Lisbon:20290820T073000
DTEND;TZID=Europe/Lisbon:20290820T083000
DTSTAMP:20260421T195000
CREATED:20250701T171813Z
LAST-MODIFIED:20250708T210224Z
UID:10000481-1881905400-1881909000@www.collectivefitness.pt
SUMMARY:TCF Daily
DESCRIPTION:TCF Daily-Our signature functional fitness class. A comprehensive 60 minutes session incorporating either a strength-building or skill-focused segment\, alongside a heart-pumping metabolic conditioning portion. \nTRY THIS CLASS NOW
URL:https://www.collectivefitness.pt/event/tcf-daily-2/2029-08-20/
LOCATION:Lisboa
CATEGORIES:TCF Daily
END:VEVENT
BEGIN:VEVENT
DTSTART;TZID=Europe/Lisbon:20290820T083000
DTEND;TZID=Europe/Lisbon:20290820T093000
DTSTAMP:20260421T195000
CREATED:20250701T171946Z
LAST-MODIFIED:20260306T201946Z
UID:10029539-1881909000-1881912600@www.collectivefitness.pt
SUMMARY:TCF Daily
DESCRIPTION:TCF Daily-Our signature functional fitness class. A comprehensive 60 minutes session incorporating either a strength-building or skill-focused segment\, alongside a heart-pumping metabolic conditioning portion. \nTRY THIS CLASS NOW
URL:https://www.collectivefitness.pt/event/tcf-daily-37/2029-08-20/
LOCATION:Lisboa
CATEGORIES:TCF Daily
END:VEVENT
BEGIN:VEVENT
DTSTART;TZID=Europe/Lisbon:20290820T123000
DTEND;TZID=Europe/Lisbon:20290820T133000
DTSTAMP:20260421T195000
CREATED:20250708T093227Z
LAST-MODIFIED:20250708T094017Z
UID:10003895-1881923400-1881927000@www.collectivefitness.pt
SUMMARY:TCF Daily
DESCRIPTION:TCF Daily-Our signature functional fitness class. A comprehensive 60 minutes session incorporating either a strength-building or skill-focused segment\, alongside a heart-pumping metabolic conditioning portion.
URL:https://www.collectivefitness.pt/event/tcf-daily-3/2029-08-20/
LOCATION:The Collective Fitness\, R. Prof. Sousa da Câmara 128 Loja C\, Lisboa\, Lisboa\, 1070-217\, Portugal
CATEGORIES:TCF Daily
END:VEVENT
BEGIN:VEVENT
DTSTART;TZID=Europe/Lisbon:20290820T133000
DTEND;TZID=Europe/Lisbon:20290820T143000
DTSTAMP:20260421T195000
CREATED:20250708T093347Z
LAST-MODIFIED:20250708T210049Z
UID:10001794-1881927000-1881930600@www.collectivefitness.pt
SUMMARY:TCF Daily
DESCRIPTION:TCF Daily-Our signature functional fitness class. A comprehensive 60 minutes session incorporating either a strength-building or skill-focused segment\, alongside a heart-pumping metabolic conditioning portion. \nTRY THIS CLASS NOW
URL:https://www.collectivefitness.pt/event/tcf-daily-4/2029-08-20/
LOCATION:The Collective Fitness\, R. Prof. Sousa da Câmara 128 Loja C\, Lisboa\, Lisboa\, 1070-217\, Portugal
CATEGORIES:TCF Daily
END:VEVENT
BEGIN:VEVENT
DTSTART;TZID=Europe/Lisbon:20290820T183000
DTEND;TZID=Europe/Lisbon:20290820T193000
DTSTAMP:20260421T195000
CREATED:20250708T093818Z
LAST-MODIFIED:20250708T210011Z
UID:10003106-1881945000-1881948600@www.collectivefitness.pt
SUMMARY:TCF Daily
DESCRIPTION:TCF Daily-Our signature functional fitness class. A comprehensive 60 minutes session incorporating either a strength-building or skill-focused segment\, alongside a heart-pumping metabolic conditioning portion. \nTRY THIS CLASS NOW
URL:https://www.collectivefitness.pt/event/tcf-daily-5/2029-08-20/
LOCATION:The Collective Fitness\, R. Prof. Sousa da Câmara 128 Loja C\, Lisboa\, Lisboa\, 1070-217\, Portugal
CATEGORIES:TCF Daily
END:VEVENT
BEGIN:VEVENT
DTSTART;TZID=Europe/Lisbon:20290820T193000
DTEND;TZID=Europe/Lisbon:20290820T203000
DTSTAMP:20260421T195000
CREATED:20250708T093912Z
LAST-MODIFIED:20250708T205933Z
UID:10003632-1881948600-1881952200@www.collectivefitness.pt
SUMMARY:TCF Daily
DESCRIPTION:TCF Daily-Our signature functional fitness class. A comprehensive 60 minutes session incorporating either a strength-building or skill-focused segment\, alongside a heart-pumping metabolic conditioning portion. \nTRY THIS CLASS NOW
URL:https://www.collectivefitness.pt/event/tcf-daily-6/2029-08-20/
LOCATION:The Collective Fitness\, R. Prof. Sousa da Câmara 128 Loja C\, Lisboa\, Lisboa\, 1070-217\, Portugal
CATEGORIES:TCF Daily
END:VEVENT
BEGIN:VEVENT
DTSTART;TZID=Europe/Lisbon:20290821T063000
DTEND;TZID=Europe/Lisbon:20290821T073000
DTSTAMP:20260421T195000
CREATED:20250708T131905Z
LAST-MODIFIED:20250708T205847Z
UID:10005470-1881988200-1881991800@www.collectivefitness.pt
SUMMARY:TCF Daily
DESCRIPTION:TCF Daily-Our signature functional fitness class. A comprehensive 60 minutes session incorporating either a strength-building or skill-focused segment\, alongside a heart-pumping metabolic conditioning portion. \nTRY THIS CLASS NOW
URL:https://www.collectivefitness.pt/event/tcf-daily-7/2029-08-21/
LOCATION:The Collective Fitness\, R. Prof. Sousa da Câmara 128 Loja C\, Lisboa\, Lisboa\, 1070-217\, Portugal
CATEGORIES:TCF Daily
END:VEVENT
BEGIN:VEVENT
DTSTART;TZID=Europe/Lisbon:20290821T073000
DTEND;TZID=Europe/Lisbon:20290821T083000
DTSTAMP:20260421T195000
CREATED:20250708T132054Z
LAST-MODIFIED:20250708T205813Z
UID:10005995-1881991800-1881995400@www.collectivefitness.pt
SUMMARY:TCF Daily
DESCRIPTION:TCF Daily-Our signature functional fitness class. A comprehensive 60 minutes session incorporating either a strength-building or skill-focused segment\, alongside a heart-pumping metabolic conditioning portion. \nTRY THIS CLASS NOW
URL:https://www.collectivefitness.pt/event/tcf-daily-8/2029-08-21/
LOCATION:Lisboa
CATEGORIES:TCF Daily
END:VEVENT
BEGIN:VEVENT
DTSTART;TZID=Europe/Lisbon:20290821T123000
DTEND;TZID=Europe/Lisbon:20290821T133000
DTSTAMP:20260421T195000
CREATED:20250708T132833Z
LAST-MODIFIED:20250708T205738Z
UID:10007044-1882009800-1882013400@www.collectivefitness.pt
SUMMARY:TCF Daily
DESCRIPTION:TCF Daily-Our signature functional fitness class. A comprehensive 60 minutes session incorporating either a strength-building or skill-focused segment\, alongside a heart-pumping metabolic conditioning portion. \nTRY THIS CLASS NOW
URL:https://www.collectivefitness.pt/event/tcf-daily-9-2/2029-08-21/
LOCATION:The Collective Fitness\, R. Prof. Sousa da Câmara 128 Loja C\, Lisboa\, Lisboa\, 1070-217\, Portugal
CATEGORIES:TCF Daily
END:VEVENT
BEGIN:VEVENT
DTSTART;TZID=Europe/Lisbon:20290821T133000
DTEND;TZID=Europe/Lisbon:20290821T143000
DTSTAMP:20260421T195000
CREATED:20250708T132933Z
LAST-MODIFIED:20250708T205658Z
UID:10007569-1882013400-1882017000@www.collectivefitness.pt
SUMMARY:TCF Daily
DESCRIPTION:TCF Daily-Our signature functional fitness class. A comprehensive 60 minutes session incorporating either a strength-building or skill-focused segment\, alongside a heart-pumping metabolic conditioning portion. \nTRY THIS CLASS NOW
URL:https://www.collectivefitness.pt/event/tcf-daily-10/2029-08-21/
LOCATION:The Collective Fitness\, R. Prof. Sousa da Câmara 128 Loja C\, Lisboa\, Lisboa\, 1070-217\, Portugal
CATEGORIES:TCF Daily
END:VEVENT
BEGIN:VEVENT
DTSTART;TZID=Europe/Lisbon:20290821T173000
DTEND;TZID=Europe/Lisbon:20290821T183000
DTSTAMP:20260421T195000
CREATED:20250708T133147Z
LAST-MODIFIED:20250708T205608Z
UID:10008619-1882027800-1882031400@www.collectivefitness.pt
SUMMARY:TCF Daily
DESCRIPTION:TCF Daily-Our signature functional fitness class. A comprehensive 60 minutes session incorporating either a strength-building or skill-focused segment\, alongside a heart-pumping metabolic conditioning portion. \nTRY THIS CLASS NOW
URL:https://www.collectivefitness.pt/event/tcf-daily-11/2029-08-21/
LOCATION:The Collective Fitness\, R. Prof. Sousa da Câmara 128 Loja C\, Lisboa\, Lisboa\, 1070-217\, Portugal
CATEGORIES:TCF Daily
END:VEVENT
BEGIN:VEVENT
DTSTART;TZID=Europe/Lisbon:20290821T183000
DTEND;TZID=Europe/Lisbon:20290821T193000
DTSTAMP:20260421T195000
CREATED:20250708T133235Z
LAST-MODIFIED:20250708T205527Z
UID:10009144-1882031400-1882035000@www.collectivefitness.pt
SUMMARY:TCF Daily
DESCRIPTION:TCF Daily-Our signature functional fitness class. A comprehensive 60 minutes session incorporating either a strength-building or skill-focused segment\, alongside a heart-pumping metabolic conditioning portion. \nTRY THIS CLASS NOW
URL:https://www.collectivefitness.pt/event/tcf-daily-12/2029-08-21/
LOCATION:The Collective Fitness\, R. Prof. Sousa da Câmara 128 Loja C\, Lisboa\, Lisboa\, 1070-217\, Portugal
CATEGORIES:TCF Daily
END:VEVENT
BEGIN:VEVENT
DTSTART;TZID=Europe/Lisbon:20290821T193000
DTEND;TZID=Europe/Lisbon:20290821T203000
DTSTAMP:20260421T195000
CREATED:20250708T133330Z
LAST-MODIFIED:20250708T205448Z
UID:10009669-1882035000-1882038600@www.collectivefitness.pt
SUMMARY:TCF Daily
DESCRIPTION:TCF Daily-Our signature functional fitness class. A comprehensive 60 minutes session incorporating either a strength-building or skill-focused segment\, alongside a heart-pumping metabolic conditioning portion. \nTRY THIS CLASS NOW
URL:https://www.collectivefitness.pt/event/tcf-daily-13/2029-08-21/
LOCATION:The Collective Fitness\, R. Prof. Sousa da Câmara 128 Loja C\, Lisboa\, Lisboa\, 1070-217\, Portugal
CATEGORIES:TCF Daily
END:VEVENT
BEGIN:VEVENT
DTSTART;TZID=Europe/Lisbon:20290822T063000
DTEND;TZID=Europe/Lisbon:20290822T073000
DTSTAMP:20260421T195000
CREATED:20250708T133620Z
LAST-MODIFIED:20250708T205406Z
UID:10010193-1882074600-1882078200@www.collectivefitness.pt
SUMMARY:TCF Daily
DESCRIPTION:TCF Daily-Our signature functional fitness class. A comprehensive 60 minutes session incorporating either a strength-building or skill-focused segment\, alongside a heart-pumping metabolic conditioning portion. \nTRY THIS CLASS NOW
URL:https://www.collectivefitness.pt/event/tcf-daily-14/2029-08-22/
LOCATION:The Collective Fitness\, R. Prof. Sousa da Câmara 128 Loja C\, Lisboa\, Lisboa\, 1070-217\, Portugal
CATEGORIES:TCF Daily
END:VEVENT
BEGIN:VEVENT
DTSTART;TZID=Europe/Lisbon:20290822T073000
DTEND;TZID=Europe/Lisbon:20290822T083000
DTSTAMP:20260421T195000
CREATED:20250708T133818Z
LAST-MODIFIED:20250708T205328Z
UID:10010717-1882078200-1882081800@www.collectivefitness.pt
SUMMARY:TCF Daily
DESCRIPTION:TCF Daily-Our signature functional fitness class. A comprehensive 60 minutes session incorporating either a strength-building or skill-focused segment\, alongside a heart-pumping metabolic conditioning portion. \nTRY THIS CLASS NOW
URL:https://www.collectivefitness.pt/event/tcf-daily-15/2029-08-22/
LOCATION:Lisboa
CATEGORIES:TCF Daily
END:VEVENT
BEGIN:VEVENT
DTSTART;TZID=Europe/Lisbon:20290822T123000
DTEND;TZID=Europe/Lisbon:20290822T133000
DTSTAMP:20260421T195000
CREATED:20250708T134923Z
LAST-MODIFIED:20250708T205247Z
UID:10012291-1882096200-1882099800@www.collectivefitness.pt
SUMMARY:TCF Daily
DESCRIPTION:TCF Daily-Our signature functional fitness class. A comprehensive 60 minutes session incorporating either a strength-building or skill-focused segment\, alongside a heart-pumping metabolic conditioning portion. \nTRY THIS CLASS NOW
URL:https://www.collectivefitness.pt/event/tcf-daily-16/2029-08-22/
LOCATION:The Collective Fitness\, R. Prof. Sousa da Câmara 128 Loja C\, Lisboa\, Lisboa\, 1070-217\, Portugal
CATEGORIES:TCF Daily
END:VEVENT
BEGIN:VEVENT
DTSTART;TZID=Europe/Lisbon:20290822T133000
DTEND;TZID=Europe/Lisbon:20290822T143000
DTSTAMP:20260421T195000
CREATED:20250708T135025Z
LAST-MODIFIED:20250708T205206Z
UID:10012815-1882099800-1882103400@www.collectivefitness.pt
SUMMARY:TCF Daily
DESCRIPTION:TCF Daily-Our signature functional fitness class. A comprehensive 60 minutes session incorporating either a strength-building or skill-focused segment\, alongside a heart-pumping metabolic conditioning portion. \nTRY THIS CLASS NOW
URL:https://www.collectivefitness.pt/event/tcf-daily-17/2029-08-22/
LOCATION:The Collective Fitness\, R. Prof. Sousa da Câmara 128 Loja C\, Lisboa\, Lisboa\, 1070-217\, Portugal
CATEGORIES:TCF Daily
END:VEVENT
BEGIN:VEVENT
DTSTART;TZID=Europe/Lisbon:20290822T173000
DTEND;TZID=Europe/Lisbon:20290822T183000
DTSTAMP:20260421T195000
CREATED:20250708T135130Z
LAST-MODIFIED:20250708T205125Z
UID:10013863-1882114200-1882117800@www.collectivefitness.pt
SUMMARY:TCF Daily
DESCRIPTION:TCF Daily-Our signature functional fitness class. A comprehensive 60 minutes session incorporating either a strength-building or skill-focused segment\, alongside a heart-pumping metabolic conditioning portion. \nTRY THIS CLASS NOW
URL:https://www.collectivefitness.pt/event/tcf-daily-18/2029-08-22/
LOCATION:The Collective Fitness\, R. Prof. Sousa da Câmara 128 Loja C\, Lisboa\, Lisboa\, 1070-217\, Portugal
CATEGORIES:TCF Daily
END:VEVENT
BEGIN:VEVENT
DTSTART;TZID=Europe/Lisbon:20290822T183000
DTEND;TZID=Europe/Lisbon:20290822T193000
DTSTAMP:20260421T195000
CREATED:20250708T135206Z
LAST-MODIFIED:20250708T205045Z
UID:10014387-1882117800-1882121400@www.collectivefitness.pt
SUMMARY:TCF Daily
DESCRIPTION:TCF Daily-Our signature functional fitness class. A comprehensive 60 minutes session incorporating either a strength-building or skill-focused segment\, alongside a heart-pumping metabolic conditioning portion. \nTRY THIS CLASS NOW
URL:https://www.collectivefitness.pt/event/tcf-daily-19/2029-08-22/
LOCATION:The Collective Fitness\, R. Prof. Sousa da Câmara 128 Loja C\, Lisboa\, Lisboa\, 1070-217\, Portugal
CATEGORIES:TCF Daily
END:VEVENT
BEGIN:VEVENT
DTSTART;TZID=Europe/Lisbon:20290822T193000
DTEND;TZID=Europe/Lisbon:20290822T203000
DTSTAMP:20260421T195000
CREATED:20250708T135231Z
LAST-MODIFIED:20250708T205010Z
UID:10014911-1882121400-1882125000@www.collectivefitness.pt
SUMMARY:TCF Daily
DESCRIPTION:TCF Daily-Our signature functional fitness class. A comprehensive 60 minutes session incorporating either a strength-building or skill-focused segment\, alongside a heart-pumping metabolic conditioning portion. \nTRY THIS CLASS NOW
URL:https://www.collectivefitness.pt/event/tcf-daily-20/2029-08-22/
LOCATION:The Collective Fitness\, R. Prof. Sousa da Câmara 128 Loja C\, Lisboa\, Lisboa\, 1070-217\, Portugal
CATEGORIES:TCF Daily
END:VEVENT
BEGIN:VEVENT
DTSTART;TZID=Europe/Lisbon:20290823T063000
DTEND;TZID=Europe/Lisbon:20290823T073000
DTSTAMP:20260421T195000
CREATED:20250708T135356Z
LAST-MODIFIED:20250708T204848Z
UID:10015435-1882161000-1882164600@www.collectivefitness.pt
SUMMARY:TCF Daily
DESCRIPTION:TCF Daily-Our signature functional fitness class. A comprehensive 60 minutes session incorporating either a strength-building or skill-focused segment\, alongside a heart-pumping metabolic conditioning portion. \nTRY THIS CLASS NOW
URL:https://www.collectivefitness.pt/event/tcf-daily-21/2029-08-23/
LOCATION:The Collective Fitness\, R. Prof. Sousa da Câmara 128 Loja C\, Lisboa\, Lisboa\, 1070-217\, Portugal
CATEGORIES:TCF Daily
END:VEVENT
BEGIN:VEVENT
DTSTART;TZID=Europe/Lisbon:20290823T073000
DTEND;TZID=Europe/Lisbon:20290823T083000
DTSTAMP:20260421T195000
CREATED:20250708T135439Z
LAST-MODIFIED:20250708T204811Z
UID:10015959-1882164600-1882168200@www.collectivefitness.pt
SUMMARY:TCF Daily
DESCRIPTION:TCF Daily-Our signature functional fitness class. A comprehensive 60 minutes session incorporating either a strength-building or skill-focused segment\, alongside a heart-pumping metabolic conditioning portion. \nTRY THIS CLASS NOW
URL:https://www.collectivefitness.pt/event/tcf-daily-22/2029-08-23/
LOCATION:Lisboa
CATEGORIES:TCF Daily
END:VEVENT
BEGIN:VEVENT
DTSTART;TZID=Europe/Lisbon:20290823T083000
DTEND;TZID=Europe/Lisbon:20290823T093000
DTSTAMP:20260421T195000
CREATED:20250708T135555Z
LAST-MODIFIED:20260306T202632Z
UID:10032073-1882168200-1882171800@www.collectivefitness.pt
SUMMARY:TCF Daily
DESCRIPTION:TCF Daily-Our signature functional fitness class. A comprehensive 60 minutes session incorporating either a strength-building or skill-focused segment\, alongside a heart-pumping metabolic conditioning portion. \nTRY THIS CLASS NOW
URL:https://www.collectivefitness.pt/event/tcf-daily-38/2029-08-23/
LOCATION:The Collective Fitness\, R. Prof. Sousa da Câmara 128 Loja C\, Lisboa\, Lisboa\, 1070-217\, Portugal
CATEGORIES:TCF Daily
END:VEVENT
BEGIN:VEVENT
DTSTART;TZID=Europe/Lisbon:20290823T123000
DTEND;TZID=Europe/Lisbon:20290823T133000
DTSTAMP:20260421T195000
CREATED:20250708T135701Z
LAST-MODIFIED:20250708T203910Z
UID:10017007-1882182600-1882186200@www.collectivefitness.pt
SUMMARY:TCF Daily
DESCRIPTION:TCF Daily-Our signature functional fitness class. A comprehensive 60 minutes session incorporating either a strength-building or skill-focused segment\, alongside a heart-pumping metabolic conditioning portion. \nTRY THIS CLASS NOW
URL:https://www.collectivefitness.pt/event/tcf-daily-23/2029-08-23/
LOCATION:The Collective Fitness\, R. Prof. Sousa da Câmara 128 Loja C\, Lisboa\, Lisboa\, 1070-217\, Portugal
CATEGORIES:TCF Daily
END:VEVENT
BEGIN:VEVENT
DTSTART;TZID=Europe/Lisbon:20290823T133000
DTEND;TZID=Europe/Lisbon:20290823T143000
DTSTAMP:20260421T195000
CREATED:20250708T135817Z
LAST-MODIFIED:20250708T203831Z
UID:10017531-1882186200-1882189800@www.collectivefitness.pt
SUMMARY:TCF Daily
DESCRIPTION:TCF Daily-Our signature functional fitness class. A comprehensive 60 minutes session incorporating either a strength-building or skill-focused segment\, alongside a heart-pumping metabolic conditioning portion. \nTRY THIS CLASS NOW
URL:https://www.collectivefitness.pt/event/tcf-daily-24/2029-08-23/
LOCATION:The Collective Fitness\, R. Prof. Sousa da Câmara 128 Loja C\, Lisboa\, Lisboa\, 1070-217\, Portugal
CATEGORIES:TCF Daily
END:VEVENT
BEGIN:VEVENT
DTSTART;TZID=Europe/Lisbon:20290823T173000
DTEND;TZID=Europe/Lisbon:20290823T183000
DTSTAMP:20260421T195000
CREATED:20250708T140035Z
LAST-MODIFIED:20250708T140035Z
UID:10018579-1882200600-1882204200@www.collectivefitness.pt
SUMMARY:TCF Daily
DESCRIPTION:TCF Daily-Our signature functional fitness class. A comprehensive 60 minutes session incorporating either a strength-building or skill-focused segment\, alongside a heart-pumping metabolic conditioning portion.
URL:https://www.collectivefitness.pt/event/tcf-daily-25/2029-08-23/
LOCATION:The Collective Fitness\, R. Prof. Sousa da Câmara 128 Loja C\, Lisboa\, Lisboa\, 1070-217\, Portugal
CATEGORIES:TCF Daily
END:VEVENT
BEGIN:VEVENT
DTSTART;TZID=Europe/Lisbon:20290823T183000
DTEND;TZID=Europe/Lisbon:20290823T193000
DTSTAMP:20260421T195000
CREATED:20250708T173002Z
LAST-MODIFIED:20250708T203605Z
UID:10019365-1882204200-1882207800@www.collectivefitness.pt
SUMMARY:TCF Daily
DESCRIPTION:TCF Daily-Our signature functional fitness class. A comprehensive 60 minutes session incorporating either a strength-building or skill-focused segment\, alongside a heart-pumping metabolic conditioning portion. \nTRY THIS CLASS NOW
URL:https://www.collectivefitness.pt/event/tcf-daily-26/2029-08-23/
LOCATION:The Collective Fitness\, R. Prof. Sousa da Câmara 128 Loja C\, Lisboa\, Lisboa\, 1070-217\, Portugal
CATEGORIES:TCF Daily
END:VEVENT
BEGIN:VEVENT
DTSTART;TZID=Europe/Lisbon:20290823T193000
DTEND;TZID=Europe/Lisbon:20290823T203000
DTSTAMP:20260421T195000
CREATED:20250708T173100Z
LAST-MODIFIED:20250708T190902Z
UID:10019887-1882207800-1882211400@www.collectivefitness.pt
SUMMARY:TCF Daily
DESCRIPTION:TCF Daily-Our signature functional fitness class. A comprehensive 60 minutes session incorporating either a strength-building or skill-focused segment\, alongside a heart-pumping metabolic conditioning portion. \nTRY THIS CLASS NOW
URL:https://www.collectivefitness.pt/event/tcf-daily-27-2/2029-08-23/
LOCATION:The Collective Fitness\, R. Prof. Sousa da Câmara 128 Loja C\, Lisboa\, Lisboa\, 1070-217\, Portugal
CATEGORIES:TCF Daily
END:VEVENT
BEGIN:VEVENT
DTSTART;TZID=Europe/Lisbon:20290824T063000
DTEND;TZID=Europe/Lisbon:20290824T073000
DTSTAMP:20260421T195000
CREATED:20250708T173145Z
LAST-MODIFIED:20250708T203525Z
UID:10020411-1882247400-1882251000@www.collectivefitness.pt
SUMMARY:TCF Daily
DESCRIPTION:TCF Daily-Our signature functional fitness class. A comprehensive 60 minutes session incorporating either a strength-building or skill-focused segment\, alongside a heart-pumping metabolic conditioning portion. \nTRY THIS CLASS NOW
URL:https://www.collectivefitness.pt/event/tcf-daily-28/2029-08-24/
LOCATION:The Collective Fitness\, R. Prof. Sousa da Câmara 128 Loja C\, Lisboa\, Lisboa\, 1070-217\, Portugal
CATEGORIES:TCF Daily
END:VEVENT
END:VCALENDAR