BEGIN:VCALENDAR
VERSION:2.0
PRODID:-//The collective fitness - ECPv6.15.16//NONSGML v1.0//EN
CALSCALE:GREGORIAN
METHOD:PUBLISH
X-WR-CALNAME:The collective fitness
X-ORIGINAL-URL:https://www.collectivefitness.pt
X-WR-CALDESC:Events for The collective fitness
REFRESH-INTERVAL;VALUE=DURATION:PT1H
X-Robots-Tag:noindex
X-PUBLISHED-TTL:PT1H
BEGIN:VTIMEZONE
TZID:Europe/Lisbon
BEGIN:DAYLIGHT
TZOFFSETFROM:+0000
TZOFFSETTO:+0100
TZNAME:WEST
DTSTART:20280326T010000
END:DAYLIGHT
BEGIN:STANDARD
TZOFFSETFROM:+0100
TZOFFSETTO:+0000
TZNAME:WET
DTSTART:20281029T010000
END:STANDARD
BEGIN:DAYLIGHT
TZOFFSETFROM:+0000
TZOFFSETTO:+0100
TZNAME:WEST
DTSTART:20290325T010000
END:DAYLIGHT
BEGIN:STANDARD
TZOFFSETFROM:+0100
TZOFFSETTO:+0000
TZNAME:WET
DTSTART:20291028T010000
END:STANDARD
BEGIN:DAYLIGHT
TZOFFSETFROM:+0000
TZOFFSETTO:+0100
TZNAME:WEST
DTSTART:20300331T010000
END:DAYLIGHT
BEGIN:STANDARD
TZOFFSETFROM:+0100
TZOFFSETTO:+0000
TZNAME:WET
DTSTART:20301027T010000
END:STANDARD
END:VTIMEZONE
BEGIN:VEVENT
DTSTART;TZID=Europe/Lisbon:20290903T173000
DTEND;TZID=Europe/Lisbon:20290903T183000
DTSTAMP:20260420T051105
CREATED:20250708T093646Z
LAST-MODIFIED:20250708T094656Z
UID:10004946-1883151000-1883154600@www.collectivefitness.pt
SUMMARY:Strengh Club
DESCRIPTION:Develop strength\, power\, and muscular endurance in our 60-minute blend of weightlifting\, powerlifting\, ans strength athletics training.
URL:https://www.collectivefitness.pt/event/strengh-club/2029-09-03/
LOCATION:The Collective Fitness\, R. Prof. Sousa da Câmara 128 Loja C\, Lisboa\, Lisboa\, 1070-217\, Portugal
CATEGORIES:Strength Club
END:VEVENT
BEGIN:VEVENT
DTSTART;TZID=Europe/Lisbon:20290907T173000
DTEND;TZID=Europe/Lisbon:20290907T183000
DTSTAMP:20260420T051105
CREATED:20250708T173728Z
LAST-MODIFIED:20250717T145115Z
UID:10024607-1883496600-1883500200@www.collectivefitness.pt
SUMMARY:Strengh Club
DESCRIPTION:Develop strength\, power\, and muscular endurance in our 60-minute blend of weightlifting\, powerlifting\, ans strength athletics training.
URL:https://www.collectivefitness.pt/event/strengh-club-2/2029-09-07/
LOCATION:The Collective Fitness\, R. Prof. Sousa da Câmara 128 Loja C\, Lisboa\, Lisboa\, 1070-217\, Portugal
CATEGORIES:Strength Club
END:VEVENT
BEGIN:VEVENT
DTSTART;TZID=Europe/Lisbon:20290910T173000
DTEND;TZID=Europe/Lisbon:20290910T183000
DTSTAMP:20260420T051105
CREATED:20250708T093646Z
LAST-MODIFIED:20250708T094656Z
UID:10004947-1883755800-1883759400@www.collectivefitness.pt
SUMMARY:Strengh Club
DESCRIPTION:Develop strength\, power\, and muscular endurance in our 60-minute blend of weightlifting\, powerlifting\, ans strength athletics training.
URL:https://www.collectivefitness.pt/event/strengh-club/2029-09-10/
LOCATION:The Collective Fitness\, R. Prof. Sousa da Câmara 128 Loja C\, Lisboa\, Lisboa\, 1070-217\, Portugal
CATEGORIES:Strength Club
END:VEVENT
BEGIN:VEVENT
DTSTART;TZID=Europe/Lisbon:20290914T173000
DTEND;TZID=Europe/Lisbon:20290914T183000
DTSTAMP:20260420T051105
CREATED:20250708T173728Z
LAST-MODIFIED:20250717T145115Z
UID:10024608-1884101400-1884105000@www.collectivefitness.pt
SUMMARY:Strengh Club
DESCRIPTION:Develop strength\, power\, and muscular endurance in our 60-minute blend of weightlifting\, powerlifting\, ans strength athletics training.
URL:https://www.collectivefitness.pt/event/strengh-club-2/2029-09-14/
LOCATION:The Collective Fitness\, R. Prof. Sousa da Câmara 128 Loja C\, Lisboa\, Lisboa\, 1070-217\, Portugal
CATEGORIES:Strength Club
END:VEVENT
BEGIN:VEVENT
DTSTART;TZID=Europe/Lisbon:20290917T173000
DTEND;TZID=Europe/Lisbon:20290917T183000
DTSTAMP:20260420T051105
CREATED:20250708T093646Z
LAST-MODIFIED:20250708T094656Z
UID:10004948-1884360600-1884364200@www.collectivefitness.pt
SUMMARY:Strengh Club
DESCRIPTION:Develop strength\, power\, and muscular endurance in our 60-minute blend of weightlifting\, powerlifting\, ans strength athletics training.
URL:https://www.collectivefitness.pt/event/strengh-club/2029-09-17/
LOCATION:The Collective Fitness\, R. Prof. Sousa da Câmara 128 Loja C\, Lisboa\, Lisboa\, 1070-217\, Portugal
CATEGORIES:Strength Club
END:VEVENT
BEGIN:VEVENT
DTSTART;TZID=Europe/Lisbon:20290921T173000
DTEND;TZID=Europe/Lisbon:20290921T183000
DTSTAMP:20260420T051105
CREATED:20250708T173728Z
LAST-MODIFIED:20250717T145115Z
UID:10024609-1884706200-1884709800@www.collectivefitness.pt
SUMMARY:Strengh Club
DESCRIPTION:Develop strength\, power\, and muscular endurance in our 60-minute blend of weightlifting\, powerlifting\, ans strength athletics training.
URL:https://www.collectivefitness.pt/event/strengh-club-2/2029-09-21/
LOCATION:The Collective Fitness\, R. Prof. Sousa da Câmara 128 Loja C\, Lisboa\, Lisboa\, 1070-217\, Portugal
CATEGORIES:Strength Club
END:VEVENT
BEGIN:VEVENT
DTSTART;TZID=Europe/Lisbon:20290924T173000
DTEND;TZID=Europe/Lisbon:20290924T183000
DTSTAMP:20260420T051105
CREATED:20250708T093646Z
LAST-MODIFIED:20250708T094656Z
UID:10004949-1884965400-1884969000@www.collectivefitness.pt
SUMMARY:Strengh Club
DESCRIPTION:Develop strength\, power\, and muscular endurance in our 60-minute blend of weightlifting\, powerlifting\, ans strength athletics training.
URL:https://www.collectivefitness.pt/event/strengh-club/2029-09-24/
LOCATION:The Collective Fitness\, R. Prof. Sousa da Câmara 128 Loja C\, Lisboa\, Lisboa\, 1070-217\, Portugal
CATEGORIES:Strength Club
END:VEVENT
BEGIN:VEVENT
DTSTART;TZID=Europe/Lisbon:20290928T173000
DTEND;TZID=Europe/Lisbon:20290928T183000
DTSTAMP:20260420T051105
CREATED:20250708T173728Z
LAST-MODIFIED:20250717T145115Z
UID:10024610-1885311000-1885314600@www.collectivefitness.pt
SUMMARY:Strengh Club
DESCRIPTION:Develop strength\, power\, and muscular endurance in our 60-minute blend of weightlifting\, powerlifting\, ans strength athletics training.
URL:https://www.collectivefitness.pt/event/strengh-club-2/2029-09-28/
LOCATION:The Collective Fitness\, R. Prof. Sousa da Câmara 128 Loja C\, Lisboa\, Lisboa\, 1070-217\, Portugal
CATEGORIES:Strength Club
END:VEVENT
END:VCALENDAR