BEGIN:VCALENDAR
VERSION:2.0
PRODID:-//The collective fitness - ECPv6.15.16//NONSGML v1.0//EN
CALSCALE:GREGORIAN
METHOD:PUBLISH
X-WR-CALNAME:The collective fitness
X-ORIGINAL-URL:https://www.collectivefitness.pt
X-WR-CALDESC:Events for The collective fitness
REFRESH-INTERVAL;VALUE=DURATION:PT1H
X-Robots-Tag:noindex
X-PUBLISHED-TTL:PT1H
BEGIN:VTIMEZONE
TZID:Europe/Lisbon
BEGIN:DAYLIGHT
TZOFFSETFROM:+0000
TZOFFSETTO:+0100
TZNAME:WEST
DTSTART:20290325T010000
END:DAYLIGHT
BEGIN:STANDARD
TZOFFSETFROM:+0100
TZOFFSETTO:+0000
TZNAME:WET
DTSTART:20291028T010000
END:STANDARD
BEGIN:DAYLIGHT
TZOFFSETFROM:+0000
TZOFFSETTO:+0100
TZNAME:WEST
DTSTART:20300331T010000
END:DAYLIGHT
BEGIN:STANDARD
TZOFFSETFROM:+0100
TZOFFSETTO:+0000
TZNAME:WET
DTSTART:20301027T010000
END:STANDARD
BEGIN:DAYLIGHT
TZOFFSETFROM:+0000
TZOFFSETTO:+0100
TZNAME:WEST
DTSTART:20310330T010000
END:DAYLIGHT
BEGIN:STANDARD
TZOFFSETFROM:+0100
TZOFFSETTO:+0000
TZNAME:WET
DTSTART:20311026T010000
END:STANDARD
END:VTIMEZONE
BEGIN:VEVENT
DTSTART;TZID=Europe/Lisbon:20300603T104500
DTEND;TZID=Europe/Lisbon:20300603T123000
DTSTAMP:20260420T105656
CREATED:20250708T094513Z
LAST-MODIFIED:20260306T200400Z
UID:10030335-1906713900-1906720200@www.collectivefitness.pt
SUMMARY:Open Gym
DESCRIPTION:TRY IT NOW
URL:https://www.collectivefitness.pt/event/open-gym-3/2030-06-03/
LOCATION:The Collective Fitness\, R. Prof. Sousa da Câmara 128 Loja C\, Lisboa\, Lisboa\, 1070-217\, Portugal
CATEGORIES:Open Gym
END:VEVENT
BEGIN:VEVENT
DTSTART;TZID=Europe/Lisbon:20300603T143000
DTEND;TZID=Europe/Lisbon:20300603T173000
DTSTAMP:20260420T105656
CREATED:20250708T093507Z
LAST-MODIFIED:20250708T211954Z
UID:10004723-1906727400-1906738200@www.collectivefitness.pt
SUMMARY:Open Gym
DESCRIPTION:TRY IT NOW
URL:https://www.collectivefitness.pt/event/open-gym-2/2030-06-03/
LOCATION:The Collective Fitness\, R. Prof. Sousa da Câmara 128 Loja C\, Lisboa\, Lisboa\, 1070-217\, Portugal
CATEGORIES:Open Gym
END:VEVENT
BEGIN:VEVENT
DTSTART;TZID=Europe/Lisbon:20300604T084500
DTEND;TZID=Europe/Lisbon:20300604T123000
DTSTAMP:20260420T105656
CREATED:20250708T132212Z
LAST-MODIFIED:20250708T211822Z
UID:10006561-1906793100-1906806600@www.collectivefitness.pt
SUMMARY:Open Gym
DESCRIPTION:TRY IT NOW
URL:https://www.collectivefitness.pt/event/open-gym/2030-06-04/
LOCATION:The Collective Fitness\, R. Prof. Sousa da Câmara 128 Loja C\, Lisboa\, Lisboa\, 1070-217\, Portugal
CATEGORIES:Open Gym
END:VEVENT
BEGIN:VEVENT
DTSTART;TZID=Europe/Lisbon:20300604T143000
DTEND;TZID=Europe/Lisbon:20300604T173000
DTSTAMP:20260420T105656
CREATED:20250708T133029Z
LAST-MODIFIED:20250708T211747Z
UID:10008135-1906813800-1906824600@www.collectivefitness.pt
SUMMARY:Open Gym
DESCRIPTION:TRY IT NOW
URL:https://www.collectivefitness.pt/event/open-gym-4/2030-06-04/
LOCATION:The Collective Fitness\, R. Prof. Sousa da Câmara 128 Loja C\, Lisboa\, Lisboa\, 1070-217\, Portugal
CATEGORIES:Open Gym
END:VEVENT
BEGIN:VEVENT
DTSTART;TZID=Europe/Lisbon:20300605T100000
DTEND;TZID=Europe/Lisbon:20300605T123000
DTSTAMP:20260420T105656
CREATED:20250708T134807Z
LAST-MODIFIED:20250708T211701Z
UID:10011808-1906884000-1906893000@www.collectivefitness.pt
SUMMARY:Open Gym
DESCRIPTION:TRY IT NOW
URL:https://www.collectivefitness.pt/event/open-gym-5/2030-06-05/
LOCATION:The Collective Fitness\, R. Prof. Sousa da Câmara 128 Loja C\, Lisboa\, Lisboa\, 1070-217\, Portugal
CATEGORIES:Open Gym
END:VEVENT
BEGIN:VEVENT
DTSTART;TZID=Europe/Lisbon:20300605T143000
DTEND;TZID=Europe/Lisbon:20300605T173000
DTSTAMP:20260420T105656
CREATED:20250708T135057Z
LAST-MODIFIED:20250708T211612Z
UID:10013380-1906900200-1906911000@www.collectivefitness.pt
SUMMARY:Open Gym
DESCRIPTION:TRY IT NOW
URL:https://www.collectivefitness.pt/event/open-gym-6/2030-06-05/
LOCATION:The Collective Fitness\, R. Prof. Sousa da Câmara 128 Loja C\, Lisboa\, Lisboa\, 1070-217\, Portugal
CATEGORIES:Open Gym
END:VEVENT
BEGIN:VEVENT
DTSTART;TZID=Europe/Lisbon:20300606T093000
DTEND;TZID=Europe/Lisbon:20300606T123000
DTSTAMP:20260420T105656
CREATED:20250708T135609Z
LAST-MODIFIED:20260306T201047Z
UID:10030632-1906968600-1906979400@www.collectivefitness.pt
SUMMARY:Open Gym
DESCRIPTION:TRY IT NOW
URL:https://www.collectivefitness.pt/event/open-gym-7/2030-06-06/
LOCATION:The Collective Fitness\, R. Prof. Sousa da Câmara 128 Loja C\, Lisboa\, Lisboa\, 1070-217\, Portugal
CATEGORIES:Open Gym
END:VEVENT
BEGIN:VEVENT
DTSTART;TZID=Europe/Lisbon:20300606T143000
DTEND;TZID=Europe/Lisbon:20300606T173000
DTSTAMP:20260420T105656
CREATED:20250708T135857Z
LAST-MODIFIED:20250708T211359Z
UID:10018096-1906986600-1906997400@www.collectivefitness.pt
SUMMARY:Open Gym
DESCRIPTION:TRY IT NOW
URL:https://www.collectivefitness.pt/event/open-gym-8/2030-06-06/
LOCATION:The Collective Fitness\, R. Prof. Sousa da Câmara 128 Loja C\, Lisboa\, Lisboa\, 1070-217\, Portugal
CATEGORIES:Open Gym
END:VEVENT
BEGIN:VEVENT
DTSTART;TZID=Europe/Lisbon:20300607T104500
DTEND;TZID=Europe/Lisbon:20300607T123000
DTSTAMP:20260420T105656
CREATED:20250708T173449Z
LAST-MODIFIED:20260306T200930Z
UID:10031224-1907059500-1907065800@www.collectivefitness.pt
SUMMARY:Open Gym
DESCRIPTION:TRY IT NOW
URL:https://www.collectivefitness.pt/event/open-gym-9/2030-06-07/
LOCATION:The Collective Fitness\, R. Prof. Sousa da Câmara 128 Loja C\, Lisboa\, Lisboa\, 1070-217\, Portugal
CATEGORIES:Open Gym
END:VEVENT
BEGIN:VEVENT
DTSTART;TZID=Europe/Lisbon:20300607T143000
DTEND;TZID=Europe/Lisbon:20300607T173000
DTSTAMP:20260420T105656
CREATED:20250708T173610Z
LAST-MODIFIED:20250708T210749Z
UID:10023859-1907073000-1907083800@www.collectivefitness.pt
SUMMARY:Open Gym
DESCRIPTION:TRY IT NOW
URL:https://www.collectivefitness.pt/event/open-gym-10/2030-06-07/
LOCATION:The Collective Fitness\, R. Prof. Sousa da Câmara 128 Loja C\, Lisboa\, Lisboa\, 1070-217\, Portugal
CATEGORIES:Open Gym
END:VEVENT
BEGIN:VEVENT
DTSTART;TZID=Europe/Lisbon:20300608T123000
DTEND;TZID=Europe/Lisbon:20300608T143000
DTSTAMP:20260420T105656
CREATED:20250708T181609Z
LAST-MODIFIED:20250708T210709Z
UID:10027793-1907152200-1907159400@www.collectivefitness.pt
SUMMARY:Open Gym
DESCRIPTION:TRY IT NOW
URL:https://www.collectivefitness.pt/event/open-gym-11/2030-06-08/
LOCATION:The Collective Fitness\, R. Prof. Sousa da Câmara 128 Loja C\, Lisboa\, Lisboa\, 1070-217\, Portugal
CATEGORIES:Open Gym
END:VEVENT
BEGIN:VEVENT
DTSTART;TZID=Europe/Lisbon:20300609T090000
DTEND;TZID=Europe/Lisbon:20300609T143000
DTSTAMP:20260420T105656
CREATED:20250708T181713Z
LAST-MODIFIED:20250708T210549Z
UID:10028317-1907226000-1907245800@www.collectivefitness.pt
SUMMARY:Open Gym
DESCRIPTION:TRY IT NOW
URL:https://www.collectivefitness.pt/event/open-gym-12/2030-06-09/
LOCATION:The Collective Fitness\, R. Prof. Sousa da Câmara 128 Loja C\, Lisboa\, Lisboa\, 1070-217\, Portugal
CATEGORIES:Open Gym
END:VEVENT
END:VCALENDAR