BEGIN:VCALENDAR
VERSION:2.0
PRODID:-//The collective fitness - ECPv6.15.16//NONSGML v1.0//EN
CALSCALE:GREGORIAN
METHOD:PUBLISH
X-ORIGINAL-URL:https://www.collectivefitness.pt
X-WR-CALDESC:Events for The collective fitness
REFRESH-INTERVAL;VALUE=DURATION:PT1H
X-Robots-Tag:noindex
X-PUBLISHED-TTL:PT1H
BEGIN:VTIMEZONE
TZID:Europe/Lisbon
BEGIN:DAYLIGHT
TZOFFSETFROM:+0000
TZOFFSETTO:+0100
TZNAME:WEST
DTSTART:20280326T010000
END:DAYLIGHT
BEGIN:STANDARD
TZOFFSETFROM:+0100
TZOFFSETTO:+0000
TZNAME:WET
DTSTART:20281029T010000
END:STANDARD
BEGIN:DAYLIGHT
TZOFFSETFROM:+0000
TZOFFSETTO:+0100
TZNAME:WEST
DTSTART:20290325T010000
END:DAYLIGHT
BEGIN:STANDARD
TZOFFSETFROM:+0100
TZOFFSETTO:+0000
TZNAME:WET
DTSTART:20291028T010000
END:STANDARD
BEGIN:DAYLIGHT
TZOFFSETFROM:+0000
TZOFFSETTO:+0100
TZNAME:WEST
DTSTART:20300331T010000
END:DAYLIGHT
BEGIN:STANDARD
TZOFFSETFROM:+0100
TZOFFSETTO:+0000
TZNAME:WET
DTSTART:20301027T010000
END:STANDARD
END:VTIMEZONE
BEGIN:VEVENT
DTSTART;TZID=Europe/Lisbon:20290521T104500
DTEND;TZID=Europe/Lisbon:20290521T123000
DTSTAMP:20260419T143622
CREATED:20250708T094513Z
LAST-MODIFIED:20260306T200400Z
UID:10030281-1874054700-1874061000@www.collectivefitness.pt
SUMMARY:Open Gym
DESCRIPTION:TRY IT NOW
URL:https://www.collectivefitness.pt/event/open-gym-3/2029-05-21/
LOCATION:The Collective Fitness\, R. Prof. Sousa da Câmara 128 Loja C\, Lisboa\, Lisboa\, 1070-217\, Portugal
CATEGORIES:Open Gym
END:VEVENT
BEGIN:VEVENT
DTSTART;TZID=Europe/Lisbon:20290521T143000
DTEND;TZID=Europe/Lisbon:20290521T173000
DTSTAMP:20260419T143622
CREATED:20250708T093507Z
LAST-MODIFIED:20250708T211954Z
UID:10004669-1874068200-1874079000@www.collectivefitness.pt
SUMMARY:Open Gym
DESCRIPTION:TRY IT NOW
URL:https://www.collectivefitness.pt/event/open-gym-2/2029-05-21/
LOCATION:The Collective Fitness\, R. Prof. Sousa da Câmara 128 Loja C\, Lisboa\, Lisboa\, 1070-217\, Portugal
CATEGORIES:Open Gym
END:VEVENT
BEGIN:VEVENT
DTSTART;TZID=Europe/Lisbon:20290522T084500
DTEND;TZID=Europe/Lisbon:20290522T123000
DTSTAMP:20260419T143622
CREATED:20250708T132212Z
LAST-MODIFIED:20250708T211822Z
UID:10006507-1874133900-1874147400@www.collectivefitness.pt
SUMMARY:Open Gym
DESCRIPTION:TRY IT NOW
URL:https://www.collectivefitness.pt/event/open-gym/2029-05-22/
LOCATION:The Collective Fitness\, R. Prof. Sousa da Câmara 128 Loja C\, Lisboa\, Lisboa\, 1070-217\, Portugal
CATEGORIES:Open Gym
END:VEVENT
BEGIN:VEVENT
DTSTART;TZID=Europe/Lisbon:20290522T143000
DTEND;TZID=Europe/Lisbon:20290522T173000
DTSTAMP:20260419T143622
CREATED:20250708T133029Z
LAST-MODIFIED:20250708T211747Z
UID:10008081-1874154600-1874165400@www.collectivefitness.pt
SUMMARY:Open Gym
DESCRIPTION:TRY IT NOW
URL:https://www.collectivefitness.pt/event/open-gym-4/2029-05-22/
LOCATION:The Collective Fitness\, R. Prof. Sousa da Câmara 128 Loja C\, Lisboa\, Lisboa\, 1070-217\, Portugal
CATEGORIES:Open Gym
END:VEVENT
BEGIN:VEVENT
DTSTART;TZID=Europe/Lisbon:20290523T100000
DTEND;TZID=Europe/Lisbon:20290523T123000
DTSTAMP:20260419T143622
CREATED:20250708T134807Z
LAST-MODIFIED:20250708T211701Z
UID:10011754-1874224800-1874233800@www.collectivefitness.pt
SUMMARY:Open Gym
DESCRIPTION:TRY IT NOW
URL:https://www.collectivefitness.pt/event/open-gym-5/2029-05-23/
LOCATION:The Collective Fitness\, R. Prof. Sousa da Câmara 128 Loja C\, Lisboa\, Lisboa\, 1070-217\, Portugal
CATEGORIES:Open Gym
END:VEVENT
BEGIN:VEVENT
DTSTART;TZID=Europe/Lisbon:20290523T143000
DTEND;TZID=Europe/Lisbon:20290523T173000
DTSTAMP:20260419T143622
CREATED:20250708T135057Z
LAST-MODIFIED:20250708T211612Z
UID:10013326-1874241000-1874251800@www.collectivefitness.pt
SUMMARY:Open Gym
DESCRIPTION:TRY IT NOW
URL:https://www.collectivefitness.pt/event/open-gym-6/2029-05-23/
LOCATION:The Collective Fitness\, R. Prof. Sousa da Câmara 128 Loja C\, Lisboa\, Lisboa\, 1070-217\, Portugal
CATEGORIES:Open Gym
END:VEVENT
BEGIN:VEVENT
DTSTART;TZID=Europe/Lisbon:20290524T093000
DTEND;TZID=Europe/Lisbon:20290524T123000
DTSTAMP:20260419T143622
CREATED:20250708T135609Z
LAST-MODIFIED:20260306T201047Z
UID:10030578-1874309400-1874320200@www.collectivefitness.pt
SUMMARY:Open Gym
DESCRIPTION:TRY IT NOW
URL:https://www.collectivefitness.pt/event/open-gym-7/2029-05-24/
LOCATION:The Collective Fitness\, R. Prof. Sousa da Câmara 128 Loja C\, Lisboa\, Lisboa\, 1070-217\, Portugal
CATEGORIES:Open Gym
END:VEVENT
BEGIN:VEVENT
DTSTART;TZID=Europe/Lisbon:20290524T143000
DTEND;TZID=Europe/Lisbon:20290524T173000
DTSTAMP:20260419T143622
CREATED:20250708T135857Z
LAST-MODIFIED:20250708T211359Z
UID:10018042-1874327400-1874338200@www.collectivefitness.pt
SUMMARY:Open Gym
DESCRIPTION:TRY IT NOW
URL:https://www.collectivefitness.pt/event/open-gym-8/2029-05-24/
LOCATION:The Collective Fitness\, R. Prof. Sousa da Câmara 128 Loja C\, Lisboa\, Lisboa\, 1070-217\, Portugal
CATEGORIES:Open Gym
END:VEVENT
BEGIN:VEVENT
DTSTART;TZID=Europe/Lisbon:20290525T104500
DTEND;TZID=Europe/Lisbon:20290525T123000
DTSTAMP:20260419T143622
CREATED:20250708T173449Z
LAST-MODIFIED:20260306T200930Z
UID:10031170-1874400300-1874406600@www.collectivefitness.pt
SUMMARY:Open Gym
DESCRIPTION:TRY IT NOW
URL:https://www.collectivefitness.pt/event/open-gym-9/2029-05-25/
LOCATION:The Collective Fitness\, R. Prof. Sousa da Câmara 128 Loja C\, Lisboa\, Lisboa\, 1070-217\, Portugal
CATEGORIES:Open Gym
END:VEVENT
BEGIN:VEVENT
DTSTART;TZID=Europe/Lisbon:20290525T143000
DTEND;TZID=Europe/Lisbon:20290525T173000
DTSTAMP:20260419T143622
CREATED:20250708T173610Z
LAST-MODIFIED:20250708T210749Z
UID:10023805-1874413800-1874424600@www.collectivefitness.pt
SUMMARY:Open Gym
DESCRIPTION:TRY IT NOW
URL:https://www.collectivefitness.pt/event/open-gym-10/2029-05-25/
LOCATION:The Collective Fitness\, R. Prof. Sousa da Câmara 128 Loja C\, Lisboa\, Lisboa\, 1070-217\, Portugal
CATEGORIES:Open Gym
END:VEVENT
BEGIN:VEVENT
DTSTART;TZID=Europe/Lisbon:20290526T123000
DTEND;TZID=Europe/Lisbon:20290526T143000
DTSTAMP:20260419T143622
CREATED:20250708T181609Z
LAST-MODIFIED:20250708T210709Z
UID:10027739-1874493000-1874500200@www.collectivefitness.pt
SUMMARY:Open Gym
DESCRIPTION:TRY IT NOW
URL:https://www.collectivefitness.pt/event/open-gym-11/2029-05-26/
LOCATION:The Collective Fitness\, R. Prof. Sousa da Câmara 128 Loja C\, Lisboa\, Lisboa\, 1070-217\, Portugal
CATEGORIES:Open Gym
END:VEVENT
BEGIN:VEVENT
DTSTART;TZID=Europe/Lisbon:20290527T090000
DTEND;TZID=Europe/Lisbon:20290527T143000
DTSTAMP:20260419T143622
CREATED:20250708T181713Z
LAST-MODIFIED:20250708T210549Z
UID:10028263-1874566800-1874586600@www.collectivefitness.pt
SUMMARY:Open Gym
DESCRIPTION:TRY IT NOW
URL:https://www.collectivefitness.pt/event/open-gym-12/2029-05-27/
LOCATION:The Collective Fitness\, R. Prof. Sousa da Câmara 128 Loja C\, Lisboa\, Lisboa\, 1070-217\, Portugal
CATEGORIES:Open Gym
END:VEVENT
END:VCALENDAR