BEGIN:VCALENDAR
VERSION:2.0
PRODID:-//The collective fitness - ECPv6.15.16//NONSGML v1.0//EN
CALSCALE:GREGORIAN
METHOD:PUBLISH
X-ORIGINAL-URL:https://www.collectivefitness.pt
X-WR-CALDESC:Events for The collective fitness
REFRESH-INTERVAL;VALUE=DURATION:PT1H
X-Robots-Tag:noindex
X-PUBLISHED-TTL:PT1H
BEGIN:VTIMEZONE
TZID:Europe/Lisbon
BEGIN:DAYLIGHT
TZOFFSETFROM:+0000
TZOFFSETTO:+0100
TZNAME:WEST
DTSTART:20290325T010000
END:DAYLIGHT
BEGIN:STANDARD
TZOFFSETFROM:+0100
TZOFFSETTO:+0000
TZNAME:WET
DTSTART:20291028T010000
END:STANDARD
BEGIN:DAYLIGHT
TZOFFSETFROM:+0000
TZOFFSETTO:+0100
TZNAME:WEST
DTSTART:20300331T010000
END:DAYLIGHT
BEGIN:STANDARD
TZOFFSETFROM:+0100
TZOFFSETTO:+0000
TZNAME:WET
DTSTART:20301027T010000
END:STANDARD
BEGIN:DAYLIGHT
TZOFFSETFROM:+0000
TZOFFSETTO:+0100
TZNAME:WEST
DTSTART:20310330T010000
END:DAYLIGHT
BEGIN:STANDARD
TZOFFSETFROM:+0100
TZOFFSETTO:+0000
TZNAME:WET
DTSTART:20311026T010000
END:STANDARD
END:VTIMEZONE
BEGIN:VEVENT
DTSTART;TZID=Europe/Lisbon:20300501T100000
DTEND;TZID=Europe/Lisbon:20300501T123000
DTSTAMP:20260420T064054
CREATED:20250708T134807Z
LAST-MODIFIED:20250708T211701Z
UID:10011803-1903860000-1903869000@www.collectivefitness.pt
SUMMARY:Open Gym
DESCRIPTION:TRY IT NOW
URL:https://www.collectivefitness.pt/event/open-gym-5/2030-05-01/
LOCATION:The Collective Fitness\, R. Prof. Sousa da Câmara 128 Loja C\, Lisboa\, Lisboa\, 1070-217\, Portugal
CATEGORIES:Open Gym
END:VEVENT
BEGIN:VEVENT
DTSTART;TZID=Europe/Lisbon:20300501T143000
DTEND;TZID=Europe/Lisbon:20300501T173000
DTSTAMP:20260420T064054
CREATED:20250708T135057Z
LAST-MODIFIED:20250708T211612Z
UID:10013375-1903876200-1903887000@www.collectivefitness.pt
SUMMARY:Open Gym
DESCRIPTION:TRY IT NOW
URL:https://www.collectivefitness.pt/event/open-gym-6/2030-05-01/
LOCATION:The Collective Fitness\, R. Prof. Sousa da Câmara 128 Loja C\, Lisboa\, Lisboa\, 1070-217\, Portugal
CATEGORIES:Open Gym
END:VEVENT
BEGIN:VEVENT
DTSTART;TZID=Europe/Lisbon:20300502T093000
DTEND;TZID=Europe/Lisbon:20300502T123000
DTSTAMP:20260420T064054
CREATED:20250708T135609Z
LAST-MODIFIED:20260306T201047Z
UID:10030627-1903944600-1903955400@www.collectivefitness.pt
SUMMARY:Open Gym
DESCRIPTION:TRY IT NOW
URL:https://www.collectivefitness.pt/event/open-gym-7/2030-05-02/
LOCATION:The Collective Fitness\, R. Prof. Sousa da Câmara 128 Loja C\, Lisboa\, Lisboa\, 1070-217\, Portugal
CATEGORIES:Open Gym
END:VEVENT
BEGIN:VEVENT
DTSTART;TZID=Europe/Lisbon:20300502T143000
DTEND;TZID=Europe/Lisbon:20300502T173000
DTSTAMP:20260420T064054
CREATED:20250708T135857Z
LAST-MODIFIED:20250708T211359Z
UID:10018091-1903962600-1903973400@www.collectivefitness.pt
SUMMARY:Open Gym
DESCRIPTION:TRY IT NOW
URL:https://www.collectivefitness.pt/event/open-gym-8/2030-05-02/
LOCATION:The Collective Fitness\, R. Prof. Sousa da Câmara 128 Loja C\, Lisboa\, Lisboa\, 1070-217\, Portugal
CATEGORIES:Open Gym
END:VEVENT
BEGIN:VEVENT
DTSTART;TZID=Europe/Lisbon:20300503T104500
DTEND;TZID=Europe/Lisbon:20300503T123000
DTSTAMP:20260420T064054
CREATED:20250708T173449Z
LAST-MODIFIED:20260306T200930Z
UID:10031219-1904035500-1904041800@www.collectivefitness.pt
SUMMARY:Open Gym
DESCRIPTION:TRY IT NOW
URL:https://www.collectivefitness.pt/event/open-gym-9/2030-05-03/
LOCATION:The Collective Fitness\, R. Prof. Sousa da Câmara 128 Loja C\, Lisboa\, Lisboa\, 1070-217\, Portugal
CATEGORIES:Open Gym
END:VEVENT
BEGIN:VEVENT
DTSTART;TZID=Europe/Lisbon:20300503T143000
DTEND;TZID=Europe/Lisbon:20300503T173000
DTSTAMP:20260420T064054
CREATED:20250708T173610Z
LAST-MODIFIED:20250708T210749Z
UID:10023854-1904049000-1904059800@www.collectivefitness.pt
SUMMARY:Open Gym
DESCRIPTION:TRY IT NOW
URL:https://www.collectivefitness.pt/event/open-gym-10/2030-05-03/
LOCATION:The Collective Fitness\, R. Prof. Sousa da Câmara 128 Loja C\, Lisboa\, Lisboa\, 1070-217\, Portugal
CATEGORIES:Open Gym
END:VEVENT
BEGIN:VEVENT
DTSTART;TZID=Europe/Lisbon:20300504T123000
DTEND;TZID=Europe/Lisbon:20300504T143000
DTSTAMP:20260420T064054
CREATED:20250708T181609Z
LAST-MODIFIED:20250708T210709Z
UID:10027788-1904128200-1904135400@www.collectivefitness.pt
SUMMARY:Open Gym
DESCRIPTION:TRY IT NOW
URL:https://www.collectivefitness.pt/event/open-gym-11/2030-05-04/
LOCATION:The Collective Fitness\, R. Prof. Sousa da Câmara 128 Loja C\, Lisboa\, Lisboa\, 1070-217\, Portugal
CATEGORIES:Open Gym
END:VEVENT
BEGIN:VEVENT
DTSTART;TZID=Europe/Lisbon:20300505T090000
DTEND;TZID=Europe/Lisbon:20300505T143000
DTSTAMP:20260420T064054
CREATED:20250708T181713Z
LAST-MODIFIED:20250708T210549Z
UID:10028312-1904202000-1904221800@www.collectivefitness.pt
SUMMARY:Open Gym
DESCRIPTION:TRY IT NOW
URL:https://www.collectivefitness.pt/event/open-gym-12/2030-05-05/
LOCATION:The Collective Fitness\, R. Prof. Sousa da Câmara 128 Loja C\, Lisboa\, Lisboa\, 1070-217\, Portugal
CATEGORIES:Open Gym
END:VEVENT
BEGIN:VEVENT
DTSTART;TZID=Europe/Lisbon:20300506T104500
DTEND;TZID=Europe/Lisbon:20300506T123000
DTSTAMP:20260420T064054
CREATED:20250708T094513Z
LAST-MODIFIED:20260306T200400Z
UID:10030331-1904294700-1904301000@www.collectivefitness.pt
SUMMARY:Open Gym
DESCRIPTION:TRY IT NOW
URL:https://www.collectivefitness.pt/event/open-gym-3/2030-05-06/
LOCATION:The Collective Fitness\, R. Prof. Sousa da Câmara 128 Loja C\, Lisboa\, Lisboa\, 1070-217\, Portugal
CATEGORIES:Open Gym
END:VEVENT
BEGIN:VEVENT
DTSTART;TZID=Europe/Lisbon:20300506T143000
DTEND;TZID=Europe/Lisbon:20300506T173000
DTSTAMP:20260420T064054
CREATED:20250708T093507Z
LAST-MODIFIED:20250708T211954Z
UID:10004719-1904308200-1904319000@www.collectivefitness.pt
SUMMARY:Open Gym
DESCRIPTION:TRY IT NOW
URL:https://www.collectivefitness.pt/event/open-gym-2/2030-05-06/
LOCATION:The Collective Fitness\, R. Prof. Sousa da Câmara 128 Loja C\, Lisboa\, Lisboa\, 1070-217\, Portugal
CATEGORIES:Open Gym
END:VEVENT
BEGIN:VEVENT
DTSTART;TZID=Europe/Lisbon:20300507T084500
DTEND;TZID=Europe/Lisbon:20300507T123000
DTSTAMP:20260420T064054
CREATED:20250708T132212Z
LAST-MODIFIED:20250708T211822Z
UID:10006557-1904373900-1904387400@www.collectivefitness.pt
SUMMARY:Open Gym
DESCRIPTION:TRY IT NOW
URL:https://www.collectivefitness.pt/event/open-gym/2030-05-07/
LOCATION:The Collective Fitness\, R. Prof. Sousa da Câmara 128 Loja C\, Lisboa\, Lisboa\, 1070-217\, Portugal
CATEGORIES:Open Gym
END:VEVENT
BEGIN:VEVENT
DTSTART;TZID=Europe/Lisbon:20300507T143000
DTEND;TZID=Europe/Lisbon:20300507T173000
DTSTAMP:20260420T064054
CREATED:20250708T133029Z
LAST-MODIFIED:20250708T211747Z
UID:10008131-1904394600-1904405400@www.collectivefitness.pt
SUMMARY:Open Gym
DESCRIPTION:TRY IT NOW
URL:https://www.collectivefitness.pt/event/open-gym-4/2030-05-07/
LOCATION:The Collective Fitness\, R. Prof. Sousa da Câmara 128 Loja C\, Lisboa\, Lisboa\, 1070-217\, Portugal
CATEGORIES:Open Gym
END:VEVENT
BEGIN:VEVENT
DTSTART;TZID=Europe/Lisbon:20300508T100000
DTEND;TZID=Europe/Lisbon:20300508T123000
DTSTAMP:20260420T064054
CREATED:20250708T134807Z
LAST-MODIFIED:20250708T211701Z
UID:10011804-1904464800-1904473800@www.collectivefitness.pt
SUMMARY:Open Gym
DESCRIPTION:TRY IT NOW
URL:https://www.collectivefitness.pt/event/open-gym-5/2030-05-08/
LOCATION:The Collective Fitness\, R. Prof. Sousa da Câmara 128 Loja C\, Lisboa\, Lisboa\, 1070-217\, Portugal
CATEGORIES:Open Gym
END:VEVENT
BEGIN:VEVENT
DTSTART;TZID=Europe/Lisbon:20300508T143000
DTEND;TZID=Europe/Lisbon:20300508T173000
DTSTAMP:20260420T064054
CREATED:20250708T135057Z
LAST-MODIFIED:20250708T211612Z
UID:10013376-1904481000-1904491800@www.collectivefitness.pt
SUMMARY:Open Gym
DESCRIPTION:TRY IT NOW
URL:https://www.collectivefitness.pt/event/open-gym-6/2030-05-08/
LOCATION:The Collective Fitness\, R. Prof. Sousa da Câmara 128 Loja C\, Lisboa\, Lisboa\, 1070-217\, Portugal
CATEGORIES:Open Gym
END:VEVENT
BEGIN:VEVENT
DTSTART;TZID=Europe/Lisbon:20300509T093000
DTEND;TZID=Europe/Lisbon:20300509T123000
DTSTAMP:20260420T064055
CREATED:20250708T135609Z
LAST-MODIFIED:20260306T201047Z
UID:10030628-1904549400-1904560200@www.collectivefitness.pt
SUMMARY:Open Gym
DESCRIPTION:TRY IT NOW
URL:https://www.collectivefitness.pt/event/open-gym-7/2030-05-09/
LOCATION:The Collective Fitness\, R. Prof. Sousa da Câmara 128 Loja C\, Lisboa\, Lisboa\, 1070-217\, Portugal
CATEGORIES:Open Gym
END:VEVENT
BEGIN:VEVENT
DTSTART;TZID=Europe/Lisbon:20300509T143000
DTEND;TZID=Europe/Lisbon:20300509T173000
DTSTAMP:20260420T064055
CREATED:20250708T135857Z
LAST-MODIFIED:20250708T211359Z
UID:10018092-1904567400-1904578200@www.collectivefitness.pt
SUMMARY:Open Gym
DESCRIPTION:TRY IT NOW
URL:https://www.collectivefitness.pt/event/open-gym-8/2030-05-09/
LOCATION:The Collective Fitness\, R. Prof. Sousa da Câmara 128 Loja C\, Lisboa\, Lisboa\, 1070-217\, Portugal
CATEGORIES:Open Gym
END:VEVENT
BEGIN:VEVENT
DTSTART;TZID=Europe/Lisbon:20300510T104500
DTEND;TZID=Europe/Lisbon:20300510T123000
DTSTAMP:20260420T064055
CREATED:20250708T173449Z
LAST-MODIFIED:20260306T200930Z
UID:10031220-1904640300-1904646600@www.collectivefitness.pt
SUMMARY:Open Gym
DESCRIPTION:TRY IT NOW
URL:https://www.collectivefitness.pt/event/open-gym-9/2030-05-10/
LOCATION:The Collective Fitness\, R. Prof. Sousa da Câmara 128 Loja C\, Lisboa\, Lisboa\, 1070-217\, Portugal
CATEGORIES:Open Gym
END:VEVENT
BEGIN:VEVENT
DTSTART;TZID=Europe/Lisbon:20300510T143000
DTEND;TZID=Europe/Lisbon:20300510T173000
DTSTAMP:20260420T064055
CREATED:20250708T173610Z
LAST-MODIFIED:20250708T210749Z
UID:10023855-1904653800-1904664600@www.collectivefitness.pt
SUMMARY:Open Gym
DESCRIPTION:TRY IT NOW
URL:https://www.collectivefitness.pt/event/open-gym-10/2030-05-10/
LOCATION:The Collective Fitness\, R. Prof. Sousa da Câmara 128 Loja C\, Lisboa\, Lisboa\, 1070-217\, Portugal
CATEGORIES:Open Gym
END:VEVENT
BEGIN:VEVENT
DTSTART;TZID=Europe/Lisbon:20300511T123000
DTEND;TZID=Europe/Lisbon:20300511T143000
DTSTAMP:20260420T064055
CREATED:20250708T181609Z
LAST-MODIFIED:20250708T210709Z
UID:10027789-1904733000-1904740200@www.collectivefitness.pt
SUMMARY:Open Gym
DESCRIPTION:TRY IT NOW
URL:https://www.collectivefitness.pt/event/open-gym-11/2030-05-11/
LOCATION:The Collective Fitness\, R. Prof. Sousa da Câmara 128 Loja C\, Lisboa\, Lisboa\, 1070-217\, Portugal
CATEGORIES:Open Gym
END:VEVENT
BEGIN:VEVENT
DTSTART;TZID=Europe/Lisbon:20300512T090000
DTEND;TZID=Europe/Lisbon:20300512T143000
DTSTAMP:20260420T064055
CREATED:20250708T181713Z
LAST-MODIFIED:20250708T210549Z
UID:10028313-1904806800-1904826600@www.collectivefitness.pt
SUMMARY:Open Gym
DESCRIPTION:TRY IT NOW
URL:https://www.collectivefitness.pt/event/open-gym-12/2030-05-12/
LOCATION:The Collective Fitness\, R. Prof. Sousa da Câmara 128 Loja C\, Lisboa\, Lisboa\, 1070-217\, Portugal
CATEGORIES:Open Gym
END:VEVENT
BEGIN:VEVENT
DTSTART;TZID=Europe/Lisbon:20300513T104500
DTEND;TZID=Europe/Lisbon:20300513T123000
DTSTAMP:20260420T064055
CREATED:20250708T094513Z
LAST-MODIFIED:20260306T200400Z
UID:10030332-1904899500-1904905800@www.collectivefitness.pt
SUMMARY:Open Gym
DESCRIPTION:TRY IT NOW
URL:https://www.collectivefitness.pt/event/open-gym-3/2030-05-13/
LOCATION:The Collective Fitness\, R. Prof. Sousa da Câmara 128 Loja C\, Lisboa\, Lisboa\, 1070-217\, Portugal
CATEGORIES:Open Gym
END:VEVENT
BEGIN:VEVENT
DTSTART;TZID=Europe/Lisbon:20300513T143000
DTEND;TZID=Europe/Lisbon:20300513T173000
DTSTAMP:20260420T064055
CREATED:20250708T093507Z
LAST-MODIFIED:20250708T211954Z
UID:10004720-1904913000-1904923800@www.collectivefitness.pt
SUMMARY:Open Gym
DESCRIPTION:TRY IT NOW
URL:https://www.collectivefitness.pt/event/open-gym-2/2030-05-13/
LOCATION:The Collective Fitness\, R. Prof. Sousa da Câmara 128 Loja C\, Lisboa\, Lisboa\, 1070-217\, Portugal
CATEGORIES:Open Gym
END:VEVENT
BEGIN:VEVENT
DTSTART;TZID=Europe/Lisbon:20300514T084500
DTEND;TZID=Europe/Lisbon:20300514T123000
DTSTAMP:20260420T064055
CREATED:20250708T132212Z
LAST-MODIFIED:20250708T211822Z
UID:10006558-1904978700-1904992200@www.collectivefitness.pt
SUMMARY:Open Gym
DESCRIPTION:TRY IT NOW
URL:https://www.collectivefitness.pt/event/open-gym/2030-05-14/
LOCATION:The Collective Fitness\, R. Prof. Sousa da Câmara 128 Loja C\, Lisboa\, Lisboa\, 1070-217\, Portugal
CATEGORIES:Open Gym
END:VEVENT
BEGIN:VEVENT
DTSTART;TZID=Europe/Lisbon:20300514T143000
DTEND;TZID=Europe/Lisbon:20300514T173000
DTSTAMP:20260420T064055
CREATED:20250708T133029Z
LAST-MODIFIED:20250708T211747Z
UID:10008132-1904999400-1905010200@www.collectivefitness.pt
SUMMARY:Open Gym
DESCRIPTION:TRY IT NOW
URL:https://www.collectivefitness.pt/event/open-gym-4/2030-05-14/
LOCATION:The Collective Fitness\, R. Prof. Sousa da Câmara 128 Loja C\, Lisboa\, Lisboa\, 1070-217\, Portugal
CATEGORIES:Open Gym
END:VEVENT
BEGIN:VEVENT
DTSTART;TZID=Europe/Lisbon:20300515T100000
DTEND;TZID=Europe/Lisbon:20300515T123000
DTSTAMP:20260420T064055
CREATED:20250708T134807Z
LAST-MODIFIED:20250708T211701Z
UID:10011805-1905069600-1905078600@www.collectivefitness.pt
SUMMARY:Open Gym
DESCRIPTION:TRY IT NOW
URL:https://www.collectivefitness.pt/event/open-gym-5/2030-05-15/
LOCATION:The Collective Fitness\, R. Prof. Sousa da Câmara 128 Loja C\, Lisboa\, Lisboa\, 1070-217\, Portugal
CATEGORIES:Open Gym
END:VEVENT
BEGIN:VEVENT
DTSTART;TZID=Europe/Lisbon:20300515T143000
DTEND;TZID=Europe/Lisbon:20300515T173000
DTSTAMP:20260420T064055
CREATED:20250708T135057Z
LAST-MODIFIED:20250708T211612Z
UID:10013377-1905085800-1905096600@www.collectivefitness.pt
SUMMARY:Open Gym
DESCRIPTION:TRY IT NOW
URL:https://www.collectivefitness.pt/event/open-gym-6/2030-05-15/
LOCATION:The Collective Fitness\, R. Prof. Sousa da Câmara 128 Loja C\, Lisboa\, Lisboa\, 1070-217\, Portugal
CATEGORIES:Open Gym
END:VEVENT
BEGIN:VEVENT
DTSTART;TZID=Europe/Lisbon:20300516T093000
DTEND;TZID=Europe/Lisbon:20300516T123000
DTSTAMP:20260420T064055
CREATED:20250708T135609Z
LAST-MODIFIED:20260306T201047Z
UID:10030629-1905154200-1905165000@www.collectivefitness.pt
SUMMARY:Open Gym
DESCRIPTION:TRY IT NOW
URL:https://www.collectivefitness.pt/event/open-gym-7/2030-05-16/
LOCATION:The Collective Fitness\, R. Prof. Sousa da Câmara 128 Loja C\, Lisboa\, Lisboa\, 1070-217\, Portugal
CATEGORIES:Open Gym
END:VEVENT
BEGIN:VEVENT
DTSTART;TZID=Europe/Lisbon:20300516T143000
DTEND;TZID=Europe/Lisbon:20300516T173000
DTSTAMP:20260420T064055
CREATED:20250708T135857Z
LAST-MODIFIED:20250708T211359Z
UID:10018093-1905172200-1905183000@www.collectivefitness.pt
SUMMARY:Open Gym
DESCRIPTION:TRY IT NOW
URL:https://www.collectivefitness.pt/event/open-gym-8/2030-05-16/
LOCATION:The Collective Fitness\, R. Prof. Sousa da Câmara 128 Loja C\, Lisboa\, Lisboa\, 1070-217\, Portugal
CATEGORIES:Open Gym
END:VEVENT
BEGIN:VEVENT
DTSTART;TZID=Europe/Lisbon:20300517T104500
DTEND;TZID=Europe/Lisbon:20300517T123000
DTSTAMP:20260420T064055
CREATED:20250708T173449Z
LAST-MODIFIED:20260306T200930Z
UID:10031221-1905245100-1905251400@www.collectivefitness.pt
SUMMARY:Open Gym
DESCRIPTION:TRY IT NOW
URL:https://www.collectivefitness.pt/event/open-gym-9/2030-05-17/
LOCATION:The Collective Fitness\, R. Prof. Sousa da Câmara 128 Loja C\, Lisboa\, Lisboa\, 1070-217\, Portugal
CATEGORIES:Open Gym
END:VEVENT
BEGIN:VEVENT
DTSTART;TZID=Europe/Lisbon:20300517T143000
DTEND;TZID=Europe/Lisbon:20300517T173000
DTSTAMP:20260420T064055
CREATED:20250708T173610Z
LAST-MODIFIED:20250708T210749Z
UID:10023856-1905258600-1905269400@www.collectivefitness.pt
SUMMARY:Open Gym
DESCRIPTION:TRY IT NOW
URL:https://www.collectivefitness.pt/event/open-gym-10/2030-05-17/
LOCATION:The Collective Fitness\, R. Prof. Sousa da Câmara 128 Loja C\, Lisboa\, Lisboa\, 1070-217\, Portugal
CATEGORIES:Open Gym
END:VEVENT
END:VCALENDAR