BEGIN:VCALENDAR
VERSION:2.0
PRODID:-//The collective fitness - ECPv6.15.16//NONSGML v1.0//EN
CALSCALE:GREGORIAN
METHOD:PUBLISH
X-ORIGINAL-URL:https://www.collectivefitness.pt
X-WR-CALDESC:Events for The collective fitness
REFRESH-INTERVAL;VALUE=DURATION:PT1H
X-Robots-Tag:noindex
X-PUBLISHED-TTL:PT1H
BEGIN:VTIMEZONE
TZID:Europe/Lisbon
BEGIN:DAYLIGHT
TZOFFSETFROM:+0000
TZOFFSETTO:+0100
TZNAME:WEST
DTSTART:20280326T010000
END:DAYLIGHT
BEGIN:STANDARD
TZOFFSETFROM:+0100
TZOFFSETTO:+0000
TZNAME:WET
DTSTART:20281029T010000
END:STANDARD
BEGIN:DAYLIGHT
TZOFFSETFROM:+0000
TZOFFSETTO:+0100
TZNAME:WEST
DTSTART:20290325T010000
END:DAYLIGHT
BEGIN:STANDARD
TZOFFSETFROM:+0100
TZOFFSETTO:+0000
TZNAME:WET
DTSTART:20291028T010000
END:STANDARD
BEGIN:DAYLIGHT
TZOFFSETFROM:+0000
TZOFFSETTO:+0100
TZNAME:WEST
DTSTART:20300331T010000
END:DAYLIGHT
BEGIN:STANDARD
TZOFFSETFROM:+0100
TZOFFSETTO:+0000
TZNAME:WET
DTSTART:20301027T010000
END:STANDARD
END:VTIMEZONE
BEGIN:VEVENT
DTSTART;TZID=Europe/Lisbon:20291001T104500
DTEND;TZID=Europe/Lisbon:20291001T123000
DTSTAMP:20260419T191353
CREATED:20250708T094513Z
LAST-MODIFIED:20260306T200400Z
UID:10030300-1885545900-1885552200@www.collectivefitness.pt
SUMMARY:Open Gym
DESCRIPTION:TRY IT NOW
URL:https://www.collectivefitness.pt/event/open-gym-3/2029-10-01/
LOCATION:The Collective Fitness\, R. Prof. Sousa da Câmara 128 Loja C\, Lisboa\, Lisboa\, 1070-217\, Portugal
CATEGORIES:Open Gym
END:VEVENT
BEGIN:VEVENT
DTSTART;TZID=Europe/Lisbon:20291001T143000
DTEND;TZID=Europe/Lisbon:20291001T173000
DTSTAMP:20260419T191353
CREATED:20250708T093507Z
LAST-MODIFIED:20250708T211954Z
UID:10004688-1885559400-1885570200@www.collectivefitness.pt
SUMMARY:Open Gym
DESCRIPTION:TRY IT NOW
URL:https://www.collectivefitness.pt/event/open-gym-2/2029-10-01/
LOCATION:The Collective Fitness\, R. Prof. Sousa da Câmara 128 Loja C\, Lisboa\, Lisboa\, 1070-217\, Portugal
CATEGORIES:Open Gym
END:VEVENT
BEGIN:VEVENT
DTSTART;TZID=Europe/Lisbon:20291002T084500
DTEND;TZID=Europe/Lisbon:20291002T123000
DTSTAMP:20260419T191353
CREATED:20250708T132212Z
LAST-MODIFIED:20250708T211822Z
UID:10006526-1885625100-1885638600@www.collectivefitness.pt
SUMMARY:Open Gym
DESCRIPTION:TRY IT NOW
URL:https://www.collectivefitness.pt/event/open-gym/2029-10-02/
LOCATION:The Collective Fitness\, R. Prof. Sousa da Câmara 128 Loja C\, Lisboa\, Lisboa\, 1070-217\, Portugal
CATEGORIES:Open Gym
END:VEVENT
BEGIN:VEVENT
DTSTART;TZID=Europe/Lisbon:20291002T143000
DTEND;TZID=Europe/Lisbon:20291002T173000
DTSTAMP:20260419T191353
CREATED:20250708T133029Z
LAST-MODIFIED:20250708T211747Z
UID:10008100-1885645800-1885656600@www.collectivefitness.pt
SUMMARY:Open Gym
DESCRIPTION:TRY IT NOW
URL:https://www.collectivefitness.pt/event/open-gym-4/2029-10-02/
LOCATION:The Collective Fitness\, R. Prof. Sousa da Câmara 128 Loja C\, Lisboa\, Lisboa\, 1070-217\, Portugal
CATEGORIES:Open Gym
END:VEVENT
BEGIN:VEVENT
DTSTART;TZID=Europe/Lisbon:20291003T100000
DTEND;TZID=Europe/Lisbon:20291003T123000
DTSTAMP:20260419T191353
CREATED:20250708T134807Z
LAST-MODIFIED:20250708T211701Z
UID:10011773-1885716000-1885725000@www.collectivefitness.pt
SUMMARY:Open Gym
DESCRIPTION:TRY IT NOW
URL:https://www.collectivefitness.pt/event/open-gym-5/2029-10-03/
LOCATION:The Collective Fitness\, R. Prof. Sousa da Câmara 128 Loja C\, Lisboa\, Lisboa\, 1070-217\, Portugal
CATEGORIES:Open Gym
END:VEVENT
BEGIN:VEVENT
DTSTART;TZID=Europe/Lisbon:20291003T143000
DTEND;TZID=Europe/Lisbon:20291003T173000
DTSTAMP:20260419T191353
CREATED:20250708T135057Z
LAST-MODIFIED:20250708T211612Z
UID:10013345-1885732200-1885743000@www.collectivefitness.pt
SUMMARY:Open Gym
DESCRIPTION:TRY IT NOW
URL:https://www.collectivefitness.pt/event/open-gym-6/2029-10-03/
LOCATION:The Collective Fitness\, R. Prof. Sousa da Câmara 128 Loja C\, Lisboa\, Lisboa\, 1070-217\, Portugal
CATEGORIES:Open Gym
END:VEVENT
BEGIN:VEVENT
DTSTART;TZID=Europe/Lisbon:20291004T093000
DTEND;TZID=Europe/Lisbon:20291004T123000
DTSTAMP:20260419T191353
CREATED:20250708T135609Z
LAST-MODIFIED:20260306T201047Z
UID:10030597-1885800600-1885811400@www.collectivefitness.pt
SUMMARY:Open Gym
DESCRIPTION:TRY IT NOW
URL:https://www.collectivefitness.pt/event/open-gym-7/2029-10-04/
LOCATION:The Collective Fitness\, R. Prof. Sousa da Câmara 128 Loja C\, Lisboa\, Lisboa\, 1070-217\, Portugal
CATEGORIES:Open Gym
END:VEVENT
BEGIN:VEVENT
DTSTART;TZID=Europe/Lisbon:20291004T143000
DTEND;TZID=Europe/Lisbon:20291004T173000
DTSTAMP:20260419T191353
CREATED:20250708T135857Z
LAST-MODIFIED:20250708T211359Z
UID:10018061-1885818600-1885829400@www.collectivefitness.pt
SUMMARY:Open Gym
DESCRIPTION:TRY IT NOW
URL:https://www.collectivefitness.pt/event/open-gym-8/2029-10-04/
LOCATION:The Collective Fitness\, R. Prof. Sousa da Câmara 128 Loja C\, Lisboa\, Lisboa\, 1070-217\, Portugal
CATEGORIES:Open Gym
END:VEVENT
BEGIN:VEVENT
DTSTART;TZID=Europe/Lisbon:20291005T104500
DTEND;TZID=Europe/Lisbon:20291005T123000
DTSTAMP:20260419T191353
CREATED:20250708T173449Z
LAST-MODIFIED:20260306T200930Z
UID:10031189-1885891500-1885897800@www.collectivefitness.pt
SUMMARY:Open Gym
DESCRIPTION:TRY IT NOW
URL:https://www.collectivefitness.pt/event/open-gym-9/2029-10-05/
LOCATION:The Collective Fitness\, R. Prof. Sousa da Câmara 128 Loja C\, Lisboa\, Lisboa\, 1070-217\, Portugal
CATEGORIES:Open Gym
END:VEVENT
BEGIN:VEVENT
DTSTART;TZID=Europe/Lisbon:20291005T143000
DTEND;TZID=Europe/Lisbon:20291005T173000
DTSTAMP:20260419T191353
CREATED:20250708T173610Z
LAST-MODIFIED:20250708T210749Z
UID:10023824-1885905000-1885915800@www.collectivefitness.pt
SUMMARY:Open Gym
DESCRIPTION:TRY IT NOW
URL:https://www.collectivefitness.pt/event/open-gym-10/2029-10-05/
LOCATION:The Collective Fitness\, R. Prof. Sousa da Câmara 128 Loja C\, Lisboa\, Lisboa\, 1070-217\, Portugal
CATEGORIES:Open Gym
END:VEVENT
BEGIN:VEVENT
DTSTART;TZID=Europe/Lisbon:20291006T123000
DTEND;TZID=Europe/Lisbon:20291006T143000
DTSTAMP:20260419T191353
CREATED:20250708T181609Z
LAST-MODIFIED:20250708T210709Z
UID:10027758-1885984200-1885991400@www.collectivefitness.pt
SUMMARY:Open Gym
DESCRIPTION:TRY IT NOW
URL:https://www.collectivefitness.pt/event/open-gym-11/2029-10-06/
LOCATION:The Collective Fitness\, R. Prof. Sousa da Câmara 128 Loja C\, Lisboa\, Lisboa\, 1070-217\, Portugal
CATEGORIES:Open Gym
END:VEVENT
BEGIN:VEVENT
DTSTART;TZID=Europe/Lisbon:20291007T090000
DTEND;TZID=Europe/Lisbon:20291007T143000
DTSTAMP:20260419T191353
CREATED:20250708T181713Z
LAST-MODIFIED:20250708T210549Z
UID:10028282-1886058000-1886077800@www.collectivefitness.pt
SUMMARY:Open Gym
DESCRIPTION:TRY IT NOW
URL:https://www.collectivefitness.pt/event/open-gym-12/2029-10-07/
LOCATION:The Collective Fitness\, R. Prof. Sousa da Câmara 128 Loja C\, Lisboa\, Lisboa\, 1070-217\, Portugal
CATEGORIES:Open Gym
END:VEVENT
BEGIN:VEVENT
DTSTART;TZID=Europe/Lisbon:20291008T104500
DTEND;TZID=Europe/Lisbon:20291008T123000
DTSTAMP:20260419T191353
CREATED:20250708T094513Z
LAST-MODIFIED:20260306T200400Z
UID:10030301-1886150700-1886157000@www.collectivefitness.pt
SUMMARY:Open Gym
DESCRIPTION:TRY IT NOW
URL:https://www.collectivefitness.pt/event/open-gym-3/2029-10-08/
LOCATION:The Collective Fitness\, R. Prof. Sousa da Câmara 128 Loja C\, Lisboa\, Lisboa\, 1070-217\, Portugal
CATEGORIES:Open Gym
END:VEVENT
BEGIN:VEVENT
DTSTART;TZID=Europe/Lisbon:20291008T143000
DTEND;TZID=Europe/Lisbon:20291008T173000
DTSTAMP:20260419T191353
CREATED:20250708T093507Z
LAST-MODIFIED:20250708T211954Z
UID:10004689-1886164200-1886175000@www.collectivefitness.pt
SUMMARY:Open Gym
DESCRIPTION:TRY IT NOW
URL:https://www.collectivefitness.pt/event/open-gym-2/2029-10-08/
LOCATION:The Collective Fitness\, R. Prof. Sousa da Câmara 128 Loja C\, Lisboa\, Lisboa\, 1070-217\, Portugal
CATEGORIES:Open Gym
END:VEVENT
BEGIN:VEVENT
DTSTART;TZID=Europe/Lisbon:20291009T084500
DTEND;TZID=Europe/Lisbon:20291009T123000
DTSTAMP:20260419T191353
CREATED:20250708T132212Z
LAST-MODIFIED:20250708T211822Z
UID:10006527-1886229900-1886243400@www.collectivefitness.pt
SUMMARY:Open Gym
DESCRIPTION:TRY IT NOW
URL:https://www.collectivefitness.pt/event/open-gym/2029-10-09/
LOCATION:The Collective Fitness\, R. Prof. Sousa da Câmara 128 Loja C\, Lisboa\, Lisboa\, 1070-217\, Portugal
CATEGORIES:Open Gym
END:VEVENT
BEGIN:VEVENT
DTSTART;TZID=Europe/Lisbon:20291009T143000
DTEND;TZID=Europe/Lisbon:20291009T173000
DTSTAMP:20260419T191353
CREATED:20250708T133029Z
LAST-MODIFIED:20250708T211747Z
UID:10008101-1886250600-1886261400@www.collectivefitness.pt
SUMMARY:Open Gym
DESCRIPTION:TRY IT NOW
URL:https://www.collectivefitness.pt/event/open-gym-4/2029-10-09/
LOCATION:The Collective Fitness\, R. Prof. Sousa da Câmara 128 Loja C\, Lisboa\, Lisboa\, 1070-217\, Portugal
CATEGORIES:Open Gym
END:VEVENT
BEGIN:VEVENT
DTSTART;TZID=Europe/Lisbon:20291010T100000
DTEND;TZID=Europe/Lisbon:20291010T123000
DTSTAMP:20260419T191353
CREATED:20250708T134807Z
LAST-MODIFIED:20250708T211701Z
UID:10011774-1886320800-1886329800@www.collectivefitness.pt
SUMMARY:Open Gym
DESCRIPTION:TRY IT NOW
URL:https://www.collectivefitness.pt/event/open-gym-5/2029-10-10/
LOCATION:The Collective Fitness\, R. Prof. Sousa da Câmara 128 Loja C\, Lisboa\, Lisboa\, 1070-217\, Portugal
CATEGORIES:Open Gym
END:VEVENT
BEGIN:VEVENT
DTSTART;TZID=Europe/Lisbon:20291010T143000
DTEND;TZID=Europe/Lisbon:20291010T173000
DTSTAMP:20260419T191353
CREATED:20250708T135057Z
LAST-MODIFIED:20250708T211612Z
UID:10013346-1886337000-1886347800@www.collectivefitness.pt
SUMMARY:Open Gym
DESCRIPTION:TRY IT NOW
URL:https://www.collectivefitness.pt/event/open-gym-6/2029-10-10/
LOCATION:The Collective Fitness\, R. Prof. Sousa da Câmara 128 Loja C\, Lisboa\, Lisboa\, 1070-217\, Portugal
CATEGORIES:Open Gym
END:VEVENT
BEGIN:VEVENT
DTSTART;TZID=Europe/Lisbon:20291011T093000
DTEND;TZID=Europe/Lisbon:20291011T123000
DTSTAMP:20260419T191353
CREATED:20250708T135609Z
LAST-MODIFIED:20260306T201047Z
UID:10030598-1886405400-1886416200@www.collectivefitness.pt
SUMMARY:Open Gym
DESCRIPTION:TRY IT NOW
URL:https://www.collectivefitness.pt/event/open-gym-7/2029-10-11/
LOCATION:The Collective Fitness\, R. Prof. Sousa da Câmara 128 Loja C\, Lisboa\, Lisboa\, 1070-217\, Portugal
CATEGORIES:Open Gym
END:VEVENT
BEGIN:VEVENT
DTSTART;TZID=Europe/Lisbon:20291011T143000
DTEND;TZID=Europe/Lisbon:20291011T173000
DTSTAMP:20260419T191353
CREATED:20250708T135857Z
LAST-MODIFIED:20250708T211359Z
UID:10018062-1886423400-1886434200@www.collectivefitness.pt
SUMMARY:Open Gym
DESCRIPTION:TRY IT NOW
URL:https://www.collectivefitness.pt/event/open-gym-8/2029-10-11/
LOCATION:The Collective Fitness\, R. Prof. Sousa da Câmara 128 Loja C\, Lisboa\, Lisboa\, 1070-217\, Portugal
CATEGORIES:Open Gym
END:VEVENT
BEGIN:VEVENT
DTSTART;TZID=Europe/Lisbon:20291012T104500
DTEND;TZID=Europe/Lisbon:20291012T123000
DTSTAMP:20260419T191353
CREATED:20250708T173449Z
LAST-MODIFIED:20260306T200930Z
UID:10031190-1886496300-1886502600@www.collectivefitness.pt
SUMMARY:Open Gym
DESCRIPTION:TRY IT NOW
URL:https://www.collectivefitness.pt/event/open-gym-9/2029-10-12/
LOCATION:The Collective Fitness\, R. Prof. Sousa da Câmara 128 Loja C\, Lisboa\, Lisboa\, 1070-217\, Portugal
CATEGORIES:Open Gym
END:VEVENT
BEGIN:VEVENT
DTSTART;TZID=Europe/Lisbon:20291012T143000
DTEND;TZID=Europe/Lisbon:20291012T173000
DTSTAMP:20260419T191353
CREATED:20250708T173610Z
LAST-MODIFIED:20250708T210749Z
UID:10023825-1886509800-1886520600@www.collectivefitness.pt
SUMMARY:Open Gym
DESCRIPTION:TRY IT NOW
URL:https://www.collectivefitness.pt/event/open-gym-10/2029-10-12/
LOCATION:The Collective Fitness\, R. Prof. Sousa da Câmara 128 Loja C\, Lisboa\, Lisboa\, 1070-217\, Portugal
CATEGORIES:Open Gym
END:VEVENT
BEGIN:VEVENT
DTSTART;TZID=Europe/Lisbon:20291013T123000
DTEND;TZID=Europe/Lisbon:20291013T143000
DTSTAMP:20260419T191353
CREATED:20250708T181609Z
LAST-MODIFIED:20250708T210709Z
UID:10027759-1886589000-1886596200@www.collectivefitness.pt
SUMMARY:Open Gym
DESCRIPTION:TRY IT NOW
URL:https://www.collectivefitness.pt/event/open-gym-11/2029-10-13/
LOCATION:The Collective Fitness\, R. Prof. Sousa da Câmara 128 Loja C\, Lisboa\, Lisboa\, 1070-217\, Portugal
CATEGORIES:Open Gym
END:VEVENT
BEGIN:VEVENT
DTSTART;TZID=Europe/Lisbon:20291014T090000
DTEND;TZID=Europe/Lisbon:20291014T143000
DTSTAMP:20260419T191353
CREATED:20250708T181713Z
LAST-MODIFIED:20250708T210549Z
UID:10028283-1886662800-1886682600@www.collectivefitness.pt
SUMMARY:Open Gym
DESCRIPTION:TRY IT NOW
URL:https://www.collectivefitness.pt/event/open-gym-12/2029-10-14/
LOCATION:The Collective Fitness\, R. Prof. Sousa da Câmara 128 Loja C\, Lisboa\, Lisboa\, 1070-217\, Portugal
CATEGORIES:Open Gym
END:VEVENT
BEGIN:VEVENT
DTSTART;TZID=Europe/Lisbon:20291015T104500
DTEND;TZID=Europe/Lisbon:20291015T123000
DTSTAMP:20260419T191353
CREATED:20250708T094513Z
LAST-MODIFIED:20260306T200400Z
UID:10030302-1886755500-1886761800@www.collectivefitness.pt
SUMMARY:Open Gym
DESCRIPTION:TRY IT NOW
URL:https://www.collectivefitness.pt/event/open-gym-3/2029-10-15/
LOCATION:The Collective Fitness\, R. Prof. Sousa da Câmara 128 Loja C\, Lisboa\, Lisboa\, 1070-217\, Portugal
CATEGORIES:Open Gym
END:VEVENT
BEGIN:VEVENT
DTSTART;TZID=Europe/Lisbon:20291015T143000
DTEND;TZID=Europe/Lisbon:20291015T173000
DTSTAMP:20260419T191353
CREATED:20250708T093507Z
LAST-MODIFIED:20250708T211954Z
UID:10004690-1886769000-1886779800@www.collectivefitness.pt
SUMMARY:Open Gym
DESCRIPTION:TRY IT NOW
URL:https://www.collectivefitness.pt/event/open-gym-2/2029-10-15/
LOCATION:The Collective Fitness\, R. Prof. Sousa da Câmara 128 Loja C\, Lisboa\, Lisboa\, 1070-217\, Portugal
CATEGORIES:Open Gym
END:VEVENT
BEGIN:VEVENT
DTSTART;TZID=Europe/Lisbon:20291016T084500
DTEND;TZID=Europe/Lisbon:20291016T123000
DTSTAMP:20260419T191353
CREATED:20250708T132212Z
LAST-MODIFIED:20250708T211822Z
UID:10006528-1886834700-1886848200@www.collectivefitness.pt
SUMMARY:Open Gym
DESCRIPTION:TRY IT NOW
URL:https://www.collectivefitness.pt/event/open-gym/2029-10-16/
LOCATION:The Collective Fitness\, R. Prof. Sousa da Câmara 128 Loja C\, Lisboa\, Lisboa\, 1070-217\, Portugal
CATEGORIES:Open Gym
END:VEVENT
BEGIN:VEVENT
DTSTART;TZID=Europe/Lisbon:20291016T143000
DTEND;TZID=Europe/Lisbon:20291016T173000
DTSTAMP:20260419T191353
CREATED:20250708T133029Z
LAST-MODIFIED:20250708T211747Z
UID:10008102-1886855400-1886866200@www.collectivefitness.pt
SUMMARY:Open Gym
DESCRIPTION:TRY IT NOW
URL:https://www.collectivefitness.pt/event/open-gym-4/2029-10-16/
LOCATION:The Collective Fitness\, R. Prof. Sousa da Câmara 128 Loja C\, Lisboa\, Lisboa\, 1070-217\, Portugal
CATEGORIES:Open Gym
END:VEVENT
BEGIN:VEVENT
DTSTART;TZID=Europe/Lisbon:20291017T100000
DTEND;TZID=Europe/Lisbon:20291017T123000
DTSTAMP:20260419T191353
CREATED:20250708T134807Z
LAST-MODIFIED:20250708T211701Z
UID:10011775-1886925600-1886934600@www.collectivefitness.pt
SUMMARY:Open Gym
DESCRIPTION:TRY IT NOW
URL:https://www.collectivefitness.pt/event/open-gym-5/2029-10-17/
LOCATION:The Collective Fitness\, R. Prof. Sousa da Câmara 128 Loja C\, Lisboa\, Lisboa\, 1070-217\, Portugal
CATEGORIES:Open Gym
END:VEVENT
BEGIN:VEVENT
DTSTART;TZID=Europe/Lisbon:20291017T143000
DTEND;TZID=Europe/Lisbon:20291017T173000
DTSTAMP:20260419T191353
CREATED:20250708T135057Z
LAST-MODIFIED:20250708T211612Z
UID:10013347-1886941800-1886952600@www.collectivefitness.pt
SUMMARY:Open Gym
DESCRIPTION:TRY IT NOW
URL:https://www.collectivefitness.pt/event/open-gym-6/2029-10-17/
LOCATION:The Collective Fitness\, R. Prof. Sousa da Câmara 128 Loja C\, Lisboa\, Lisboa\, 1070-217\, Portugal
CATEGORIES:Open Gym
END:VEVENT
END:VCALENDAR