BEGIN:VCALENDAR
VERSION:2.0
PRODID:-//The collective fitness - ECPv6.15.16//NONSGML v1.0//EN
CALSCALE:GREGORIAN
METHOD:PUBLISH
X-ORIGINAL-URL:https://www.collectivefitness.pt
X-WR-CALDESC:Events for The collective fitness
REFRESH-INTERVAL;VALUE=DURATION:PT1H
X-Robots-Tag:noindex
X-PUBLISHED-TTL:PT1H
BEGIN:VTIMEZONE
TZID:Europe/Lisbon
BEGIN:DAYLIGHT
TZOFFSETFROM:+0000
TZOFFSETTO:+0100
TZNAME:WEST
DTSTART:20280326T010000
END:DAYLIGHT
BEGIN:STANDARD
TZOFFSETFROM:+0100
TZOFFSETTO:+0000
TZNAME:WET
DTSTART:20281029T010000
END:STANDARD
BEGIN:DAYLIGHT
TZOFFSETFROM:+0000
TZOFFSETTO:+0100
TZNAME:WEST
DTSTART:20290325T010000
END:DAYLIGHT
BEGIN:STANDARD
TZOFFSETFROM:+0100
TZOFFSETTO:+0000
TZNAME:WET
DTSTART:20291028T010000
END:STANDARD
BEGIN:DAYLIGHT
TZOFFSETFROM:+0000
TZOFFSETTO:+0100
TZNAME:WEST
DTSTART:20300331T010000
END:DAYLIGHT
BEGIN:STANDARD
TZOFFSETFROM:+0100
TZOFFSETTO:+0000
TZNAME:WET
DTSTART:20301027T010000
END:STANDARD
END:VTIMEZONE
BEGIN:VEVENT
DTSTART;TZID=Europe/Lisbon:20290801T100000
DTEND;TZID=Europe/Lisbon:20290801T123000
DTSTAMP:20260419T154330
CREATED:20250708T134807Z
LAST-MODIFIED:20250708T211701Z
UID:10011764-1880272800-1880281800@www.collectivefitness.pt
SUMMARY:Open Gym
DESCRIPTION:TRY IT NOW
URL:https://www.collectivefitness.pt/event/open-gym-5/2029-08-01/
LOCATION:The Collective Fitness\, R. Prof. Sousa da Câmara 128 Loja C\, Lisboa\, Lisboa\, 1070-217\, Portugal
CATEGORIES:Open Gym
END:VEVENT
BEGIN:VEVENT
DTSTART;TZID=Europe/Lisbon:20290801T143000
DTEND;TZID=Europe/Lisbon:20290801T173000
DTSTAMP:20260419T154330
CREATED:20250708T135057Z
LAST-MODIFIED:20250708T211612Z
UID:10013336-1880289000-1880299800@www.collectivefitness.pt
SUMMARY:Open Gym
DESCRIPTION:TRY IT NOW
URL:https://www.collectivefitness.pt/event/open-gym-6/2029-08-01/
LOCATION:The Collective Fitness\, R. Prof. Sousa da Câmara 128 Loja C\, Lisboa\, Lisboa\, 1070-217\, Portugal
CATEGORIES:Open Gym
END:VEVENT
BEGIN:VEVENT
DTSTART;TZID=Europe/Lisbon:20290802T093000
DTEND;TZID=Europe/Lisbon:20290802T123000
DTSTAMP:20260419T154330
CREATED:20250708T135609Z
LAST-MODIFIED:20260306T201047Z
UID:10030588-1880357400-1880368200@www.collectivefitness.pt
SUMMARY:Open Gym
DESCRIPTION:TRY IT NOW
URL:https://www.collectivefitness.pt/event/open-gym-7/2029-08-02/
LOCATION:The Collective Fitness\, R. Prof. Sousa da Câmara 128 Loja C\, Lisboa\, Lisboa\, 1070-217\, Portugal
CATEGORIES:Open Gym
END:VEVENT
BEGIN:VEVENT
DTSTART;TZID=Europe/Lisbon:20290802T143000
DTEND;TZID=Europe/Lisbon:20290802T173000
DTSTAMP:20260419T154330
CREATED:20250708T135857Z
LAST-MODIFIED:20250708T211359Z
UID:10018052-1880375400-1880386200@www.collectivefitness.pt
SUMMARY:Open Gym
DESCRIPTION:TRY IT NOW
URL:https://www.collectivefitness.pt/event/open-gym-8/2029-08-02/
LOCATION:The Collective Fitness\, R. Prof. Sousa da Câmara 128 Loja C\, Lisboa\, Lisboa\, 1070-217\, Portugal
CATEGORIES:Open Gym
END:VEVENT
BEGIN:VEVENT
DTSTART;TZID=Europe/Lisbon:20290803T104500
DTEND;TZID=Europe/Lisbon:20290803T123000
DTSTAMP:20260419T154330
CREATED:20250708T173449Z
LAST-MODIFIED:20260306T200930Z
UID:10031180-1880448300-1880454600@www.collectivefitness.pt
SUMMARY:Open Gym
DESCRIPTION:TRY IT NOW
URL:https://www.collectivefitness.pt/event/open-gym-9/2029-08-03/
LOCATION:The Collective Fitness\, R. Prof. Sousa da Câmara 128 Loja C\, Lisboa\, Lisboa\, 1070-217\, Portugal
CATEGORIES:Open Gym
END:VEVENT
BEGIN:VEVENT
DTSTART;TZID=Europe/Lisbon:20290803T143000
DTEND;TZID=Europe/Lisbon:20290803T173000
DTSTAMP:20260419T154330
CREATED:20250708T173610Z
LAST-MODIFIED:20250708T210749Z
UID:10023815-1880461800-1880472600@www.collectivefitness.pt
SUMMARY:Open Gym
DESCRIPTION:TRY IT NOW
URL:https://www.collectivefitness.pt/event/open-gym-10/2029-08-03/
LOCATION:The Collective Fitness\, R. Prof. Sousa da Câmara 128 Loja C\, Lisboa\, Lisboa\, 1070-217\, Portugal
CATEGORIES:Open Gym
END:VEVENT
BEGIN:VEVENT
DTSTART;TZID=Europe/Lisbon:20290804T123000
DTEND;TZID=Europe/Lisbon:20290804T143000
DTSTAMP:20260419T154330
CREATED:20250708T181609Z
LAST-MODIFIED:20250708T210709Z
UID:10027749-1880541000-1880548200@www.collectivefitness.pt
SUMMARY:Open Gym
DESCRIPTION:TRY IT NOW
URL:https://www.collectivefitness.pt/event/open-gym-11/2029-08-04/
LOCATION:The Collective Fitness\, R. Prof. Sousa da Câmara 128 Loja C\, Lisboa\, Lisboa\, 1070-217\, Portugal
CATEGORIES:Open Gym
END:VEVENT
BEGIN:VEVENT
DTSTART;TZID=Europe/Lisbon:20290805T090000
DTEND;TZID=Europe/Lisbon:20290805T143000
DTSTAMP:20260419T154330
CREATED:20250708T181713Z
LAST-MODIFIED:20250708T210549Z
UID:10028273-1880614800-1880634600@www.collectivefitness.pt
SUMMARY:Open Gym
DESCRIPTION:TRY IT NOW
URL:https://www.collectivefitness.pt/event/open-gym-12/2029-08-05/
LOCATION:The Collective Fitness\, R. Prof. Sousa da Câmara 128 Loja C\, Lisboa\, Lisboa\, 1070-217\, Portugal
CATEGORIES:Open Gym
END:VEVENT
BEGIN:VEVENT
DTSTART;TZID=Europe/Lisbon:20290806T104500
DTEND;TZID=Europe/Lisbon:20290806T123000
DTSTAMP:20260419T154330
CREATED:20250708T094513Z
LAST-MODIFIED:20260306T200400Z
UID:10030292-1880707500-1880713800@www.collectivefitness.pt
SUMMARY:Open Gym
DESCRIPTION:TRY IT NOW
URL:https://www.collectivefitness.pt/event/open-gym-3/2029-08-06/
LOCATION:The Collective Fitness\, R. Prof. Sousa da Câmara 128 Loja C\, Lisboa\, Lisboa\, 1070-217\, Portugal
CATEGORIES:Open Gym
END:VEVENT
BEGIN:VEVENT
DTSTART;TZID=Europe/Lisbon:20290806T143000
DTEND;TZID=Europe/Lisbon:20290806T173000
DTSTAMP:20260419T154330
CREATED:20250708T093507Z
LAST-MODIFIED:20250708T211954Z
UID:10004680-1880721000-1880731800@www.collectivefitness.pt
SUMMARY:Open Gym
DESCRIPTION:TRY IT NOW
URL:https://www.collectivefitness.pt/event/open-gym-2/2029-08-06/
LOCATION:The Collective Fitness\, R. Prof. Sousa da Câmara 128 Loja C\, Lisboa\, Lisboa\, 1070-217\, Portugal
CATEGORIES:Open Gym
END:VEVENT
BEGIN:VEVENT
DTSTART;TZID=Europe/Lisbon:20290807T084500
DTEND;TZID=Europe/Lisbon:20290807T123000
DTSTAMP:20260419T154330
CREATED:20250708T132212Z
LAST-MODIFIED:20250708T211822Z
UID:10006518-1880786700-1880800200@www.collectivefitness.pt
SUMMARY:Open Gym
DESCRIPTION:TRY IT NOW
URL:https://www.collectivefitness.pt/event/open-gym/2029-08-07/
LOCATION:The Collective Fitness\, R. Prof. Sousa da Câmara 128 Loja C\, Lisboa\, Lisboa\, 1070-217\, Portugal
CATEGORIES:Open Gym
END:VEVENT
BEGIN:VEVENT
DTSTART;TZID=Europe/Lisbon:20290807T143000
DTEND;TZID=Europe/Lisbon:20290807T173000
DTSTAMP:20260419T154330
CREATED:20250708T133029Z
LAST-MODIFIED:20250708T211747Z
UID:10008092-1880807400-1880818200@www.collectivefitness.pt
SUMMARY:Open Gym
DESCRIPTION:TRY IT NOW
URL:https://www.collectivefitness.pt/event/open-gym-4/2029-08-07/
LOCATION:The Collective Fitness\, R. Prof. Sousa da Câmara 128 Loja C\, Lisboa\, Lisboa\, 1070-217\, Portugal
CATEGORIES:Open Gym
END:VEVENT
BEGIN:VEVENT
DTSTART;TZID=Europe/Lisbon:20290808T100000
DTEND;TZID=Europe/Lisbon:20290808T123000
DTSTAMP:20260419T154330
CREATED:20250708T134807Z
LAST-MODIFIED:20250708T211701Z
UID:10011765-1880877600-1880886600@www.collectivefitness.pt
SUMMARY:Open Gym
DESCRIPTION:TRY IT NOW
URL:https://www.collectivefitness.pt/event/open-gym-5/2029-08-08/
LOCATION:The Collective Fitness\, R. Prof. Sousa da Câmara 128 Loja C\, Lisboa\, Lisboa\, 1070-217\, Portugal
CATEGORIES:Open Gym
END:VEVENT
BEGIN:VEVENT
DTSTART;TZID=Europe/Lisbon:20290808T143000
DTEND;TZID=Europe/Lisbon:20290808T173000
DTSTAMP:20260419T154330
CREATED:20250708T135057Z
LAST-MODIFIED:20250708T211612Z
UID:10013337-1880893800-1880904600@www.collectivefitness.pt
SUMMARY:Open Gym
DESCRIPTION:TRY IT NOW
URL:https://www.collectivefitness.pt/event/open-gym-6/2029-08-08/
LOCATION:The Collective Fitness\, R. Prof. Sousa da Câmara 128 Loja C\, Lisboa\, Lisboa\, 1070-217\, Portugal
CATEGORIES:Open Gym
END:VEVENT
BEGIN:VEVENT
DTSTART;TZID=Europe/Lisbon:20290809T093000
DTEND;TZID=Europe/Lisbon:20290809T123000
DTSTAMP:20260419T154330
CREATED:20250708T135609Z
LAST-MODIFIED:20260306T201047Z
UID:10030589-1880962200-1880973000@www.collectivefitness.pt
SUMMARY:Open Gym
DESCRIPTION:TRY IT NOW
URL:https://www.collectivefitness.pt/event/open-gym-7/2029-08-09/
LOCATION:The Collective Fitness\, R. Prof. Sousa da Câmara 128 Loja C\, Lisboa\, Lisboa\, 1070-217\, Portugal
CATEGORIES:Open Gym
END:VEVENT
BEGIN:VEVENT
DTSTART;TZID=Europe/Lisbon:20290809T143000
DTEND;TZID=Europe/Lisbon:20290809T173000
DTSTAMP:20260419T154330
CREATED:20250708T135857Z
LAST-MODIFIED:20250708T211359Z
UID:10018053-1880980200-1880991000@www.collectivefitness.pt
SUMMARY:Open Gym
DESCRIPTION:TRY IT NOW
URL:https://www.collectivefitness.pt/event/open-gym-8/2029-08-09/
LOCATION:The Collective Fitness\, R. Prof. Sousa da Câmara 128 Loja C\, Lisboa\, Lisboa\, 1070-217\, Portugal
CATEGORIES:Open Gym
END:VEVENT
BEGIN:VEVENT
DTSTART;TZID=Europe/Lisbon:20290810T104500
DTEND;TZID=Europe/Lisbon:20290810T123000
DTSTAMP:20260419T154330
CREATED:20250708T173449Z
LAST-MODIFIED:20260306T200930Z
UID:10031181-1881053100-1881059400@www.collectivefitness.pt
SUMMARY:Open Gym
DESCRIPTION:TRY IT NOW
URL:https://www.collectivefitness.pt/event/open-gym-9/2029-08-10/
LOCATION:The Collective Fitness\, R. Prof. Sousa da Câmara 128 Loja C\, Lisboa\, Lisboa\, 1070-217\, Portugal
CATEGORIES:Open Gym
END:VEVENT
BEGIN:VEVENT
DTSTART;TZID=Europe/Lisbon:20290810T143000
DTEND;TZID=Europe/Lisbon:20290810T173000
DTSTAMP:20260419T154330
CREATED:20250708T173610Z
LAST-MODIFIED:20250708T210749Z
UID:10023816-1881066600-1881077400@www.collectivefitness.pt
SUMMARY:Open Gym
DESCRIPTION:TRY IT NOW
URL:https://www.collectivefitness.pt/event/open-gym-10/2029-08-10/
LOCATION:The Collective Fitness\, R. Prof. Sousa da Câmara 128 Loja C\, Lisboa\, Lisboa\, 1070-217\, Portugal
CATEGORIES:Open Gym
END:VEVENT
BEGIN:VEVENT
DTSTART;TZID=Europe/Lisbon:20290811T123000
DTEND;TZID=Europe/Lisbon:20290811T143000
DTSTAMP:20260419T154330
CREATED:20250708T181609Z
LAST-MODIFIED:20250708T210709Z
UID:10027750-1881145800-1881153000@www.collectivefitness.pt
SUMMARY:Open Gym
DESCRIPTION:TRY IT NOW
URL:https://www.collectivefitness.pt/event/open-gym-11/2029-08-11/
LOCATION:The Collective Fitness\, R. Prof. Sousa da Câmara 128 Loja C\, Lisboa\, Lisboa\, 1070-217\, Portugal
CATEGORIES:Open Gym
END:VEVENT
BEGIN:VEVENT
DTSTART;TZID=Europe/Lisbon:20290812T090000
DTEND;TZID=Europe/Lisbon:20290812T143000
DTSTAMP:20260419T154330
CREATED:20250708T181713Z
LAST-MODIFIED:20250708T210549Z
UID:10028274-1881219600-1881239400@www.collectivefitness.pt
SUMMARY:Open Gym
DESCRIPTION:TRY IT NOW
URL:https://www.collectivefitness.pt/event/open-gym-12/2029-08-12/
LOCATION:The Collective Fitness\, R. Prof. Sousa da Câmara 128 Loja C\, Lisboa\, Lisboa\, 1070-217\, Portugal
CATEGORIES:Open Gym
END:VEVENT
BEGIN:VEVENT
DTSTART;TZID=Europe/Lisbon:20290813T104500
DTEND;TZID=Europe/Lisbon:20290813T123000
DTSTAMP:20260419T154330
CREATED:20250708T094513Z
LAST-MODIFIED:20260306T200400Z
UID:10030293-1881312300-1881318600@www.collectivefitness.pt
SUMMARY:Open Gym
DESCRIPTION:TRY IT NOW
URL:https://www.collectivefitness.pt/event/open-gym-3/2029-08-13/
LOCATION:The Collective Fitness\, R. Prof. Sousa da Câmara 128 Loja C\, Lisboa\, Lisboa\, 1070-217\, Portugal
CATEGORIES:Open Gym
END:VEVENT
BEGIN:VEVENT
DTSTART;TZID=Europe/Lisbon:20290813T143000
DTEND;TZID=Europe/Lisbon:20290813T173000
DTSTAMP:20260419T154330
CREATED:20250708T093507Z
LAST-MODIFIED:20250708T211954Z
UID:10004681-1881325800-1881336600@www.collectivefitness.pt
SUMMARY:Open Gym
DESCRIPTION:TRY IT NOW
URL:https://www.collectivefitness.pt/event/open-gym-2/2029-08-13/
LOCATION:The Collective Fitness\, R. Prof. Sousa da Câmara 128 Loja C\, Lisboa\, Lisboa\, 1070-217\, Portugal
CATEGORIES:Open Gym
END:VEVENT
BEGIN:VEVENT
DTSTART;TZID=Europe/Lisbon:20290814T084500
DTEND;TZID=Europe/Lisbon:20290814T123000
DTSTAMP:20260419T154330
CREATED:20250708T132212Z
LAST-MODIFIED:20250708T211822Z
UID:10006519-1881391500-1881405000@www.collectivefitness.pt
SUMMARY:Open Gym
DESCRIPTION:TRY IT NOW
URL:https://www.collectivefitness.pt/event/open-gym/2029-08-14/
LOCATION:The Collective Fitness\, R. Prof. Sousa da Câmara 128 Loja C\, Lisboa\, Lisboa\, 1070-217\, Portugal
CATEGORIES:Open Gym
END:VEVENT
BEGIN:VEVENT
DTSTART;TZID=Europe/Lisbon:20290814T143000
DTEND;TZID=Europe/Lisbon:20290814T173000
DTSTAMP:20260419T154330
CREATED:20250708T133029Z
LAST-MODIFIED:20250708T211747Z
UID:10008093-1881412200-1881423000@www.collectivefitness.pt
SUMMARY:Open Gym
DESCRIPTION:TRY IT NOW
URL:https://www.collectivefitness.pt/event/open-gym-4/2029-08-14/
LOCATION:The Collective Fitness\, R. Prof. Sousa da Câmara 128 Loja C\, Lisboa\, Lisboa\, 1070-217\, Portugal
CATEGORIES:Open Gym
END:VEVENT
BEGIN:VEVENT
DTSTART;TZID=Europe/Lisbon:20290815T100000
DTEND;TZID=Europe/Lisbon:20290815T123000
DTSTAMP:20260419T154330
CREATED:20250708T134807Z
LAST-MODIFIED:20250708T211701Z
UID:10011766-1881482400-1881491400@www.collectivefitness.pt
SUMMARY:Open Gym
DESCRIPTION:TRY IT NOW
URL:https://www.collectivefitness.pt/event/open-gym-5/2029-08-15/
LOCATION:The Collective Fitness\, R. Prof. Sousa da Câmara 128 Loja C\, Lisboa\, Lisboa\, 1070-217\, Portugal
CATEGORIES:Open Gym
END:VEVENT
BEGIN:VEVENT
DTSTART;TZID=Europe/Lisbon:20290815T143000
DTEND;TZID=Europe/Lisbon:20290815T173000
DTSTAMP:20260419T154330
CREATED:20250708T135057Z
LAST-MODIFIED:20250708T211612Z
UID:10013338-1881498600-1881509400@www.collectivefitness.pt
SUMMARY:Open Gym
DESCRIPTION:TRY IT NOW
URL:https://www.collectivefitness.pt/event/open-gym-6/2029-08-15/
LOCATION:The Collective Fitness\, R. Prof. Sousa da Câmara 128 Loja C\, Lisboa\, Lisboa\, 1070-217\, Portugal
CATEGORIES:Open Gym
END:VEVENT
BEGIN:VEVENT
DTSTART;TZID=Europe/Lisbon:20290816T093000
DTEND;TZID=Europe/Lisbon:20290816T123000
DTSTAMP:20260419T154330
CREATED:20250708T135609Z
LAST-MODIFIED:20260306T201047Z
UID:10030590-1881567000-1881577800@www.collectivefitness.pt
SUMMARY:Open Gym
DESCRIPTION:TRY IT NOW
URL:https://www.collectivefitness.pt/event/open-gym-7/2029-08-16/
LOCATION:The Collective Fitness\, R. Prof. Sousa da Câmara 128 Loja C\, Lisboa\, Lisboa\, 1070-217\, Portugal
CATEGORIES:Open Gym
END:VEVENT
BEGIN:VEVENT
DTSTART;TZID=Europe/Lisbon:20290816T143000
DTEND;TZID=Europe/Lisbon:20290816T173000
DTSTAMP:20260419T154330
CREATED:20250708T135857Z
LAST-MODIFIED:20250708T211359Z
UID:10018054-1881585000-1881595800@www.collectivefitness.pt
SUMMARY:Open Gym
DESCRIPTION:TRY IT NOW
URL:https://www.collectivefitness.pt/event/open-gym-8/2029-08-16/
LOCATION:The Collective Fitness\, R. Prof. Sousa da Câmara 128 Loja C\, Lisboa\, Lisboa\, 1070-217\, Portugal
CATEGORIES:Open Gym
END:VEVENT
BEGIN:VEVENT
DTSTART;TZID=Europe/Lisbon:20290817T104500
DTEND;TZID=Europe/Lisbon:20290817T123000
DTSTAMP:20260419T154330
CREATED:20250708T173449Z
LAST-MODIFIED:20260306T200930Z
UID:10031182-1881657900-1881664200@www.collectivefitness.pt
SUMMARY:Open Gym
DESCRIPTION:TRY IT NOW
URL:https://www.collectivefitness.pt/event/open-gym-9/2029-08-17/
LOCATION:The Collective Fitness\, R. Prof. Sousa da Câmara 128 Loja C\, Lisboa\, Lisboa\, 1070-217\, Portugal
CATEGORIES:Open Gym
END:VEVENT
BEGIN:VEVENT
DTSTART;TZID=Europe/Lisbon:20290817T143000
DTEND;TZID=Europe/Lisbon:20290817T173000
DTSTAMP:20260419T154330
CREATED:20250708T173610Z
LAST-MODIFIED:20250708T210749Z
UID:10023817-1881671400-1881682200@www.collectivefitness.pt
SUMMARY:Open Gym
DESCRIPTION:TRY IT NOW
URL:https://www.collectivefitness.pt/event/open-gym-10/2029-08-17/
LOCATION:The Collective Fitness\, R. Prof. Sousa da Câmara 128 Loja C\, Lisboa\, Lisboa\, 1070-217\, Portugal
CATEGORIES:Open Gym
END:VEVENT
END:VCALENDAR